BEGIN:VCALENDAR
VERSION:2.0
PRODID:-//津の時間。（津市観光協会） - ECPv6.15.17.1//NONSGML v1.0//EN
CALSCALE:GREGORIAN
METHOD:PUBLISH
X-WR-CALNAME:津の時間。（津市観光協会）
X-ORIGINAL-URL:https://tsukanko.jp
X-WR-CALDESC:津の時間。（津市観光協会） のイベント
REFRESH-INTERVAL;VALUE=DURATION:PT1H
X-Robots-Tag:noindex
X-PUBLISHED-TTL:PT1H
BEGIN:VTIMEZONE
TZID:Asia/Tokyo
BEGIN:STANDARD
TZOFFSETFROM:+0900
TZOFFSETTO:+0900
TZNAME:JST
DTSTART:20240101T000000
END:STANDARD
END:VTIMEZONE
BEGIN:VEVENT
DTSTART;TZID=Asia/Tokyo:20250726T200000
DTEND;TZID=Asia/Tokyo:20250726T210000
DTSTAMP:20260420T105748
CREATED:20240402T083426Z
LAST-MODIFIED:20250722T065813Z
UID:6510-1753560000-1753563600@tsukanko.jp
SUMMARY:第72回津花火大会2025
DESCRIPTION:津の夏の風物詩として、水面に映え、心に響き、みなさまの夏の思い出に残る花火大会の開催を目指します！ \n海岸線３kmのどこからでも観覧可能に！協賛者招待エリアを新設！ \n【開催日時】 令和7年７月２６日（土）午後８時から　荒天時順延（最長７月２８日(月)まで） \n【打上場所】 阿漕浦海岸沖南方（令和６年度と同じ）【打上発数 】５\,０００発 \n津花火大会をより楽しめるように特集ページを作成しました！ぜひ、ご確認下さい！津花火大会特集ページ（2025年情報）
URL:https://tsukanko.jp/event/tribe_events-6510/
LOCATION:阿漕浦海岸沖南方（令和５年度と同じ）\, 阿漕浦
CATEGORIES:観光イベント
ATTACH;FMTTYPE=image/jpeg:https://tsukanko.jp/manage/wp-content/uploads/2024/04/EA5A1528.jpg
END:VEVENT
BEGIN:VEVENT
DTSTART;TZID=Asia/Tokyo:20250720T100000
DTEND;TZID=Asia/Tokyo:20250720T160000
DTSTAMP:20260420T105748
CREATED:20250711T042713Z
LAST-MODIFIED:20250714T062900Z
UID:15454-1753005600-1753027200@tsukanko.jp
SUMMARY:HOWAフェスタ
DESCRIPTION:HOWAフェスタ\n展示やふれあい、体験・販売など楽しいイベントが盛りだくさん！ \nまた、7月5日(土)、12日(土)、19日(土)開催の「夜まつり」もお楽しみください。 \n日時\n7月20日(日)10:00～16:00 \n8月24日(日)10:00～16:00 \n雨天中止 \n場所\nHOWAパーク（PFIゾーン） \n（中勢グリーンパーク）
URL:https://tsukanko.jp/event/tribe_events-15454/
CATEGORIES:グルメイベント,体験型イベント,観光イベント
ATTACH;FMTTYPE=image/jpeg:https://tsukanko.jp/manage/wp-content/uploads/2025/07/3571942c95e252715a5b011d378a8c4f.jpg
END:VEVENT
BEGIN:VEVENT
DTSTART;TZID=Asia/Tokyo:20250719T160000
DTEND;TZID=Asia/Tokyo:20250719T210000
DTSTAMP:20260420T105748
CREATED:20250711T042120Z
LAST-MODIFIED:20250714T062832Z
UID:15446-1752940800-1752958800@tsukanko.jp
SUMMARY:夜まつり（HOWAフェスタinＨＯＷＡパークPFIゾーン
DESCRIPTION:夜まつり（ＨＯＯＷＡフェスタinＨＯＷＡパークPFIゾーン)\n\n夜だけのイベント。ナイト大道芸ショーや、キッチンカーが大集合！ \nまた、ＨＯＷＡフェスタは7月20日と8月24日に開催します！ \n日時\n7月5日(土)12日(土)19日(土)16:00～21:00雨天中止 \n場所\nＨＯＷＡパーク（ＰＦＩゾーン）（中勢グリーンパーク）
URL:https://tsukanko.jp/event/tribe_events-15446/
CATEGORIES:グルメイベント,体験型イベント
ATTACH;FMTTYPE=image/jpeg:https://tsukanko.jp/manage/wp-content/uploads/2025/07/a0c66f0bea030076ba101fe36b9e1ed8.jpg
END:VEVENT
BEGIN:VEVENT
DTSTART;TZID=Asia/Tokyo:20250718T100000
DTEND;TZID=Asia/Tokyo:20250825T183000
DTSTAMP:20260420T105748
CREATED:20250711T065217Z
LAST-MODIFIED:20250722T024922Z
UID:15478-1752832800-1756146600@tsukanko.jp
SUMMARY:ポケモンセンター出張所in松菱
DESCRIPTION:ポケモンセンター出張所in松菱\n松菱にポケモンセンターがやってくる！ \n「Pokémon fit」 シリーズをはじめ、ぬいぐるみ、生活雑貨、文具、マスコットキャラクターなどポケモンセンターオリジナルグッズが大集合！ \n日時\n７月１８日(金)～８月２５日(月)１０:００～１８：３０ \n（８月１９日（火）は定休日。８月１８日（月）・２１日（木）・２５日（月）は１７:００にて閉場） \n場所\n松菱６階催事場（津市東丸之内４－１０） \nTEL：０５９ｰ２２８－１３１１ \nまた、みえ応援ポケモンのミジュマルのグリーティングもございます。一緒に写真撮影ができる参加方法はこちらよりご応募ください。 \nミジュマルがやってくるのは・・・●7月27日(日)・8月7日(木)・8月16日(土)●時間：11:00～、13:00～、15:00～●定員：各回25組様 \nイベントの詳細は松菱公式サイトをご確認ください。
URL:https://tsukanko.jp/event/tribe_events-15478/
CATEGORIES:体験型イベント
ATTACH;FMTTYPE=image/jpeg:https://tsukanko.jp/manage/wp-content/uploads/2025/07/87f17e70894c23f304442a056fccd6c3-e1752216658855.jpg
END:VEVENT
BEGIN:VEVENT
DTSTART;TZID=Asia/Tokyo:20250715T093000
DTEND;TZID=Asia/Tokyo:20250715T220000
DTSTAMP:20260420T105748
CREATED:20250707T042858Z
LAST-MODIFIED:20250707T053036Z
UID:15039-1752571800-1752616800@tsukanko.jp
SUMMARY:ざるやぶり神事
DESCRIPTION:ざるやぶり神事\n約400 年の伝統を受け継ぐ裸祭り!!\n毎年7月15日の夜、河芸町一色では市指定無形民俗文化財の「ざるやぶり」神事が行われる。この「ざるや ぶり」神事の由来は、室町時代中ごろ、近江源氏の末えいといわれる三井氏一行が、転戦の末、一色海岸にたどり着いた時、空腹のあまり民家に入り、「よまし 麦」を家人と奪い合った故事にちなんでいる。当時の祖先を追憶し、豊漁と安穏無事を祈願するという祭礼として行われるようになった。祭礼は、河芸町一色の八雲神社で、7月15日20時の花火の合図とともに、ふんどし姿の若者たちが、「ワッショイ、ワッショイ、ワーイ」の掛け声で神社に駆け込み、数十人の裸の若者が練り合い、冷水をかけ、約20分ほど練り合い、第１回目の練りが終わる。小休止の後に、花火を合図に社前で、さらに拝殿の中でも、練り合いが行われ、第１回目よりさらに人数が増し、熱気を帯びた男たちに冷水をかぶせる。約30分ほどでいったん引き上げる。第３回目、21時ごろから最後のもみ合いが始まる。人の上に人がのしかかり、一段と熱気を増し、いよいよクライマックスに突入する。前日から白米を入れて 用意した直径約９０センチメートルの「たんばざる」を、若者たちがお互い引っ張り合い、奪い合う。その様はさながら騎馬戦のようで、ざるは破られ、ちぎら れる。その迫力に圧倒されることだろう。年に一度のこの神事、一度見に行かれてはいかがだろう。 \n \n日時\n令和7年7月14日(月)宵祭り18:00　行灯・提灯点灯 \n　　　　神賑い　よさこいソーラン踊り　月影 \n令和7年7月15日(火）18:00　行灯・提灯点灯18:30　神社拝殿にて、先着200名に御饌米を配布19:00　神賑い　和太鼓演奏「どこんこ」【ざるやぶり神事】19:30　一色会集合（集合合図　花火音3発）20:00　第一回空練り（開始　花火色5発）20:30　第二回空練り（開始　花火色5発）　御饌米まき21:00　第三回本練り　丹波ざる投入 \n～22:00頃までに終了の予定
URL:https://tsukanko.jp/event/tribe_events-15039/
CATEGORIES:観光イベント
ATTACH;FMTTYPE=image/jpeg:https://tsukanko.jp/manage/wp-content/uploads/2025/07/601B2623-168B-41A1-B89A-881167AFAB03.jpg
END:VEVENT
BEGIN:VEVENT
DTSTART;TZID=Asia/Tokyo:20250711T190000
DTEND;TZID=Asia/Tokyo:20250711T213000
DTSTAMP:20260420T105748
CREATED:20240606T020813Z
LAST-MODIFIED:20250708T011657Z
UID:7198-1752260400-1752269400@tsukanko.jp
SUMMARY:やぶねり
DESCRIPTION:やぶねり\n															\n																														 \n今年も白塚町のやぶねり開催されます！やぶねり写真白塚町八雲神社の夏祭りに行われるやぶねりは、祭神のスサノオノミコトが 退治した八岐大蛇をまねた青竹を束ねて作った「やぶ」をかついで町中を 練り歩き、悪病退散などを願うエネルギッシュな行事です。 \n日時：令和7年7月11日(金)19:00～21:30場所：八雲神社（白塚町）※津市内に同名の神社が複数がありますのでご注意ください。
URL:https://tsukanko.jp/event/tribe_events-7198/
LOCATION:八雲神社\, 三重県津市白塚町4558\, 5140101\, 日本
CATEGORIES:観光イベント
ATTACH;FMTTYPE=image/jpeg:https://tsukanko.jp/manage/wp-content/uploads/2024/06/IMG_3599.jpg
END:VEVENT
BEGIN:VEVENT
DTSTART;TZID=Asia/Tokyo:20250709T110000
DTEND;TZID=Asia/Tokyo:20250924T140000
DTSTAMP:20260420T105748
CREATED:20250707T084938Z
LAST-MODIFIED:20250709T075131Z
UID:15196-1752058800-1758722400@tsukanko.jp
SUMMARY:まんなかランチひろば
DESCRIPTION:まんなかランチひろば\nエリアプラットフォーム「大門・丸の内　未来のまちづくり」から嬉しいニュース！ \n大好評のまんなかランチひろばの再開です。お目当てのものを探しに行こう！ \n7月9日(水)から、「まんなかランチひろば」が再開されます。\n津市まん中広場に魅力的なキッチンカーが大集合！\nゆっくりと飲食が楽しめるテーブルやベンチもあります。\nお誘いあわせの上ご来場ください！ \n日時：令和7年7月9日(水)１１時～１４時\n※ 7/23\, 8/13， 8/27， 9/10， 9/24と続きます。 \n場所：津市まん中広場\n（津市大門７-15津センターパレス横）\n※荒天時は中止となります。\n※詳しくは、チラシをご覧ください。 \n※公式サイトはこちらをクリック！
URL:https://tsukanko.jp/event/tribe_events-15196/
LOCATION:津市
ATTACH;FMTTYPE=image/jpeg:https://tsukanko.jp/manage/wp-content/uploads/2025/07/e544e27133036e065edc451d926c9cbe.jpg
END:VEVENT
BEGIN:VEVENT
DTSTART;TZID=Asia/Tokyo:20250706T120000
DTEND;TZID=Asia/Tokyo:20250706T203000
DTSTAMP:20260420T105748
CREATED:20250515T030020Z
LAST-MODIFIED:20250701T082206Z
UID:14630-1751803200-1751833800@tsukanko.jp
SUMMARY:つ七夕まつり２０２５
DESCRIPTION:つ七夕まつり２０２５\nつ七夕まつりとは・・・？ \nかつて「日本一汚い川」と揶揄されていた岩田川。たった一人の行動から始まった清掃活動は、やがて大規模な活動へと発展しました。そして普段から川に親しみ愛着を持ってもらおうと、1990 年に初めての「つ七夕笹流し」が開催され、これが現在も続く「つ七夕まつり」のルーツとなりました。 \n2025年は「つ七夕まつり実行委員会」による笹流しとイベントが盛大に開催され、例年同様丸之内商店街や大門大通り商店街などでは屋台や夜店が出展予定です。 \n																\n															\n																\n															\n																														 \nつ七夕まつり笹流し\n日時：令和7年7月6日(土)12：00～20:30 \n場所：観音橋（GoogleＭＡＰ） \n内容：つ七夕まつりの笹飾りは津市の夏を夜を彩る風物詩です。1990年に初めて開催され今年で36年目。観音橋の上から、願い事の短冊を付けた笹飾りを岩田川へ流すことができます。子どもたちの夢を乗せて、願い事を天の川へ流そう。 \n注意点：プラスチック製の笹や短冊は流すことができません。おおよそ1m以内に事前に笹をカットしてお持ちください。 \nお問い合わせ等の詳細は「つ七夕まつり笹流し」のInstagramをご確認ください \n今年は観音公園（観音橋から徒歩10分700m）の場所ではイベントを開催します
URL:https://tsukanko.jp/event/tribe_events-14630/
CATEGORIES:観光イベント,音楽ライブ
ATTACH;FMTTYPE=image/jpeg:https://tsukanko.jp/manage/wp-content/uploads/2024/05/IMG_1663.jpg
END:VEVENT
BEGIN:VEVENT
DTSTART;TZID=Asia/Tokyo:20250706T120000
DTEND;TZID=Asia/Tokyo:20250706T203000
DTSTAMP:20260420T105748
CREATED:20250521T015159Z
LAST-MODIFIED:20250521T020408Z
UID:14677-1751803200-1751833800@tsukanko.jp
SUMMARY:つ七夕祭り2025笹流し
DESCRIPTION:つ七夕祭り2025笹流し\n日時\n令和7年7月6日(日)12:00～20:30 \n場所\n①つ七夕まつり特設会場（観音橋付近） \n②津観音公園特設会場 \n内容\n豪華景品があたるビンゴ大会 \nキッチンカーやご当地グルメなどもある食べ歩きストリート \n七夕限定！津観音の観音公園では、「瑛人」「三重のシャボン玉おじさん」「三重高校のダンス部」などのステージなどがございます！ \n観音公園会場イベントスケジュール\n14:00　オープニングセレモニー三重高校ダンス部 \n15:30　瑛人・導楽　ＬＩＶＥ \n16:30　ダンスパフォーマンス \n18:00　ビンゴ大会 \n19:30　ナイトバブル　シャボン玉パフォーマンス（雨天中止） \n詳細は公式Instagramをチェックしてくださいね！ \n 
URL:https://tsukanko.jp/event/tribe_events-14677/
CATEGORIES:体験型イベント,観光イベント,音楽ライブ
ATTACH;FMTTYPE=image/jpeg:https://tsukanko.jp/manage/wp-content/uploads/2025/05/IMG_1716-1.jpg
END:VEVENT
BEGIN:VEVENT
DTSTART;TZID=Asia/Tokyo:20250705T190000
DTEND;TZID=Asia/Tokyo:20250705T220000
DTSTAMP:20260420T105748
CREATED:20240527T084943Z
LAST-MODIFIED:20250522T020056Z
UID:7075-1751742000-1751752800@tsukanko.jp
SUMMARY:町屋百人衆「巨大龍踊り」
DESCRIPTION:巨大龍踊り、今年は開催されます！\n巨大龍踊り（町屋百人衆）写真巨大龍は、地元にある千王神社の祭礼行事（雨乞い神事）にちなんで、会員が自作したものです。日本一の長さを誇る全長55メートル（参道の長さ）の電飾を施したものです。龍の口からは炭酸ガスが吹き出します。初代巨大龍は、骨組みを竹で作り、自分たちで描いた布地をかぶせて製作しました。現在の2代目巨大龍は、激しい踊りに耐えられるように、骨組みをアルミフレームに変え、かぶせる布もテント素材に会員が協力して描いた図柄となっています。 \n毎年7月上旬に催される巨大龍踊りは、伊勢街道を練り歩き、国道23号線で舞い踊ります！必見です！ \n令和6年7月6日(土)\n19時～祭禮（千王神社）
URL:https://tsukanko.jp/event/tribe_events-7075/
CATEGORIES:観光イベント
ATTACH;FMTTYPE=image/jpeg:https://tsukanko.jp/manage/wp-content/uploads/2024/05/IMG_3424.jpg
END:VEVENT
BEGIN:VEVENT
DTSTART;TZID=Asia/Tokyo:20250705T100000
DTEND;TZID=Asia/Tokyo:20250705T180000
DTSTAMP:20260420T105748
CREATED:20250512T082951Z
LAST-MODIFIED:20250512T085136Z
UID:14530-1751709600-1751738400@tsukanko.jp
SUMMARY:第42回一身田七夕まつり
DESCRIPTION:第42回一身田七夕まつり\n日時：令和7年7月5日(土)10:00～18:00（小雨決行）場所：一身田寺内町周辺内容： \nミニSL、津高虎太鼓の演奏（体験会もあり）、ビンゴ大会、プラレールなど内容盛りだくさんのお祭りです。また今年も、釘貫門で前夜祭も行われます。（7月4日(金)18:00～21:00）天の川イルミネーションが実施されます。 \n写真は昨年の様子です。
URL:https://tsukanko.jp/event/tribe_events-14530/
LOCATION:一身田寺内町周辺
CATEGORIES:体験型イベント
ATTACH;FMTTYPE=image/jpeg:https://tsukanko.jp/manage/wp-content/uploads/2025/05/06cc51cffff17a706ec1a71bc9cf4684.jpg
END:VEVENT
BEGIN:VEVENT
DTSTART;TZID=Asia/Tokyo:20250609T143000
DTEND;TZID=Asia/Tokyo:20250609T200000
DTSTAMP:20260420T105748
CREATED:20250526T073615Z
LAST-MODIFIED:20250527T041552Z
UID:14754-1749479400-1749499200@tsukanko.jp
SUMMARY:御樋代木奉迎送行事（6月9日(月)三重縣護国神社）
DESCRIPTION:御樋代木奉迎送行事（みひしろぎほうげいそうぎょうじ）\n■御樋代木とは \n伊勢の神宮の御神体をお納めする御器を造るための御料木で、御杣山から伐り出される一万本以上にものぼる御用材の中でも最初に奉採される代表木で御祝木や御神木とも呼ばれ、神聖視されています。 \n  \n■行事に伴う交通規制について \n令和7年6月9日（月）の午後1時より午後4時までの間、国道23号線上浜町2丁目交差点から栄町2丁目交差点の東側2車線に交通規制がかかります。渋滞混雑などが予想されますのでご注意ください。 \n \n日時：\n令和7年6月9日(月)14:30～15:30（奉曳行事）※御神木を国道でお木曳行事 \n場所：\n国道23号線上浜町2丁目から栄町2丁目交差点 \n  \n日時：\n令和7年6月9日(月)16:15:～20:00（祭典・奉納演舞）※御神木に奉迎する際に郷土芸能団体が演舞を行います。 \n場所：\n三重縣護国神社
URL:https://tsukanko.jp/event/tribe_events-14754/
CATEGORIES:体験型イベント,観光イベント
ATTACH;FMTTYPE=image/jpeg:https://tsukanko.jp/manage/wp-content/uploads/2025/05/20250526163515-0001.jpg
END:VEVENT
BEGIN:VEVENT
DTSTART;TZID=Asia/Tokyo:20250601T100000
DTEND;TZID=Asia/Tokyo:20250601T180000
DTSTAMP:20260420T105748
CREATED:20250415T042156Z
LAST-MODIFIED:20250520T042352Z
UID:14129-1748772000-1748800800@tsukanko.jp
SUMMARY:第1回よさこい祭りin道の駅美杉
DESCRIPTION:第1回伊勢本街道よさこい祭りin道の駅美杉\n　開催日時\n令和７年６月1日(日)１０：：０～１５：００\nよさこい参加予定チーム\n鳳牙（津市）、月影（津市）、津々うらら（津市）、わいわい踊ろう会（津市）、Seyate隠（名張市）、桜花女（名張市）、三重ソーラン隊かもめ（鈴鹿市）、嘉舞羅（鈴鹿市）、めっちゃええやんず（鈴鹿市）、踊心（鈴鹿市＆伊勢市）、 翔舞漣（伊勢市）、伊勢舞熱人（伊勢市）、鳴華（伊勢市） \n 　フードフェス出店予定団体\nやきやき亭浜、季節料理ちとせ、丸八食品、伊勢地製茶、東屋、魚儀、京屋製菓舗、藤田こんにゃく、あまつちベーカリー、森のキッチンシカヤマ、多気の郷元気づくり協議会、株式会社コテツコーポレーション、 \nその他参加協力団体：美杉木材協同組合、中勢森林組合、津市商工会美杉支所、多気地区、津市消防団美杉方面団第6分団 \n　※『ヒノキ等の端材プレゼント』は、数量限定のため無くなり次第終了します。\n 　お問い合わせ先\n道の駅美杉（美杉地域産物加工販売施設運営協議会）　電話059-275-0399 \n主催：美杉地域産物加工 販売施設運営協会
URL:https://tsukanko.jp/event/tribe_events-14129/
CATEGORIES:グルメイベント,体験型イベント
ATTACH;FMTTYPE=image/jpeg:https://tsukanko.jp/manage/wp-content/uploads/2025/04/cceb82e959df1afba1c0a7887250ab57.jpg
END:VEVENT
BEGIN:VEVENT
DTSTART;TZID=Asia/Tokyo:20250531T170000
DTEND;TZID=Asia/Tokyo:20250615T210000
DTSTAMP:20260420T105748
CREATED:20240517T060720Z
LAST-MODIFIED:20250514T084125Z
UID:7003-1748710800-1750021200@tsukanko.jp
SUMMARY:榊原温泉ー蛍灯ー
DESCRIPTION:榊原温泉の蛍灯（ほたるび）\n日時：令和７年５月３１日(土)～６月１５日(日) \nナイトマルシェ：５月３１日(土)・６月１４日(土)１７：００～２１：００ \n場所：榊原市場地区小公園 \n内容：昨年大好評だった榊原温泉蛍灯ナイトマルシェ！出展店舗も増えて、よりお楽しみいただけます。是非幻想的な夜の雰囲気をお楽しみください。 \n問い合わせ：０５９－２５２－００１７（榊原温泉振興協会） \n※写真は昨年のナイトマルシェの様子です
URL:https://tsukanko.jp/event/tribe_events-7003/
LOCATION:榊原市場地区小公園
CATEGORIES:グルメイベント,体験型イベント
ATTACH;FMTTYPE=image/jpeg:https://tsukanko.jp/manage/wp-content/uploads/2024/05/20240517145633-0001.jpg
END:VEVENT
BEGIN:VEVENT
DTSTART;TZID=Asia/Tokyo:20250530T080000
DTEND;TZID=Asia/Tokyo:20250713T190000
DTSTAMP:20260420T105748
CREATED:20250521T055353Z
LAST-MODIFIED:20250521T080955Z
UID:14703-1748592000-1752433200@tsukanko.jp
SUMMARY:かざはやの里紫陽花まつり２０２５
DESCRIPTION:かざはやの里「あじさいまつり２０２５」\n日時\n令和７年５月３０日(金)～７月１３日(日) \n８:００～１８:００（入園締切） \n場所\n〒514-1138三重県津市戸木町４０９６伊勢温泉ゴルフクラブ内 \n内容\n園内には約77\,000本、53品種の紫陽花が植栽されており、見ごろは6月15日前後と予想されています。期間中のはJA戸木駐車場とかざはやの里の無料送迎シャトルバスも運行されます。主な時刻は以下の通りです。 \nJA戸木発→かざはやの里：9:35、10:35、11:35、12:05、12:35、13:05、13:35、14:35、15:35 (最終便） \nかざはやの里発→JA戸木：10:42、11:40、12：42、13:20、13:45、14:40、15:55、16:45 \n入園料\n大人（18歳以上）：300円～1\,500円 \n中人（中高生）：150円～750円（大人料金の半額） \n小人（小学生以下）、障がい者手帳持参者、ペット：無料 \n駐車場\n無料駐車場を敷地内外に合計約550台設置しています。 \n第1駐車場：約300台（GoogleMAP） \n第2駐車場：約100台（GoogleMAP） \n西駐車場：約50台（GoogleMAP） \nゴルフ場駐車場：約100台（GoogleＭＡＰ） \n大型観光バス用：約10台分（GoogleMAP） \n※花が見ごろの時は第1駐車場は午前中の早い時間に満車になることがあります。道幅も狭くなり折り返しが困難になります。 \nアクセス\n車：伊勢自動車道「久居IC」より車で約5分 \nバス：近鉄久居駅より、三重交通バス「榊原車庫前行き」乗車、「戸木神社前」下車後、徒歩15分 \n問い合わせ\n050-1721-0847（かざはやの里）
URL:https://tsukanko.jp/event/tribe_events-14703/
LOCATION:かざはやの里\, 514-1138\, 三重県津市戸木町４０９６ 伊勢温泉ゴルフクラブ内
CATEGORIES:体験型イベント
ATTACH;FMTTYPE=image/jpeg:https://tsukanko.jp/manage/wp-content/uploads/2024/05/かざはやの里あじさい-2.jpg
END:VEVENT
BEGIN:VEVENT
DTSTART;TZID=Asia/Tokyo:20250517T100000
DTEND;TZID=Asia/Tokyo:20250517T200000
DTSTAMP:20260420T105748
CREATED:20250509T084021Z
LAST-MODIFIED:20250515T050150Z
UID:14488-1747476000-1747512000@tsukanko.jp
SUMMARY:津縁日音楽祭　ほか
DESCRIPTION:総合的な情報発信として、こちらのInstagramを事前にご確認されるのをオススメします！ \nレッ津ローカライズInstagram \n津ぅのドまんなかジャズフェスティバル\n日時：令和7年5月17日(土)10:00～20:00（会場によって異なります）会場：全7会場（ホテル津センターパレス、LINO、BRAN、和院、岡三証券神楽洞夢、津市まんなか広場） \n内容：津ジャズは今年で10周年。新しい音楽イベント「津縁日音楽祭」と同時開催です。 \n※一部観賞有料・ワンドリンク制となります \n詳細はこちらをクリック \n																\n															\n																\n															\n																\n															 \n津縁日音楽祭\n日時：令和7年5月17日(土)10:00～19:00（会場によって異なります） \n会場：津観音、大門大通り商店街、大門たてまち商店街 \n内容：今年初！三重テレビと津観音総代会青年部が中心となってきかくされた音楽祭です。MTV「ボイメンパーク」の収録でボーイズ＆メンのメンバーが会場に登場します！会場は全て観賞無料となっております！ \n詳細はこちらをクリック！ \n																\n															\n																\n															\n			 \n大門花マルシェ\n日時：令和7年5月17日(土)10:00～16:00 \n会場：大門大通り商店街 \n内容：エリア内では「みんなのハートフルマルシェ」＆みえ旅インフルエンサー「のん旅」プレゼンツの「のん旅パーク」も開催します！ \n大門きもの祭りも同時開催し、まさに今大門で出来る最大限のイベントが集結します。 \n																\n															\n																\n															\n			 \n第61回高虎楽座\n日時：令和７年５月１７日(土)１０：００～１６：００会場：フェニックス通り　※荒天中止 \n内容：大好評「パンマルシェ」は三重県内の人気のパン屋さん１２店舗が大集合！その他にはにぎわい市やおこしなして市場の物産展、津市の魅力がたっぷり詰まったイベントとなっております。 \n高虎座ステージとして子ども唐人や津高虎太鼓の演奏、キッズダンスなど内容盛りだくさんとなっております。 \n\n											\n															\n															\n															\n															\n															\n			 \n第36回津市物産まつり\n日時：令和７年５月１７日(土)１０：００～１５：００ \n場所：丸之内商店街・フェニックス通りの一部　※荒天中止 \n内容： \n津市の物産品を一堂に集め販売・展示をいたします！ \nキッチンカーも含む、お土産品やお茶、工芸品などの販売などがございます。高虎楽座と同時開催は史上初！ぜひお越しください。 \n																\n															\n															\n															\n															\n															\n			 \n「津城模擬三重櫓」見学会\n日時：令和７年５月１７日(土) \n①10：30～11：30②13：00～14：00③14：00～15：00 \n場所：高虎楽座安濃津ガイド会PRブース \n内容：昨年津市物産まつり会場で行いました見学会を今年も行います。事前予約：お電話にて受付丸之内商店街事務局　059-224-4955 \nmailでも受け付けます：mall@tsumarunouchi.com \n															\n															\n															\n															\n																\n															\n			 \n第25回ふるさと三重物産展\n日時：令和７年５月１４日(水)～１９日(月)１０：００～１８：３０（最終日は１７：００終了） \n場所：津松菱（津市東丸之内４－１０）６階催事場 \n内容：津市の山二造酢や丸大大森の海苔を始め県内のスイーツや物産品などが勢ぞろいです！同時開催として「能登半島復興支援展」として石川や新潟、富山などのグルメも堪能することができます。 \n問い合わせ：０５９ー２２８－１３１１（津松菱）
URL:https://tsukanko.jp/event/tribe_events-14488/
CATEGORIES:グルメイベント,プレイイベント,体験型イベント,観光イベント,音楽ライブ
ATTACH;FMTTYPE=image/jpeg:https://tsukanko.jp/manage/wp-content/uploads/2025/05/logo2025-1-1.jpg
END:VEVENT
BEGIN:VEVENT
DTSTART;TZID=Asia/Tokyo:20250517T100000
DTEND;TZID=Asia/Tokyo:20250517T160000
DTSTAMP:20260420T105748
CREATED:20250416T080815Z
LAST-MODIFIED:20250514T020443Z
UID:14177-1747476000-1747497600@tsukanko.jp
SUMMARY:第36回津市物産まつり　第61回高虎楽座
DESCRIPTION:第36回津市物産まつり\n今年はこの2つのイベントが同時開催です！丸之内商店街では津市物産まつりが、フェニックス通りでは高虎楽座が開催され、多くの方の来場が見込まれます。 \nまた、この日は他にも「大門花マルシェ」「津ぅのドまんなかジャズフェスティバル」「津縁日祭」「ふるさと物産展」など津市の中心地が大いに森があります！ \n第36回津市物産まつり \n日時：令和7年5月17日(土)10:00～15:00（高虎楽座より1時間短いです）場所：津市丸之内商店街一帯内容：津ぎょうざやうなぎ、津市を代表するグルメを始め、物産品などが多く販売されます。 \nまた、木工教室やたこ作り教室などの体験コーナーもあり、お買い物回り抽選もあるので、ぜひご参加ください。 \n															\n															\n															\n																														 \n※写真は昨年の様子です。内容が変更の場合もございます。 \n第61回高虎楽座\n日時：令和7年5月17日(土)10:00～16:00（物産まつりより1時間長いです） \n場所：フェニックス通り \n内容：大好評パンまつりは10時から！高虎太鼓の演奏や美杉・一志のおこしなして市場も開催。こちらも物産まつり同様に津市のグルメや物産品が多く取り揃えております。
URL:https://tsukanko.jp/event/tribe_events-14177/
CATEGORIES:グルメイベント,体験型イベント,観光イベント,音楽ライブ
ATTACH;FMTTYPE=application/pdf:https://tsukanko.jp/manage/wp-content/uploads/2025/04/13412be7f551caa2366bf15d31e0d422.pdf
END:VEVENT
BEGIN:VEVENT
DTSTART;TZID=Asia/Tokyo:20250514T110000
DTEND;TZID=Asia/Tokyo:20250605T140000
DTSTAMP:20260420T105748
CREATED:20250521T051312Z
LAST-MODIFIED:20250521T054608Z
UID:14692-1747220400-1749132000@tsukanko.jp
SUMMARY:春のふらっと大門・丸之内＠お城前公園
DESCRIPTION:ふらっと大門・丸之内＠お城前公園\n日時\n令和7年5月14日(水)～6月5日(木)11:00～14:00 \n場所\nお城前公園（市営お城東駐車場横） \n内容\n春のふらっと大門・丸之内＠お城前公園が本日５月１４日より始まりました！初日は計１３店舗が集まり、晴天の中、たくさんの方にお越しいただき大盛況でした！このプロジェクトは、６月５日まで継続します。ぜひ、おすすめグルメやスイーツなどをご堪能ください。 \n出店情報などのその他詳細は公式Instagramをチェックしてくださいね。 \n問い合わせ先\n059-229-3183（エリアプラットフォーム大門・丸之内未来のまちづくり事務局：津市都市計画部都市政策課）
URL:https://tsukanko.jp/event/tribe_events-14692/
CATEGORIES:グルメイベント,観光イベント
ATTACH;FMTTYPE=image/jpeg:https://tsukanko.jp/manage/wp-content/uploads/2025/05/IMG_4992.jpg
END:VEVENT
BEGIN:VEVENT
DTSTART;TZID=Asia/Tokyo:20250511T100000
DTEND;TZID=Asia/Tokyo:20250511T160000
DTSTAMP:20260420T105748
CREATED:20250430T023324Z
LAST-MODIFIED:20250430T024816Z
UID:14456-1746957600-1746979200@tsukanko.jp
SUMMARY:ハハノヒフェスティバル
DESCRIPTION:ハハノヒフェスティバルinHOWAパークPFIゾーン\n																\n															 \n母の日イベントをHOWAパーク（中勢グリーンパーク）で開催！大人気のパン屋さんやバルーンリリース、バブルショーなどお子様大喜びの内容で実施いたします縁日コーナーやステージイベントなど、広い公園で1日楽しめます！ \n会場：HOWAパーク（中勢グリーンパーク）PFIゾーン \n開催日時：令和７年5月11日(日)10:00～16:00（雨天縮小開催） \n料金：参加無料（有料コーナーあり） \n備考：HOWAパーク駐車場をご利用ください
URL:https://tsukanko.jp/event/tribe_events-14456/
CATEGORIES:体験型イベント,観光イベント
ATTACH;FMTTYPE=image/jpeg:https://tsukanko.jp/manage/wp-content/uploads/2025/04/20250425160622-0005.jpg
END:VEVENT
BEGIN:VEVENT
DTSTART;TZID=Asia/Tokyo:20250429T093000
DTEND;TZID=Asia/Tokyo:20250506T170000
DTSTAMP:20260420T105748
CREATED:20250414T025954Z
LAST-MODIFIED:20250417T093249Z
UID:14109-1745919000-1746550800@tsukanko.jp
SUMMARY:三重大恐竜博
DESCRIPTION:三重大恐竜博\n開催日時\n２０２５年４月２９日（火・祝）～ ５月６日（火・祝）９：３０～１７：００（最終入場／１６：００）※会期中無休 \n階催場所\nメッセウィングNHW展示場B・C \n〒514-0056三重県津市北河路町19-1 \n津市産業・スポーツセンター \n内容\n実物大の恐竜が１０体登場！◆最強の肉食恐竜ティラノサウルス（全長約15ｍ）◆３本角を持つ草食恐竜トリケラトプス（全長約9m）◆生物史上最大の爪！テリジノサウルス（全長約5.5ｍ）◆スピノサウルウス（全長約7m）も見逃せない！ \n１５０インチの大迫力！３Dシアター！ \n学習コーナー、スタンプラリーなども実施。 \n料金\n \n問合せ先\nハローダイヤル　050-5542-8600（3/1～5/7　9:00～20:00）
URL:https://tsukanko.jp/event/tribe_events-14109/
LOCATION:メッセウイング・みえ\, 三重県\, 津市北河路町19-1\, 514-0056
CATEGORIES:体験型イベント,観光イベント
ATTACH;FMTTYPE=image/jpeg:https://tsukanko.jp/manage/wp-content/uploads/2025/04/screenshot.878.jpg
END:VEVENT
BEGIN:VEVENT
DTSTART;TZID=Asia/Tokyo:20250426T140000
DTEND;TZID=Asia/Tokyo:20250426T210000
DTSTAMP:20260420T105748
CREATED:20250401T052848Z
LAST-MODIFIED:20250401T053326Z
UID:13878-1745676000-1745701200@tsukanko.jp
SUMMARY:グリーンフェスティバル
DESCRIPTION:日時：令和7年4月26日(日)14:00～21:00場所：みどりの風公園内容：マルシェ、アコースティックLIVE、キャンドルナイトで盛り上がります！ \n問合わせ：059-255-8846（久居まつり実行委員会） \n																														 \n公式サイトはコチラ！
URL:https://tsukanko.jp/event/tribe_events-13878/
LOCATION:緑の風公園\, 津市久居新町\, 津市久居新町
CATEGORIES:グルメイベント,プレイイベント,観光イベント
ATTACH;FMTTYPE=image/jpeg:https://tsukanko.jp/manage/wp-content/uploads/2025/04/d4e9bdaaabe006c889af874386015d58.jpg
END:VEVENT
BEGIN:VEVENT
DTSTART;TZID=Asia/Tokyo:20250425T090000
DTEND;TZID=Asia/Tokyo:20250511T190000
DTSTAMP:20260420T105748
CREATED:20250416T020742Z
LAST-MODIFIED:20250425T012320Z
UID:14160-1745571600-1746990000@tsukanko.jp
SUMMARY:こいのぼりがいっぱい！！2025
DESCRIPTION:こいのぼりがいっぱい！２０２５（三重県総合文化センター）\n															\n															\n															\n																														 \n今年も開催！ \n三重県総合文化センターで毎年たくさんのこいのぼりが設置され、祝祭広場と知識の広場ににぎわいます。これは一般の方らの提供品で、色とりどりのこいのぼりが一斉に初夏の青空で泳いでおります。 \nぜひご覧ください \n会場：三重県総合文化センター1階祝祭広場（中ホール前）・知識の広場（県立図書館前） \n開催時時間：9時～19時 \n料金：鑑賞無料 \n備考：駐車場が予想されますのでできるだけ公共交通機関をご利用ください \n問合せ：059-233-1105（三重県総合文化センター） \n※写真は「三重の文化」のfacebookより転載しております。
URL:https://tsukanko.jp/event/tribe_events-14160/
CATEGORIES:観光イベント
ATTACH;FMTTYPE=image/jpeg:https://tsukanko.jp/manage/wp-content/uploads/2025/04/45FF6F57-B1C5-409A-933E-3A7B68F18096.jpg
END:VEVENT
BEGIN:VEVENT
DTSTART;TZID=Asia/Tokyo:20250419T180000
DTEND;TZID=Asia/Tokyo:20250419T210000
DTSTAMP:20260420T105748
CREATED:20250307T025954Z
LAST-MODIFIED:20250327T084753Z
UID:13428-1745085600-1745096400@tsukanko.jp
SUMMARY:ザ・ビートルズ・トリビュートバンド「COMMA　DADA」コンサート＆フルコース（飲み放題）ディナーアワー
DESCRIPTION:新生センターパレスホールお披露目！\n2025年4月19日(土)開催！ \nホテルの優雅な空間で味わうフルコースディナーと、心に響く音楽ライブの贅沢なひととき。洗練された料理とともに、ライブパフォーマンスが織り成す美しい調和をお楽しみいただけます。特別な夜をお過ごしください。 \nライブは、洋楽・邦楽を幅広くプレイ。東京・横浜近郊のライブハウスを中心に全国で活動中のCOMMA DADA（コマダダ）。本格志向のビートルズバンドとして定評あり。 \nチケット取り扱いはチケットぴあ、ホテル津センターパレス、飯処しるべにて！ \n日時：2025年4月19日(土)18:00開演（17:30開場）\n料金：税込13\,000円（高校生以上）　※小・中学生は8\,000円\n場所：ホテル津センターパレス（三重の間）
URL:https://tsukanko.jp/event/tribe_events-13428/
LOCATION:ホテル津センターパレス\, 津市大門7-15\, 514-0027
CATEGORIES:グルメイベント,体験型イベント,音楽ライブ
ATTACH;FMTTYPE=image/jpeg:https://tsukanko.jp/manage/wp-content/uploads/2025/03/1ef3ddeff6b0d1d2f8bdb1fb58087827.jpg
END:VEVENT
BEGIN:VEVENT
DTSTART;TZID=Asia/Tokyo:20250418T143000
DTEND;TZID=Asia/Tokyo:20250418T153000
DTSTAMP:20260420T105748
CREATED:20250415T014001Z
LAST-MODIFIED:20250417T041339Z
UID:14119-1744986600-1744990200@tsukanko.jp
SUMMARY:ラフェスタプリマヴェラ2025
DESCRIPTION:ラフェスタプリマヴェラ2025\n4月18日～２１日開催！ \nLa Festa Primavera(ラフェスタ プリマベラ)は、名古屋をスタートし、近畿地方を中心にクラシックカーで1000kmを走る公道ラリーです。三重県内はもちろんですが、津市へもお越し頂きます。 \n津市は一身田寺内町（高田本山前）へ4月18日(金)14時半～15時半頃に到着予定です。 \nぜひ、沿道で応援しましょう！
URL:https://tsukanko.jp/event/tribe_events-14119/
CATEGORIES:体験型イベント
ATTACH;FMTTYPE=image/jpeg:https://tsukanko.jp/manage/wp-content/uploads/2025/04/IMG_7635.jpg
END:VEVENT
BEGIN:VEVENT
DTSTART;TZID=Asia/Tokyo:20250406T100000
DTEND;TZID=Asia/Tokyo:20250406T150000
DTSTAMP:20260420T105748
CREATED:20250128T013354Z
LAST-MODIFIED:20250330T061827Z
UID:12574-1743933600-1743951600@tsukanko.jp
SUMMARY:君ヶ野ダム公園さくらまつり
DESCRIPTION:日時：令和7年4月6日(日)10:00～15:00\n場所：津市美杉町八手俣（君ヶ野ダム公園） \n毎年4月の桜満開の時期に開催される君ヶ野ダム公園さくらまつり。 \n地域の物産展やステージイベントなどで大いに盛り上がります！
URL:https://tsukanko.jp/event/tribe_events-12574/
LOCATION:君ヶ野ダム公園\, 津市美杉町八手俣\, 514-3202
CATEGORIES:体験型イベント,観光イベント
ATTACH;FMTTYPE=image/jpeg:https://tsukanko.jp/manage/wp-content/uploads/2025/01/f2e8c8ca4bbbacaea4648f4d649144f1.jpg
END:VEVENT
BEGIN:VEVENT
DTSTART;TZID=Asia/Tokyo:20250405T100000
DTEND;TZID=Asia/Tokyo:20250405T100000
DTSTAMP:20260420T105748
CREATED:20250311T014104Z
LAST-MODIFIED:20250327T084721Z
UID:13479-1743847200-1743847200@tsukanko.jp
SUMMARY:第28回榊原温泉さくら祭り
DESCRIPTION:榊原温泉さくら祭り\n日時：令和7年4月5日(土)10:00～14:00　小雨決行 \n場所：湯の瀬イベント広場 \n内容：キッチンカーマルシェ、地元榊原湯の瀬太鼓などの演奏、もちまき、がらくた市など内容盛りだくさん \n駐車場：臨時駐車場多数あり \n①榊原小学校　②駐在所前　③市場公園　④圓浄寺 \n市場公園ではライトアップも実施いたします。 \n榊原温泉振興協会の公式サイトはこちら
URL:https://tsukanko.jp/event/tribe_events-13479/
LOCATION:湯の瀬\, 津市榊原町6103\, 514-1251
CATEGORIES:グルメイベント,体験型イベント,観光イベント
ATTACH;FMTTYPE=image/jpeg:https://tsukanko.jp/manage/wp-content/uploads/2025/03/20250310095459-0001.jpg
END:VEVENT
BEGIN:VEVENT
DTSTART;TZID=Asia/Tokyo:20250405T093000
DTEND;TZID=Asia/Tokyo:20250405T120000
DTSTAMP:20260420T105748
CREATED:20250219T041452Z
LAST-MODIFIED:20250327T085048Z
UID:12985-1743845400-1743854400@tsukanko.jp
SUMMARY:津城をもっと城（知ろ）にぃ【パート４】
DESCRIPTION:日時：令和７年４月５日(土)９：３０～１２：００\n場所：お城公園（藤堂高虎像前）\n\n毎年恒例の「城の日」記念イベントです。 \n築城の名手、藤堂高虎のことを楽しく学ぶ！ \n津城模擬櫓内を自由見学！ \n参加申込は専用申込用紙に記入の上、FAX（059-221-0811）もしくはメール（tsu.guide.net@gmail.com）まで申し込みください。\n※申込期間3月16日～28日まで\n城を日イベント参加申込用紙 \n参加料300円でオリジナル賞品をプレゼント！
URL:https://tsukanko.jp/event/tribe_events-12985/
LOCATION:お城公園\, 三重県津市丸之内27\, 514-0033
CATEGORIES:体験型イベント
ATTACH;FMTTYPE=image/jpeg:https://tsukanko.jp/manage/wp-content/uploads/2025/02/20250219130522-0001.jpg
END:VEVENT
BEGIN:VEVENT
DTSTART;TZID=Asia/Tokyo:20250402T100000
DTEND;TZID=Asia/Tokyo:20250407T180000
DTSTAMP:20260420T105748
CREATED:20250326T085818Z
LAST-MODIFIED:20250330T062911Z
UID:13757-1743588000-1744048800@tsukanko.jp
SUMMARY:メダカの大祭典in松菱
DESCRIPTION:津松菱のイベント情報！！\nメダカの大祭典in松菱\n令和7年4月2日(水)～7日(月)午前10時～午後6時\n松菱6階/催事場\nメダカくじ　参加費（1回）2\,000円\nメダカすくい　参加費（1回）500円\n特売コーナーあり！ \n電車おもちゃミニ広場in松菱\n令和7年4月2日(水)～6日(日)午前10時～午後5時\n松菱6階/催事場\n入場料：お1人様（3歳以上）200円\nちびっ子広場で線路を自由に組み立てできるよ！\nじぶんのでんしゃをもってきてはしらせよう！\n松菱1階には駅鉄ショップin松菱がオープン！\n鉄道グッズを手に入れよう！\n津松菱〒514-8580\n津市東丸之内4-10\nTEL：059-228-1311
URL:https://tsukanko.jp/event/tribe_events-13757/
LOCATION:松菱\, 三重県津市東丸之内４−１０\, 514-0028
CATEGORIES:プレイイベント
ATTACH;FMTTYPE=image/jpeg:https://tsukanko.jp/manage/wp-content/uploads/2025/03/20250326094524-0002.jpg
END:VEVENT
BEGIN:VEVENT
DTSTART;TZID=Asia/Tokyo:20250321T100000
DTEND;TZID=Asia/Tokyo:20250321T113000
DTSTAMP:20260420T105748
CREATED:20250311T040608Z
LAST-MODIFIED:20250327T084429Z
UID:13495-1742551200-1742556600@tsukanko.jp
SUMMARY:津興橋の建設工事現場見学会
DESCRIPTION:津興橋の建設工事現場見学会\n日時：令和7年3月21日(金) \nグループ①　10:00～10:30 \nグループ②　10:50～11:30 \n場所：津興橋（岩田川河口） \n内容：普段は、見ることのできない橋梁の構造などを見学できます。 \n駐車場：津なぎさまち第5駐車場をご利用いただけます。
URL:https://tsukanko.jp/event/tribe_events-13495/
LOCATION:津興橋
CATEGORIES:グルメイベント,体験型イベント,観光イベント
ATTACH;FMTTYPE=image/jpeg:https://tsukanko.jp/manage/wp-content/uploads/2025/03/20250311114435-0001.jpg
END:VEVENT
BEGIN:VEVENT
DTSTART;TZID=Asia/Tokyo:20250320T100000
DTEND;TZID=Asia/Tokyo:20250320T160000
DTSTAMP:20260420T105748
CREATED:20250314T083824Z
LAST-MODIFIED:20250327T084253Z
UID:13655-1742464800-1742486400@tsukanko.jp
SUMMARY:キッズ献血
DESCRIPTION:キッズ献血\n日時：令和7年3月20日(木・祝)10:00～12:00、13:00～16:00\n場所：日本赤十字三重県支部（血液センターと同じ敷地内にある建物です） \n問合：059-273-6702（三重県赤十字血液センター：津市あのつ台4-8-5） \n◆模擬体験の「まねっこ献血」で献血のながれや様子を理解していただきます\n※体に針を刺すことはありません \n◆赤十字ボランティアブース \n◆献血体験をしてくれたお友達にはプレゼントあり
URL:https://tsukanko.jp/event/tribe_events-13655/
LOCATION:日本赤十字社三重県支部\, 三重県津市あのつ台４丁目８−５\, 514-0131
CATEGORIES:体験型イベント
ATTACH;FMTTYPE=image/jpeg:https://tsukanko.jp/manage/wp-content/uploads/2025/03/20250314173207-0001.jpg
END:VEVENT
END:VCALENDAR