BEGIN:VCALENDAR
VERSION:2.0
PRODID:-//津の時間。（津市観光協会） - ECPv6.15.17.1//NONSGML v1.0//EN
CALSCALE:GREGORIAN
METHOD:PUBLISH
X-WR-CALNAME:津の時間。（津市観光協会）
X-ORIGINAL-URL:https://tsukanko.jp
X-WR-CALDESC:津の時間。（津市観光協会） のイベント
REFRESH-INTERVAL;VALUE=DURATION:PT1H
X-Robots-Tag:noindex
X-PUBLISHED-TTL:PT1H
BEGIN:VTIMEZONE
TZID:Asia/Tokyo
BEGIN:STANDARD
TZOFFSETFROM:+0900
TZOFFSETTO:+0900
TZNAME:JST
DTSTART:20240101T000000
END:STANDARD
END:VTIMEZONE
BEGIN:VEVENT
DTSTART;TZID=Asia/Tokyo:20251018T100000
DTEND;TZID=Asia/Tokyo:20251018T150000
DTSTAMP:20260423T065256
CREATED:20251003T021933Z
LAST-MODIFIED:20251016T034808Z
UID:16470-1760781600-1760799600@tsukanko.jp
SUMMARY:JFE･JMU秋まつり
DESCRIPTION:津ぅきた！福きた！カムカムフェスタ！２０２５				\n				\n				\n				\n									津市の河芸町内、大里地区内、高野尾町内の商店が一日だけの商店街をつくり、おいしい食べ物や特産品などの販売を行います。一日商店街では、500円お買上げごとに1枚の抽選券を配布しており、豪華賞品が当たるチャンスもあります！ステージイベントでは、和太鼓演奏やキッズダンス、フルート演奏、マジックショーを行います。また昭和の名車が大集合するクラシックカーイベントもございます。イベント終盤には来場者全員が参加できる大クイズ大会（優勝賞品有り、一問目正解者にお菓子プレゼント）も行いますので、ご家族や友人をお誘いあわせのうえ、ご来場ください！ \n※イベントは少雨決行（雨天中止） \n※上記は昨年の情報となります。 \n日時：\n令和７年１１月９日(日)１０：００～１５：００ \n場所：\n河芸第２グラウンド南駐車場 \n（〒510ｰ0314津市河芸町浜田７９３） \n問い合わせ：\n津北商工会（０５９－２４５－５６７８）
URL:https://tsukanko.jp/event/tribe_events-16470/
LOCATION:JFEエンジニアリング(株)津製作所/ジャパンマリンユナイテッド(株)津事業所
CATEGORIES:体験型イベント
ATTACH;FMTTYPE=image/jpeg:https://tsukanko.jp/manage/wp-content/uploads/2025/10/eb3f070c2223ee4ddee03d3ae388cb67.jpg
END:VEVENT
BEGIN:VEVENT
DTSTART;TZID=Asia/Tokyo:20251005T093000
DTEND;TZID=Asia/Tokyo:20251005T153000
DTSTAMP:20260423T065256
CREATED:20250901T031328Z
LAST-MODIFIED:20251004T035151Z
UID:16091-1759656600-1759678200@tsukanko.jp
SUMMARY:第32回ふれあいのかおり2025
DESCRIPTION:津ぅきた！福きた！カムカムフェスタ！２０２５				\n				\n				\n				\n									津市の河芸町内、大里地区内、高野尾町内の商店が一日だけの商店街をつくり、おいしい食べ物や特産品などの販売を行います。一日商店街では、500円お買上げごとに1枚の抽選券を配布しており、豪華賞品が当たるチャンスもあります！ステージイベントでは、和太鼓演奏やキッズダンス、フルート演奏、マジックショーを行います。また昭和の名車が大集合するクラシックカーイベントもございます。イベント終盤には来場者全員が参加できる大クイズ大会（優勝賞品有り、一問目正解者にお菓子プレゼント）も行いますので、ご家族や友人をお誘いあわせのうえ、ご来場ください！ \n※イベントは少雨決行（雨天中止） \n※上記は昨年の情報となります。 \n日時：\n令和７年１１月９日(日)１０：００～１５：００ \n場所：\n河芸第２グラウンド南駐車場 \n（〒510ｰ0314津市河芸町浜田７９３） \n問い合わせ：\n津北商工会（０５９－２４５－５６７８）
URL:https://tsukanko.jp/event/tribe_events-16091/
LOCATION:サンデルタ香良洲\, 三重県津市香良洲町2167\, 514-0315
CATEGORIES:グルメイベント,体験型イベント,観光イベント
ATTACH;FMTTYPE=image/jpeg:https://tsukanko.jp/manage/wp-content/uploads/2025/09/hureaitirasi.jpg
END:VEVENT
BEGIN:VEVENT
DTSTART;TZID=Asia/Tokyo:20251004T173000
DTEND;TZID=Asia/Tokyo:20251004T193000
DTSTAMP:20260423T065256
CREATED:20250902T071546Z
LAST-MODIFIED:20250902T084047Z
UID:16187-1759599000-1759606200@tsukanko.jp
SUMMARY:霧山薪能
DESCRIPTION:津ぅきた！福きた！カムカムフェスタ！２０２５				\n				\n				\n				\n									津市の河芸町内、大里地区内、高野尾町内の商店が一日だけの商店街をつくり、おいしい食べ物や特産品などの販売を行います。一日商店街では、500円お買上げごとに1枚の抽選券を配布しており、豪華賞品が当たるチャンスもあります！ステージイベントでは、和太鼓演奏やキッズダンス、フルート演奏、マジックショーを行います。また昭和の名車が大集合するクラシックカーイベントもございます。イベント終盤には来場者全員が参加できる大クイズ大会（優勝賞品有り、一問目正解者にお菓子プレゼント）も行いますので、ご家族や友人をお誘いあわせのうえ、ご来場ください！ \n※イベントは少雨決行（雨天中止） \n※上記は昨年の情報となります。 \n日時：\n令和７年１１月９日(日)１０：００～１５：００ \n場所：\n河芸第２グラウンド南駐車場 \n（〒510ｰ0314津市河芸町浜田７９３） \n問い合わせ：\n津北商工会（０５９－２４５－５６７８）
URL:https://tsukanko.jp/event/tribe_events-16187/
LOCATION:北畠神社境内\, 津市美杉町上多気1148
ATTACH;FMTTYPE=image/jpeg:https://tsukanko.jp/manage/wp-content/uploads/2025/09/5b9681b16ec8a8e797ed259352b9b464.jpg
END:VEVENT
BEGIN:VEVENT
DTSTART;TZID=Asia/Tokyo:20250927T130000
DTEND;TZID=Asia/Tokyo:20250927T210000
DTSTAMP:20260423T065256
CREATED:20250909T015910Z
LAST-MODIFIED:20250909T020555Z
UID:16306-1758978000-1759006800@tsukanko.jp
SUMMARY:津夏祭り
DESCRIPTION:津ぅきた！福きた！カムカムフェスタ！２０２５				\n				\n				\n				\n									津市の河芸町内、大里地区内、高野尾町内の商店が一日だけの商店街をつくり、おいしい食べ物や特産品などの販売を行います。一日商店街では、500円お買上げごとに1枚の抽選券を配布しており、豪華賞品が当たるチャンスもあります！ステージイベントでは、和太鼓演奏やキッズダンス、フルート演奏、マジックショーを行います。また昭和の名車が大集合するクラシックカーイベントもございます。イベント終盤には来場者全員が参加できる大クイズ大会（優勝賞品有り、一問目正解者にお菓子プレゼント）も行いますので、ご家族や友人をお誘いあわせのうえ、ご来場ください！ \n※イベントは少雨決行（雨天中止） \n※上記は昨年の情報となります。 \n日時：\n令和７年１１月９日(日)１０：００～１５：００ \n場所：\n河芸第２グラウンド南駐車場 \n（〒510ｰ0314津市河芸町浜田７９３） \n問い合わせ：\n津北商工会（０５９－２４５－５６７８）
URL:https://tsukanko.jp/event/tribe_events-16306/
CATEGORIES:グルメイベント,プレイイベント,体験型イベント,観光イベント
ATTACH;FMTTYPE=image/jpeg:https://tsukanko.jp/manage/wp-content/uploads/2025/09/20250909105726-0001.jpg
END:VEVENT
BEGIN:VEVENT
DTSTART;TZID=Asia/Tokyo:20250922T100000
DTEND;TZID=Asia/Tokyo:20250922T180000
DTSTAMP:20260423T065256
CREATED:20250831T040044Z
LAST-MODIFIED:20250909T052936Z
UID:16060-1758535200-1758564000@tsukanko.jp
SUMMARY:『～三重のおまつり大集合～MIE フェスティバル in EXPO』
DESCRIPTION:津ぅきた！福きた！カムカムフェスタ！２０２５				\n				\n				\n				\n									津市の河芸町内、大里地区内、高野尾町内の商店が一日だけの商店街をつくり、おいしい食べ物や特産品などの販売を行います。一日商店街では、500円お買上げごとに1枚の抽選券を配布しており、豪華賞品が当たるチャンスもあります！ステージイベントでは、和太鼓演奏やキッズダンス、フルート演奏、マジックショーを行います。また昭和の名車が大集合するクラシックカーイベントもございます。イベント終盤には来場者全員が参加できる大クイズ大会（優勝賞品有り、一問目正解者にお菓子プレゼント）も行いますので、ご家族や友人をお誘いあわせのうえ、ご来場ください！ \n※イベントは少雨決行（雨天中止） \n※上記は昨年の情報となります。 \n日時：\n令和７年１１月９日(日)１０：００～１５：００ \n場所：\n河芸第２グラウンド南駐車場 \n（〒510ｰ0314津市河芸町浜田７９３） \n問い合わせ：\n津北商工会（０５９－２４５－５６７８）
URL:https://tsukanko.jp/event/tribe_events-16060/
CATEGORIES:グルメイベント,体験型イベント,観光イベント
ATTACH;FMTTYPE=image/jpeg:https://tsukanko.jp/manage/wp-content/uploads/2025/08/2a314492c80b6627254ee6b346841672.jpg
END:VEVENT
BEGIN:VEVENT
DTSTART;TZID=Asia/Tokyo:20250913T100000
DTEND;TZID=Asia/Tokyo:20250914T160000
DTSTAMP:20260423T065256
CREATED:20250909T052231Z
LAST-MODIFIED:20250909T052645Z
UID:16324-1757757600-1757865600@tsukanko.jp
SUMMARY:プラレールマルシェ
DESCRIPTION:津ぅきた！福きた！カムカムフェスタ！２０２５				\n				\n				\n				\n									津市の河芸町内、大里地区内、高野尾町内の商店が一日だけの商店街をつくり、おいしい食べ物や特産品などの販売を行います。一日商店街では、500円お買上げごとに1枚の抽選券を配布しており、豪華賞品が当たるチャンスもあります！ステージイベントでは、和太鼓演奏やキッズダンス、フルート演奏、マジックショーを行います。また昭和の名車が大集合するクラシックカーイベントもございます。イベント終盤には来場者全員が参加できる大クイズ大会（優勝賞品有り、一問目正解者にお菓子プレゼント）も行いますので、ご家族や友人をお誘いあわせのうえ、ご来場ください！ \n※イベントは少雨決行（雨天中止） \n※上記は昨年の情報となります。 \n日時：\n令和７年１１月９日(日)１０：００～１５：００ \n場所：\n河芸第２グラウンド南駐車場 \n（〒510ｰ0314津市河芸町浜田７９３） \n問い合わせ：\n津北商工会（０５９－２４５－５６７８）
URL:https://tsukanko.jp/event/tribe_events-16324/
CATEGORIES:体験型イベント
ATTACH;FMTTYPE=image/jpeg:https://tsukanko.jp/manage/wp-content/uploads/2025/09/20250909105749-0001.jpg
END:VEVENT
BEGIN:VEVENT
DTSTART;TZID=Asia/Tokyo:20250906T100000
DTEND;TZID=Asia/Tokyo:20250907T160000
DTSTAMP:20260423T065256
CREATED:20250831T050024Z
LAST-MODIFIED:20250902T030102Z
UID:16071-1757152800-1757260800@tsukanko.jp
SUMMARY:公益財団法人岡田文化財団藝術文化のつどい２０２５
DESCRIPTION:津ぅきた！福きた！カムカムフェスタ！２０２５				\n				\n				\n				\n									津市の河芸町内、大里地区内、高野尾町内の商店が一日だけの商店街をつくり、おいしい食べ物や特産品などの販売を行います。一日商店街では、500円お買上げごとに1枚の抽選券を配布しており、豪華賞品が当たるチャンスもあります！ステージイベントでは、和太鼓演奏やキッズダンス、フルート演奏、マジックショーを行います。また昭和の名車が大集合するクラシックカーイベントもございます。イベント終盤には来場者全員が参加できる大クイズ大会（優勝賞品有り、一問目正解者にお菓子プレゼント）も行いますので、ご家族や友人をお誘いあわせのうえ、ご来場ください！ \n※イベントは少雨決行（雨天中止） \n※上記は昨年の情報となります。 \n日時：\n令和７年１１月９日(日)１０：００～１５：００ \n場所：\n河芸第２グラウンド南駐車場 \n（〒510ｰ0314津市河芸町浜田７９３） \n問い合わせ：\n津北商工会（０５９－２４５－５６７８）
URL:https://tsukanko.jp/event/tribe_events-16071/
CATEGORIES:体験型イベント,観光イベント
ATTACH;FMTTYPE=image/jpeg:https://tsukanko.jp/manage/wp-content/uploads/2025/08/20250831135720-0001-e1756616951244.jpg
END:VEVENT
BEGIN:VEVENT
DTSTART;TZID=Asia/Tokyo:20250905T170000
DTEND;TZID=Asia/Tokyo:20250905T210000
DTSTAMP:20260423T065256
CREATED:20250831T034259Z
LAST-MODIFIED:20250903T091009Z
UID:16050-1757091600-1757106000@tsukanko.jp
SUMMARY:第3回レッ津ローカライズフェスティバル２０２５
DESCRIPTION:津ぅきた！福きた！カムカムフェスタ！２０２５				\n				\n				\n				\n									津市の河芸町内、大里地区内、高野尾町内の商店が一日だけの商店街をつくり、おいしい食べ物や特産品などの販売を行います。一日商店街では、500円お買上げごとに1枚の抽選券を配布しており、豪華賞品が当たるチャンスもあります！ステージイベントでは、和太鼓演奏やキッズダンス、フルート演奏、マジックショーを行います。また昭和の名車が大集合するクラシックカーイベントもございます。イベント終盤には来場者全員が参加できる大クイズ大会（優勝賞品有り、一問目正解者にお菓子プレゼント）も行いますので、ご家族や友人をお誘いあわせのうえ、ご来場ください！ \n※イベントは少雨決行（雨天中止） \n※上記は昨年の情報となります。 \n日時：\n令和７年１１月９日(日)１０：００～１５：００ \n場所：\n河芸第２グラウンド南駐車場 \n（〒510ｰ0314津市河芸町浜田７９３） \n問い合わせ：\n津北商工会（０５９－２４５－５６７８）
URL:https://tsukanko.jp/event/tribe_events-16050/
LOCATION:ホテル津センターパレス\, 津市大門7-15\, 514-0027
CATEGORIES:グルメイベント,体験型イベント,観光イベント
ATTACH;FMTTYPE=image/jpeg:https://tsukanko.jp/manage/wp-content/uploads/2025/08/874538e84a8f221629fbb61188404875.jpg
END:VEVENT
BEGIN:VEVENT
DTSTART;TZID=Asia/Tokyo:20250830T130000
DTEND;TZID=Asia/Tokyo:20250830T200000
DTSTAMP:20260423T065256
CREATED:20250730T021041Z
LAST-MODIFIED:20250730T021828Z
UID:15743-1756558800-1756584000@tsukanko.jp
SUMMARY:いちし夏祭り2025
DESCRIPTION:津ぅきた！福きた！カムカムフェスタ！２０２５				\n				\n				\n				\n									津市の河芸町内、大里地区内、高野尾町内の商店が一日だけの商店街をつくり、おいしい食べ物や特産品などの販売を行います。一日商店街では、500円お買上げごとに1枚の抽選券を配布しており、豪華賞品が当たるチャンスもあります！ステージイベントでは、和太鼓演奏やキッズダンス、フルート演奏、マジックショーを行います。また昭和の名車が大集合するクラシックカーイベントもございます。イベント終盤には来場者全員が参加できる大クイズ大会（優勝賞品有り、一問目正解者にお菓子プレゼント）も行いますので、ご家族や友人をお誘いあわせのうえ、ご来場ください！ \n※イベントは少雨決行（雨天中止） \n※上記は昨年の情報となります。 \n日時：\n令和７年１１月９日(日)１０：００～１５：００ \n場所：\n河芸第２グラウンド南駐車場 \n（〒510ｰ0314津市河芸町浜田７９３） \n問い合わせ：\n津北商工会（０５９－２４５－５６７８）
URL:https://tsukanko.jp/event/tribe_events-15743/
CATEGORIES:グルメイベント,体験型イベント,観光イベント
ATTACH;FMTTYPE=image/jpeg:https://tsukanko.jp/manage/wp-content/uploads/2025/07/20250729180255-0001.jpg
END:VEVENT
BEGIN:VEVENT
DTSTART;TZID=Asia/Tokyo:20250827T100000
DTEND;TZID=Asia/Tokyo:20250831T170000
DTSTAMP:20260423T065256
CREATED:20250812T085322Z
LAST-MODIFIED:20250812T085833Z
UID:15892-1756288800-1756659600@tsukanko.jp
SUMMARY:電車おもちゃの広場in松菱
DESCRIPTION:津ぅきた！福きた！カムカムフェスタ！２０２５				\n				\n				\n				\n									津市の河芸町内、大里地区内、高野尾町内の商店が一日だけの商店街をつくり、おいしい食べ物や特産品などの販売を行います。一日商店街では、500円お買上げごとに1枚の抽選券を配布しており、豪華賞品が当たるチャンスもあります！ステージイベントでは、和太鼓演奏やキッズダンス、フルート演奏、マジックショーを行います。また昭和の名車が大集合するクラシックカーイベントもございます。イベント終盤には来場者全員が参加できる大クイズ大会（優勝賞品有り、一問目正解者にお菓子プレゼント）も行いますので、ご家族や友人をお誘いあわせのうえ、ご来場ください！ \n※イベントは少雨決行（雨天中止） \n※上記は昨年の情報となります。 \n日時：\n令和７年１１月９日(日)１０：００～１５：００ \n場所：\n河芸第２グラウンド南駐車場 \n（〒510ｰ0314津市河芸町浜田７９３） \n問い合わせ：\n津北商工会（０５９－２４５－５６７８）
URL:https://tsukanko.jp/event/tribe_events-15892/
CATEGORIES:プレイイベント,観光イベント
ATTACH;FMTTYPE=image/jpeg:https://tsukanko.jp/manage/wp-content/uploads/2025/08/46fbc52f45cb1769dd7b114321c6a93a.jpg
END:VEVENT
BEGIN:VEVENT
DTSTART;TZID=Asia/Tokyo:20250824T160000
DTEND;TZID=Asia/Tokyo:20250824T200000
DTSTAMP:20260423T065256
CREATED:20250812T071200Z
LAST-MODIFIED:20250812T072802Z
UID:15875-1756051200-1756065600@tsukanko.jp
SUMMARY:ポトガラヒーの夏祭り2025
DESCRIPTION:津ぅきた！福きた！カムカムフェスタ！２０２５				\n				\n				\n				\n									津市の河芸町内、大里地区内、高野尾町内の商店が一日だけの商店街をつくり、おいしい食べ物や特産品などの販売を行います。一日商店街では、500円お買上げごとに1枚の抽選券を配布しており、豪華賞品が当たるチャンスもあります！ステージイベントでは、和太鼓演奏やキッズダンス、フルート演奏、マジックショーを行います。また昭和の名車が大集合するクラシックカーイベントもございます。イベント終盤には来場者全員が参加できる大クイズ大会（優勝賞品有り、一問目正解者にお菓子プレゼント）も行いますので、ご家族や友人をお誘いあわせのうえ、ご来場ください！ \n※イベントは少雨決行（雨天中止） \n※上記は昨年の情報となります。 \n日時：\n令和７年１１月９日(日)１０：００～１５：００ \n場所：\n河芸第２グラウンド南駐車場 \n（〒510ｰ0314津市河芸町浜田７９３） \n問い合わせ：\n津北商工会（０５９－２４５－５６７８）
URL:https://tsukanko.jp/event/tribe_events-15875/
CATEGORIES:グルメイベント,体験型イベント
ATTACH;FMTTYPE=image/jpeg:https://tsukanko.jp/manage/wp-content/uploads/2025/08/8ee66b27a7b5f17026d63beab596b95f.jpg
END:VEVENT
BEGIN:VEVENT
DTSTART;TZID=Asia/Tokyo:20250823T113000
DTEND;TZID=Asia/Tokyo:20250823T220000
DTSTAMP:20260423T065256
CREATED:20250818T070551Z
LAST-MODIFIED:20250819T023315Z
UID:15916-1755948600-1755986400@tsukanko.jp
SUMMARY:第13回津ぅのドまんなかバル
DESCRIPTION:津ぅきた！福きた！カムカムフェスタ！２０２５				\n				\n				\n				\n									津市の河芸町内、大里地区内、高野尾町内の商店が一日だけの商店街をつくり、おいしい食べ物や特産品などの販売を行います。一日商店街では、500円お買上げごとに1枚の抽選券を配布しており、豪華賞品が当たるチャンスもあります！ステージイベントでは、和太鼓演奏やキッズダンス、フルート演奏、マジックショーを行います。また昭和の名車が大集合するクラシックカーイベントもございます。イベント終盤には来場者全員が参加できる大クイズ大会（優勝賞品有り、一問目正解者にお菓子プレゼント）も行いますので、ご家族や友人をお誘いあわせのうえ、ご来場ください！ \n※イベントは少雨決行（雨天中止） \n※上記は昨年の情報となります。 \n日時：\n令和７年１１月９日(日)１０：００～１５：００ \n場所：\n河芸第２グラウンド南駐車場 \n（〒510ｰ0314津市河芸町浜田７９３） \n問い合わせ：\n津北商工会（０５９－２４５－５６７８）
URL:https://tsukanko.jp/event/tribe_events-15916/
CATEGORIES:グルメイベント
ATTACH;FMTTYPE=image/jpeg:https://tsukanko.jp/manage/wp-content/uploads/2025/08/a0e3fe866d1e96e334a7357573aa511d.jpg
END:VEVENT
BEGIN:VEVENT
DTSTART;TZID=Asia/Tokyo:20250817T100000
DTEND;TZID=Asia/Tokyo:20250818T210000
DTSTAMP:20260423T065256
CREATED:20250716T043847Z
LAST-MODIFIED:20250716T091600Z
UID:15585-1755424800-1755550800@tsukanko.jp
SUMMARY:千手観音ご開帳奉納夏祭り
DESCRIPTION:津ぅきた！福きた！カムカムフェスタ！２０２５				\n				\n				\n				\n									津市の河芸町内、大里地区内、高野尾町内の商店が一日だけの商店街をつくり、おいしい食べ物や特産品などの販売を行います。一日商店街では、500円お買上げごとに1枚の抽選券を配布しており、豪華賞品が当たるチャンスもあります！ステージイベントでは、和太鼓演奏やキッズダンス、フルート演奏、マジックショーを行います。また昭和の名車が大集合するクラシックカーイベントもございます。イベント終盤には来場者全員が参加できる大クイズ大会（優勝賞品有り、一問目正解者にお菓子プレゼント）も行いますので、ご家族や友人をお誘いあわせのうえ、ご来場ください！ \n※イベントは少雨決行（雨天中止） \n※上記は昨年の情報となります。 \n日時：\n令和７年１１月９日(日)１０：００～１５：００ \n場所：\n河芸第２グラウンド南駐車場 \n（〒510ｰ0314津市河芸町浜田７９３） \n問い合わせ：\n津北商工会（０５９－２４５－５６７８）
URL:https://tsukanko.jp/event/tribe_events-15585/
CATEGORIES:体験型イベント,観光イベント
ATTACH;FMTTYPE=image/jpeg:https://tsukanko.jp/manage/wp-content/uploads/2025/07/20250714155350-0001.jpg
END:VEVENT
BEGIN:VEVENT
DTSTART;TZID=Asia/Tokyo:20250817T090000
DTEND;TZID=Asia/Tokyo:20250817T160000
DTSTAMP:20260423T065256
CREATED:20250606T051905Z
LAST-MODIFIED:20250715T074825Z
UID:7180-1755421200-1755446400@tsukanko.jp
SUMMARY:第28回ビーチバレーin御殿場2025
DESCRIPTION:津ぅきた！福きた！カムカムフェスタ！２０２５				\n				\n				\n				\n									津市の河芸町内、大里地区内、高野尾町内の商店が一日だけの商店街をつくり、おいしい食べ物や特産品などの販売を行います。一日商店街では、500円お買上げごとに1枚の抽選券を配布しており、豪華賞品が当たるチャンスもあります！ステージイベントでは、和太鼓演奏やキッズダンス、フルート演奏、マジックショーを行います。また昭和の名車が大集合するクラシックカーイベントもございます。イベント終盤には来場者全員が参加できる大クイズ大会（優勝賞品有り、一問目正解者にお菓子プレゼント）も行いますので、ご家族や友人をお誘いあわせのうえ、ご来場ください！ \n※イベントは少雨決行（雨天中止） \n※上記は昨年の情報となります。 \n日時：\n令和７年１１月９日(日)１０：００～１５：００ \n場所：\n河芸第２グラウンド南駐車場 \n（〒510ｰ0314津市河芸町浜田７９３） \n問い合わせ：\n津北商工会（０５９－２４５－５６７８）
URL:https://tsukanko.jp/event/tribe_events-7180/
CATEGORIES:プレイイベント,体験型イベント
ATTACH;FMTTYPE=image/jpeg:https://tsukanko.jp/manage/wp-content/uploads/2025/06/dd82223c8733536d8f51de161dbf1336.jpg
END:VEVENT
BEGIN:VEVENT
DTSTART;TZID=Asia/Tokyo:20250815T180000
DTEND;TZID=Asia/Tokyo:20250815T210000
DTSTAMP:20260423T065256
CREATED:20250709T053515Z
LAST-MODIFIED:20250801T043337Z
UID:15244-1755280800-1755291600@tsukanko.jp
SUMMARY:あのう「光れ！しかけ花火」祭り
DESCRIPTION:津ぅきた！福きた！カムカムフェスタ！２０２５				\n				\n				\n				\n									津市の河芸町内、大里地区内、高野尾町内の商店が一日だけの商店街をつくり、おいしい食べ物や特産品などの販売を行います。一日商店街では、500円お買上げごとに1枚の抽選券を配布しており、豪華賞品が当たるチャンスもあります！ステージイベントでは、和太鼓演奏やキッズダンス、フルート演奏、マジックショーを行います。また昭和の名車が大集合するクラシックカーイベントもございます。イベント終盤には来場者全員が参加できる大クイズ大会（優勝賞品有り、一問目正解者にお菓子プレゼント）も行いますので、ご家族や友人をお誘いあわせのうえ、ご来場ください！ \n※イベントは少雨決行（雨天中止） \n※上記は昨年の情報となります。 \n日時：\n令和７年１１月９日(日)１０：００～１５：００ \n場所：\n河芸第２グラウンド南駐車場 \n（〒510ｰ0314津市河芸町浜田７９３） \n問い合わせ：\n津北商工会（０５９－２４５－５６７８）
URL:https://tsukanko.jp/event/tribe_events-15244/
CATEGORIES:観光イベント
ATTACH;FMTTYPE=image/jpeg:https://tsukanko.jp/manage/wp-content/uploads/2025/07/IMG_2397.jpg
END:VEVENT
BEGIN:VEVENT
DTSTART;TZID=Asia/Tokyo:20250813T160000
DTEND;TZID=Asia/Tokyo:20250815T210000
DTSTAMP:20260423T065256
CREATED:20250718T015309Z
LAST-MODIFIED:20250718T044754Z
UID:15616-1755100800-1755291600@tsukanko.jp
SUMMARY:万灯みたま祭
DESCRIPTION:津ぅきた！福きた！カムカムフェスタ！２０２５				\n				\n				\n				\n									津市の河芸町内、大里地区内、高野尾町内の商店が一日だけの商店街をつくり、おいしい食べ物や特産品などの販売を行います。一日商店街では、500円お買上げごとに1枚の抽選券を配布しており、豪華賞品が当たるチャンスもあります！ステージイベントでは、和太鼓演奏やキッズダンス、フルート演奏、マジックショーを行います。また昭和の名車が大集合するクラシックカーイベントもございます。イベント終盤には来場者全員が参加できる大クイズ大会（優勝賞品有り、一問目正解者にお菓子プレゼント）も行いますので、ご家族や友人をお誘いあわせのうえ、ご来場ください！ \n※イベントは少雨決行（雨天中止） \n※上記は昨年の情報となります。 \n日時：\n令和７年１１月９日(日)１０：００～１５：００ \n場所：\n河芸第２グラウンド南駐車場 \n（〒510ｰ0314津市河芸町浜田７９３） \n問い合わせ：\n津北商工会（０５９－２４５－５６７８）
URL:https://tsukanko.jp/event/tribe_events-15616/
LOCATION:三重縣護國神社\, 津市広明町387\, 514-0006
CATEGORIES:観光イベント
ATTACH;FMTTYPE=image/jpeg:https://tsukanko.jp/manage/wp-content/uploads/2025/07/gokokujinja-mitamasai.jpg
END:VEVENT
BEGIN:VEVENT
DTSTART;TZID=Asia/Tokyo:20250809T093000
DTEND;TZID=Asia/Tokyo:20250809T163000
DTSTAMP:20260423T065256
CREATED:20250717T235755Z
LAST-MODIFIED:20250810T055951Z
UID:15597-1754731800-1754757000@tsukanko.jp
SUMMARY:リアル体感！あそべる恐竜博
DESCRIPTION:津ぅきた！福きた！カムカムフェスタ！２０２５				\n				\n				\n				\n									津市の河芸町内、大里地区内、高野尾町内の商店が一日だけの商店街をつくり、おいしい食べ物や特産品などの販売を行います。一日商店街では、500円お買上げごとに1枚の抽選券を配布しており、豪華賞品が当たるチャンスもあります！ステージイベントでは、和太鼓演奏やキッズダンス、フルート演奏、マジックショーを行います。また昭和の名車が大集合するクラシックカーイベントもございます。イベント終盤には来場者全員が参加できる大クイズ大会（優勝賞品有り、一問目正解者にお菓子プレゼント）も行いますので、ご家族や友人をお誘いあわせのうえ、ご来場ください！ \n※イベントは少雨決行（雨天中止） \n※上記は昨年の情報となります。 \n日時：\n令和７年１１月９日(日)１０：００～１５：００ \n場所：\n河芸第２グラウンド南駐車場 \n（〒510ｰ0314津市河芸町浜田７９３） \n問い合わせ：\n津北商工会（０５９－２４５－５６７８）
URL:https://tsukanko.jp/event/tribe_events-15597/
CATEGORIES:体験型イベント,観光イベント
ATTACH;FMTTYPE=image/jpeg:https://tsukanko.jp/manage/wp-content/uploads/2025/07/20250718085451-0001.jpg
END:VEVENT
BEGIN:VEVENT
DTSTART;TZID=Asia/Tokyo:20250802T180000
DTEND;TZID=Asia/Tokyo:20250802T203000
DTSTAMP:20260423T065256
CREATED:20250715T035953Z
LAST-MODIFIED:20250715T072826Z
UID:15516-1754157600-1754166600@tsukanko.jp
SUMMARY:第64回久居花火大会
DESCRIPTION:津ぅきた！福きた！カムカムフェスタ！２０２５				\n				\n				\n				\n									津市の河芸町内、大里地区内、高野尾町内の商店が一日だけの商店街をつくり、おいしい食べ物や特産品などの販売を行います。一日商店街では、500円お買上げごとに1枚の抽選券を配布しており、豪華賞品が当たるチャンスもあります！ステージイベントでは、和太鼓演奏やキッズダンス、フルート演奏、マジックショーを行います。また昭和の名車が大集合するクラシックカーイベントもございます。イベント終盤には来場者全員が参加できる大クイズ大会（優勝賞品有り、一問目正解者にお菓子プレゼント）も行いますので、ご家族や友人をお誘いあわせのうえ、ご来場ください！ \n※イベントは少雨決行（雨天中止） \n※上記は昨年の情報となります。 \n日時：\n令和７年１１月９日(日)１０：００～１５：００ \n場所：\n河芸第２グラウンド南駐車場 \n（〒510ｰ0314津市河芸町浜田７９３） \n問い合わせ：\n津北商工会（０５９－２４５－５６７８）
URL:https://tsukanko.jp/event/tribe_events-15516/
LOCATION:陸上自衛隊久居駐屯地グラウンド
ATTACH;FMTTYPE=image/jpeg:https://tsukanko.jp/manage/wp-content/uploads/2025/07/hisaihanabi-aikyatti.jpg
END:VEVENT
BEGIN:VEVENT
DTSTART;TZID=Asia/Tokyo:20250726T200000
DTEND;TZID=Asia/Tokyo:20250726T210000
DTSTAMP:20260423T065256
CREATED:20240402T083426Z
LAST-MODIFIED:20250722T065813Z
UID:6510-1753560000-1753563600@tsukanko.jp
SUMMARY:第72回津花火大会2025
DESCRIPTION:津ぅきた！福きた！カムカムフェスタ！２０２５				\n				\n				\n				\n									津市の河芸町内、大里地区内、高野尾町内の商店が一日だけの商店街をつくり、おいしい食べ物や特産品などの販売を行います。一日商店街では、500円お買上げごとに1枚の抽選券を配布しており、豪華賞品が当たるチャンスもあります！ステージイベントでは、和太鼓演奏やキッズダンス、フルート演奏、マジックショーを行います。また昭和の名車が大集合するクラシックカーイベントもございます。イベント終盤には来場者全員が参加できる大クイズ大会（優勝賞品有り、一問目正解者にお菓子プレゼント）も行いますので、ご家族や友人をお誘いあわせのうえ、ご来場ください！ \n※イベントは少雨決行（雨天中止） \n※上記は昨年の情報となります。 \n日時：\n令和７年１１月９日(日)１０：００～１５：００ \n場所：\n河芸第２グラウンド南駐車場 \n（〒510ｰ0314津市河芸町浜田７９３） \n問い合わせ：\n津北商工会（０５９－２４５－５６７８）
URL:https://tsukanko.jp/event/tribe_events-6510/
LOCATION:阿漕浦海岸沖南方（令和５年度と同じ）\, 阿漕浦
CATEGORIES:観光イベント
ATTACH;FMTTYPE=image/jpeg:https://tsukanko.jp/manage/wp-content/uploads/2024/04/EA5A1528.jpg
END:VEVENT
BEGIN:VEVENT
DTSTART;TZID=Asia/Tokyo:20250720T100000
DTEND;TZID=Asia/Tokyo:20250720T160000
DTSTAMP:20260423T065256
CREATED:20250711T042713Z
LAST-MODIFIED:20250714T062900Z
UID:15454-1753005600-1753027200@tsukanko.jp
SUMMARY:HOWAフェスタ
DESCRIPTION:津ぅきた！福きた！カムカムフェスタ！２０２５				\n				\n				\n				\n									津市の河芸町内、大里地区内、高野尾町内の商店が一日だけの商店街をつくり、おいしい食べ物や特産品などの販売を行います。一日商店街では、500円お買上げごとに1枚の抽選券を配布しており、豪華賞品が当たるチャンスもあります！ステージイベントでは、和太鼓演奏やキッズダンス、フルート演奏、マジックショーを行います。また昭和の名車が大集合するクラシックカーイベントもございます。イベント終盤には来場者全員が参加できる大クイズ大会（優勝賞品有り、一問目正解者にお菓子プレゼント）も行いますので、ご家族や友人をお誘いあわせのうえ、ご来場ください！ \n※イベントは少雨決行（雨天中止） \n※上記は昨年の情報となります。 \n日時：\n令和７年１１月９日(日)１０：００～１５：００ \n場所：\n河芸第２グラウンド南駐車場 \n（〒510ｰ0314津市河芸町浜田７９３） \n問い合わせ：\n津北商工会（０５９－２４５－５６７８）
URL:https://tsukanko.jp/event/tribe_events-15454/
CATEGORIES:グルメイベント,体験型イベント,観光イベント
ATTACH;FMTTYPE=image/jpeg:https://tsukanko.jp/manage/wp-content/uploads/2025/07/3571942c95e252715a5b011d378a8c4f.jpg
END:VEVENT
BEGIN:VEVENT
DTSTART;TZID=Asia/Tokyo:20250719T160000
DTEND;TZID=Asia/Tokyo:20250719T210000
DTSTAMP:20260423T065256
CREATED:20250711T042120Z
LAST-MODIFIED:20250714T062832Z
UID:15446-1752940800-1752958800@tsukanko.jp
SUMMARY:夜まつり（HOWAフェスタinＨＯＷＡパークPFIゾーン
DESCRIPTION:津ぅきた！福きた！カムカムフェスタ！２０２５				\n				\n				\n				\n									津市の河芸町内、大里地区内、高野尾町内の商店が一日だけの商店街をつくり、おいしい食べ物や特産品などの販売を行います。一日商店街では、500円お買上げごとに1枚の抽選券を配布しており、豪華賞品が当たるチャンスもあります！ステージイベントでは、和太鼓演奏やキッズダンス、フルート演奏、マジックショーを行います。また昭和の名車が大集合するクラシックカーイベントもございます。イベント終盤には来場者全員が参加できる大クイズ大会（優勝賞品有り、一問目正解者にお菓子プレゼント）も行いますので、ご家族や友人をお誘いあわせのうえ、ご来場ください！ \n※イベントは少雨決行（雨天中止） \n※上記は昨年の情報となります。 \n日時：\n令和７年１１月９日(日)１０：００～１５：００ \n場所：\n河芸第２グラウンド南駐車場 \n（〒510ｰ0314津市河芸町浜田７９３） \n問い合わせ：\n津北商工会（０５９－２４５－５６７８）
URL:https://tsukanko.jp/event/tribe_events-15446/
CATEGORIES:グルメイベント,体験型イベント
ATTACH;FMTTYPE=image/jpeg:https://tsukanko.jp/manage/wp-content/uploads/2025/07/a0c66f0bea030076ba101fe36b9e1ed8.jpg
END:VEVENT
BEGIN:VEVENT
DTSTART;TZID=Asia/Tokyo:20250718T100000
DTEND;TZID=Asia/Tokyo:20250825T183000
DTSTAMP:20260423T065256
CREATED:20250711T065217Z
LAST-MODIFIED:20250722T024922Z
UID:15478-1752832800-1756146600@tsukanko.jp
SUMMARY:ポケモンセンター出張所in松菱
DESCRIPTION:津ぅきた！福きた！カムカムフェスタ！２０２５				\n				\n				\n				\n									津市の河芸町内、大里地区内、高野尾町内の商店が一日だけの商店街をつくり、おいしい食べ物や特産品などの販売を行います。一日商店街では、500円お買上げごとに1枚の抽選券を配布しており、豪華賞品が当たるチャンスもあります！ステージイベントでは、和太鼓演奏やキッズダンス、フルート演奏、マジックショーを行います。また昭和の名車が大集合するクラシックカーイベントもございます。イベント終盤には来場者全員が参加できる大クイズ大会（優勝賞品有り、一問目正解者にお菓子プレゼント）も行いますので、ご家族や友人をお誘いあわせのうえ、ご来場ください！ \n※イベントは少雨決行（雨天中止） \n※上記は昨年の情報となります。 \n日時：\n令和７年１１月９日(日)１０：００～１５：００ \n場所：\n河芸第２グラウンド南駐車場 \n（〒510ｰ0314津市河芸町浜田７９３） \n問い合わせ：\n津北商工会（０５９－２４５－５６７８）
URL:https://tsukanko.jp/event/tribe_events-15478/
CATEGORIES:体験型イベント
ATTACH;FMTTYPE=image/jpeg:https://tsukanko.jp/manage/wp-content/uploads/2025/07/87f17e70894c23f304442a056fccd6c3-e1752216658855.jpg
END:VEVENT
BEGIN:VEVENT
DTSTART;TZID=Asia/Tokyo:20250715T093000
DTEND;TZID=Asia/Tokyo:20250715T220000
DTSTAMP:20260423T065256
CREATED:20250707T042858Z
LAST-MODIFIED:20250707T053036Z
UID:15039-1752571800-1752616800@tsukanko.jp
SUMMARY:ざるやぶり神事
DESCRIPTION:津ぅきた！福きた！カムカムフェスタ！２０２５				\n				\n				\n				\n									津市の河芸町内、大里地区内、高野尾町内の商店が一日だけの商店街をつくり、おいしい食べ物や特産品などの販売を行います。一日商店街では、500円お買上げごとに1枚の抽選券を配布しており、豪華賞品が当たるチャンスもあります！ステージイベントでは、和太鼓演奏やキッズダンス、フルート演奏、マジックショーを行います。また昭和の名車が大集合するクラシックカーイベントもございます。イベント終盤には来場者全員が参加できる大クイズ大会（優勝賞品有り、一問目正解者にお菓子プレゼント）も行いますので、ご家族や友人をお誘いあわせのうえ、ご来場ください！ \n※イベントは少雨決行（雨天中止） \n※上記は昨年の情報となります。 \n日時：\n令和７年１１月９日(日)１０：００～１５：００ \n場所：\n河芸第２グラウンド南駐車場 \n（〒510ｰ0314津市河芸町浜田７９３） \n問い合わせ：\n津北商工会（０５９－２４５－５６７８）
URL:https://tsukanko.jp/event/tribe_events-15039/
CATEGORIES:観光イベント
ATTACH;FMTTYPE=image/jpeg:https://tsukanko.jp/manage/wp-content/uploads/2025/07/601B2623-168B-41A1-B89A-881167AFAB03.jpg
END:VEVENT
BEGIN:VEVENT
DTSTART;TZID=Asia/Tokyo:20250711T190000
DTEND;TZID=Asia/Tokyo:20250711T213000
DTSTAMP:20260423T065256
CREATED:20240606T020813Z
LAST-MODIFIED:20250708T011657Z
UID:7198-1752260400-1752269400@tsukanko.jp
SUMMARY:やぶねり
DESCRIPTION:津ぅきた！福きた！カムカムフェスタ！２０２５				\n				\n				\n				\n									津市の河芸町内、大里地区内、高野尾町内の商店が一日だけの商店街をつくり、おいしい食べ物や特産品などの販売を行います。一日商店街では、500円お買上げごとに1枚の抽選券を配布しており、豪華賞品が当たるチャンスもあります！ステージイベントでは、和太鼓演奏やキッズダンス、フルート演奏、マジックショーを行います。また昭和の名車が大集合するクラシックカーイベントもございます。イベント終盤には来場者全員が参加できる大クイズ大会（優勝賞品有り、一問目正解者にお菓子プレゼント）も行いますので、ご家族や友人をお誘いあわせのうえ、ご来場ください！ \n※イベントは少雨決行（雨天中止） \n※上記は昨年の情報となります。 \n日時：\n令和７年１１月９日(日)１０：００～１５：００ \n場所：\n河芸第２グラウンド南駐車場 \n（〒510ｰ0314津市河芸町浜田７９３） \n問い合わせ：\n津北商工会（０５９－２４５－５６７８）
URL:https://tsukanko.jp/event/tribe_events-7198/
LOCATION:八雲神社\, 三重県津市白塚町4558\, 5140101\, 日本
CATEGORIES:観光イベント
ATTACH;FMTTYPE=image/jpeg:https://tsukanko.jp/manage/wp-content/uploads/2024/06/IMG_3599.jpg
END:VEVENT
BEGIN:VEVENT
DTSTART;TZID=Asia/Tokyo:20250709T110000
DTEND;TZID=Asia/Tokyo:20250924T140000
DTSTAMP:20260423T065256
CREATED:20250707T084938Z
LAST-MODIFIED:20250709T075131Z
UID:15196-1752058800-1758722400@tsukanko.jp
SUMMARY:まんなかランチひろば
DESCRIPTION:津ぅきた！福きた！カムカムフェスタ！２０２５				\n				\n				\n				\n									津市の河芸町内、大里地区内、高野尾町内の商店が一日だけの商店街をつくり、おいしい食べ物や特産品などの販売を行います。一日商店街では、500円お買上げごとに1枚の抽選券を配布しており、豪華賞品が当たるチャンスもあります！ステージイベントでは、和太鼓演奏やキッズダンス、フルート演奏、マジックショーを行います。また昭和の名車が大集合するクラシックカーイベントもございます。イベント終盤には来場者全員が参加できる大クイズ大会（優勝賞品有り、一問目正解者にお菓子プレゼント）も行いますので、ご家族や友人をお誘いあわせのうえ、ご来場ください！ \n※イベントは少雨決行（雨天中止） \n※上記は昨年の情報となります。 \n日時：\n令和７年１１月９日(日)１０：００～１５：００ \n場所：\n河芸第２グラウンド南駐車場 \n（〒510ｰ0314津市河芸町浜田７９３） \n問い合わせ：\n津北商工会（０５９－２４５－５６７８）
URL:https://tsukanko.jp/event/tribe_events-15196/
LOCATION:津市
ATTACH;FMTTYPE=image/jpeg:https://tsukanko.jp/manage/wp-content/uploads/2025/07/e544e27133036e065edc451d926c9cbe.jpg
END:VEVENT
BEGIN:VEVENT
DTSTART;TZID=Asia/Tokyo:20250706T120000
DTEND;TZID=Asia/Tokyo:20250706T203000
DTSTAMP:20260423T065256
CREATED:20250515T030020Z
LAST-MODIFIED:20250701T082206Z
UID:14630-1751803200-1751833800@tsukanko.jp
SUMMARY:つ七夕まつり２０２５
DESCRIPTION:津ぅきた！福きた！カムカムフェスタ！２０２５				\n				\n				\n				\n									津市の河芸町内、大里地区内、高野尾町内の商店が一日だけの商店街をつくり、おいしい食べ物や特産品などの販売を行います。一日商店街では、500円お買上げごとに1枚の抽選券を配布しており、豪華賞品が当たるチャンスもあります！ステージイベントでは、和太鼓演奏やキッズダンス、フルート演奏、マジックショーを行います。また昭和の名車が大集合するクラシックカーイベントもございます。イベント終盤には来場者全員が参加できる大クイズ大会（優勝賞品有り、一問目正解者にお菓子プレゼント）も行いますので、ご家族や友人をお誘いあわせのうえ、ご来場ください！ \n※イベントは少雨決行（雨天中止） \n※上記は昨年の情報となります。 \n日時：\n令和７年１１月９日(日)１０：００～１５：００ \n場所：\n河芸第２グラウンド南駐車場 \n（〒510ｰ0314津市河芸町浜田７９３） \n問い合わせ：\n津北商工会（０５９－２４５－５６７８）
URL:https://tsukanko.jp/event/tribe_events-14630/
CATEGORIES:観光イベント,音楽ライブ
ATTACH;FMTTYPE=image/jpeg:https://tsukanko.jp/manage/wp-content/uploads/2024/05/IMG_1663.jpg
END:VEVENT
BEGIN:VEVENT
DTSTART;TZID=Asia/Tokyo:20250706T120000
DTEND;TZID=Asia/Tokyo:20250706T203000
DTSTAMP:20260423T065256
CREATED:20250521T015159Z
LAST-MODIFIED:20250521T020408Z
UID:14677-1751803200-1751833800@tsukanko.jp
SUMMARY:つ七夕祭り2025笹流し
DESCRIPTION:津ぅきた！福きた！カムカムフェスタ！２０２５				\n				\n				\n				\n									津市の河芸町内、大里地区内、高野尾町内の商店が一日だけの商店街をつくり、おいしい食べ物や特産品などの販売を行います。一日商店街では、500円お買上げごとに1枚の抽選券を配布しており、豪華賞品が当たるチャンスもあります！ステージイベントでは、和太鼓演奏やキッズダンス、フルート演奏、マジックショーを行います。また昭和の名車が大集合するクラシックカーイベントもございます。イベント終盤には来場者全員が参加できる大クイズ大会（優勝賞品有り、一問目正解者にお菓子プレゼント）も行いますので、ご家族や友人をお誘いあわせのうえ、ご来場ください！ \n※イベントは少雨決行（雨天中止） \n※上記は昨年の情報となります。 \n日時：\n令和７年１１月９日(日)１０：００～１５：００ \n場所：\n河芸第２グラウンド南駐車場 \n（〒510ｰ0314津市河芸町浜田７９３） \n問い合わせ：\n津北商工会（０５９－２４５－５６７８）
URL:https://tsukanko.jp/event/tribe_events-14677/
CATEGORIES:体験型イベント,観光イベント,音楽ライブ
ATTACH;FMTTYPE=image/jpeg:https://tsukanko.jp/manage/wp-content/uploads/2025/05/IMG_1716-1.jpg
END:VEVENT
BEGIN:VEVENT
DTSTART;TZID=Asia/Tokyo:20250705T190000
DTEND;TZID=Asia/Tokyo:20250705T220000
DTSTAMP:20260423T065256
CREATED:20240527T084943Z
LAST-MODIFIED:20250522T020056Z
UID:7075-1751742000-1751752800@tsukanko.jp
SUMMARY:町屋百人衆「巨大龍踊り」
DESCRIPTION:津ぅきた！福きた！カムカムフェスタ！２０２５				\n				\n				\n				\n									津市の河芸町内、大里地区内、高野尾町内の商店が一日だけの商店街をつくり、おいしい食べ物や特産品などの販売を行います。一日商店街では、500円お買上げごとに1枚の抽選券を配布しており、豪華賞品が当たるチャンスもあります！ステージイベントでは、和太鼓演奏やキッズダンス、フルート演奏、マジックショーを行います。また昭和の名車が大集合するクラシックカーイベントもございます。イベント終盤には来場者全員が参加できる大クイズ大会（優勝賞品有り、一問目正解者にお菓子プレゼント）も行いますので、ご家族や友人をお誘いあわせのうえ、ご来場ください！ \n※イベントは少雨決行（雨天中止） \n※上記は昨年の情報となります。 \n日時：\n令和７年１１月９日(日)１０：００～１５：００ \n場所：\n河芸第２グラウンド南駐車場 \n（〒510ｰ0314津市河芸町浜田７９３） \n問い合わせ：\n津北商工会（０５９－２４５－５６７８）
URL:https://tsukanko.jp/event/tribe_events-7075/
CATEGORIES:観光イベント
ATTACH;FMTTYPE=image/jpeg:https://tsukanko.jp/manage/wp-content/uploads/2024/05/IMG_3424.jpg
END:VEVENT
BEGIN:VEVENT
DTSTART;TZID=Asia/Tokyo:20250705T100000
DTEND;TZID=Asia/Tokyo:20250705T180000
DTSTAMP:20260423T065256
CREATED:20250512T082951Z
LAST-MODIFIED:20250512T085136Z
UID:14530-1751709600-1751738400@tsukanko.jp
SUMMARY:第42回一身田七夕まつり
DESCRIPTION:津ぅきた！福きた！カムカムフェスタ！２０２５				\n				\n				\n				\n									津市の河芸町内、大里地区内、高野尾町内の商店が一日だけの商店街をつくり、おいしい食べ物や特産品などの販売を行います。一日商店街では、500円お買上げごとに1枚の抽選券を配布しており、豪華賞品が当たるチャンスもあります！ステージイベントでは、和太鼓演奏やキッズダンス、フルート演奏、マジックショーを行います。また昭和の名車が大集合するクラシックカーイベントもございます。イベント終盤には来場者全員が参加できる大クイズ大会（優勝賞品有り、一問目正解者にお菓子プレゼント）も行いますので、ご家族や友人をお誘いあわせのうえ、ご来場ください！ \n※イベントは少雨決行（雨天中止） \n※上記は昨年の情報となります。 \n日時：\n令和７年１１月９日(日)１０：００～１５：００ \n場所：\n河芸第２グラウンド南駐車場 \n（〒510ｰ0314津市河芸町浜田７９３） \n問い合わせ：\n津北商工会（０５９－２４５－５６７８）
URL:https://tsukanko.jp/event/tribe_events-14530/
LOCATION:一身田寺内町周辺
CATEGORIES:体験型イベント
ATTACH;FMTTYPE=image/jpeg:https://tsukanko.jp/manage/wp-content/uploads/2025/05/06cc51cffff17a706ec1a71bc9cf4684.jpg
END:VEVENT
BEGIN:VEVENT
DTSTART;TZID=Asia/Tokyo:20250609T143000
DTEND;TZID=Asia/Tokyo:20250609T200000
DTSTAMP:20260423T065256
CREATED:20250526T073615Z
LAST-MODIFIED:20250527T041552Z
UID:14754-1749479400-1749499200@tsukanko.jp
SUMMARY:御樋代木奉迎送行事（6月9日(月)三重縣護国神社）
DESCRIPTION:津ぅきた！福きた！カムカムフェスタ！２０２５				\n				\n				\n				\n									津市の河芸町内、大里地区内、高野尾町内の商店が一日だけの商店街をつくり、おいしい食べ物や特産品などの販売を行います。一日商店街では、500円お買上げごとに1枚の抽選券を配布しており、豪華賞品が当たるチャンスもあります！ステージイベントでは、和太鼓演奏やキッズダンス、フルート演奏、マジックショーを行います。また昭和の名車が大集合するクラシックカーイベントもございます。イベント終盤には来場者全員が参加できる大クイズ大会（優勝賞品有り、一問目正解者にお菓子プレゼント）も行いますので、ご家族や友人をお誘いあわせのうえ、ご来場ください！ \n※イベントは少雨決行（雨天中止） \n※上記は昨年の情報となります。 \n日時：\n令和７年１１月９日(日)１０：００～１５：００ \n場所：\n河芸第２グラウンド南駐車場 \n（〒510ｰ0314津市河芸町浜田７９３） \n問い合わせ：\n津北商工会（０５９－２４５－５６７８）
URL:https://tsukanko.jp/event/tribe_events-14754/
CATEGORIES:体験型イベント,観光イベント
ATTACH;FMTTYPE=image/jpeg:https://tsukanko.jp/manage/wp-content/uploads/2025/05/20250526163515-0001.jpg
END:VEVENT
END:VCALENDAR