BEGIN:VCALENDAR
VERSION:2.0
PRODID:-//津の時間。（津市観光協会） - ECPv6.15.17.1//NONSGML v1.0//EN
CALSCALE:GREGORIAN
METHOD:PUBLISH
X-WR-CALNAME:津の時間。（津市観光協会）
X-ORIGINAL-URL:https://tsukanko.jp
X-WR-CALDESC:津の時間。（津市観光協会） のイベント
REFRESH-INTERVAL;VALUE=DURATION:PT1H
X-Robots-Tag:noindex
X-PUBLISHED-TTL:PT1H
BEGIN:VTIMEZONE
TZID:Asia/Tokyo
BEGIN:STANDARD
TZOFFSETFROM:+0900
TZOFFSETTO:+0900
TZNAME:JST
DTSTART:20240101T000000
END:STANDARD
END:VTIMEZONE
BEGIN:VEVENT
DTSTART;TZID=Asia/Tokyo:20260328T090000
DTEND;TZID=Asia/Tokyo:20260329T170000
DTSTAMP:20260420T124032
CREATED:20250225T032034Z
LAST-MODIFIED:20260309T054350Z
UID:13084-1774688400-1774803600@tsukanko.jp
SUMMARY:久居駐屯地桜まつり
DESCRIPTION:第3回レッ津ローカライズフェスティバル２０２５				\n				\n				\n				\n									地域密着（ローカライズ）のハブ拠点として、「ホテル津センターパレス」が入場無料で大広間を開放してお贈りするグルメと芸事の祭典「レッ津ローカライズ！フェスティバル２０２５」のお知らせです。 今年は大泉洋さん出演の伝説的バラエティ番組「水曜どうでしょう」とのコラボレーション企画が実現。１０月１日(水)に津観音・大門大通り商店街で行われる「水曜どうでしょうキャラバンin三重県津市」の最新情報が本イベントで初公開されます。 日時：令和７年９月５日(金)１７：００～２１：００ 内容：・地元グルメ・カフェ・スイーツが一堂に集結！ ・地元河芸町の黒田米の新米が登場！ ・水曜どうでしょうキャラバンの最新情報をいち早く発表！ 入場料：入場無料 場所：ホテル津センターパレス
URL:https://tsukanko.jp/event/tribe_events-13084/
LOCATION:陸上自衛隊久居駐屯地\, 三重県津市久居井戸山町９７５\, 514-1114
CATEGORIES:観光イベント
ATTACH;FMTTYPE=image/jpeg:https://tsukanko.jp/manage/wp-content/uploads/2025/02/ef74ebba65eacd15ae143e702a7dc63e.jpg
END:VEVENT
BEGIN:VEVENT
DTSTART;VALUE=DATE:20260327
DTEND;VALUE=DATE:20260413
DTSTAMP:20260420T124032
CREATED:20240325T092445Z
LAST-MODIFIED:20260219T084834Z
UID:5835-1774569600-1776038399@tsukanko.jp
SUMMARY:津偕楽公園春まつり（令和８年）
DESCRIPTION:第3回レッ津ローカライズフェスティバル２０２５				\n				\n				\n				\n									地域密着（ローカライズ）のハブ拠点として、「ホテル津センターパレス」が入場無料で大広間を開放してお贈りするグルメと芸事の祭典「レッ津ローカライズ！フェスティバル２０２５」のお知らせです。 今年は大泉洋さん出演の伝説的バラエティ番組「水曜どうでしょう」とのコラボレーション企画が実現。１０月１日(水)に津観音・大門大通り商店街で行われる「水曜どうでしょうキャラバンin三重県津市」の最新情報が本イベントで初公開されます。 日時：令和７年９月５日(金)１７：００～２１：００ 内容：・地元グルメ・カフェ・スイーツが一堂に集結！ ・地元河芸町の黒田米の新米が登場！ ・水曜どうでしょうキャラバンの最新情報をいち早く発表！ 入場料：入場無料 場所：ホテル津センターパレス
URL:https://tsukanko.jp/event/tribe_events-5835/
LOCATION:非公開: 津偕楽公園\, 津市広明町147-1\, 514-0006
CATEGORIES:グルメイベント,体験型イベント,観光イベント
ATTACH;FMTTYPE=image/jpeg:https://tsukanko.jp/manage/wp-content/uploads/2024/03/2C21F9CE-F9B5-426C-B61A-93F2FE78563D.jpeg
END:VEVENT
BEGIN:VEVENT
DTSTART;TZID=Asia/Tokyo:20260320T100000
DTEND;TZID=Asia/Tokyo:20260607T050000
DTSTAMP:20260420T124032
CREATED:20260416T085912Z
LAST-MODIFIED:20260417T005300Z
UID:18857-1774000800-1780808400@tsukanko.jp
SUMMARY:伊勢商人の商い（ビジネス）と文化（カルチャー）
DESCRIPTION:第3回レッ津ローカライズフェスティバル２０２５				\n				\n				\n				\n									地域密着（ローカライズ）のハブ拠点として、「ホテル津センターパレス」が入場無料で大広間を開放してお贈りするグルメと芸事の祭典「レッ津ローカライズ！フェスティバル２０２５」のお知らせです。 今年は大泉洋さん出演の伝説的バラエティ番組「水曜どうでしょう」とのコラボレーション企画が実現。１０月１日(水)に津観音・大門大通り商店街で行われる「水曜どうでしょうキャラバンin三重県津市」の最新情報が本イベントで初公開されます。 日時：令和７年９月５日(金)１７：００～２１：００ 内容：・地元グルメ・カフェ・スイーツが一堂に集結！ ・地元河芸町の黒田米の新米が登場！ ・水曜どうでしょうキャラバンの最新情報をいち早く発表！ 入場料：入場無料 場所：ホテル津センターパレス
URL:https://tsukanko.jp/event/tribe_events-18857/
LOCATION:石水博物館\, 三重県津市垂水3032番地18\, 514-0821
CATEGORIES:体験型イベント
ATTACH;FMTTYPE=image/jpeg:https://tsukanko.jp/manage/wp-content/uploads/2026/04/20260416170103-0005.jpg
END:VEVENT
BEGIN:VEVENT
DTSTART;TZID=Asia/Tokyo:20260320T100000
DTEND;TZID=Asia/Tokyo:20260320T150000
DTSTAMP:20260420T124032
CREATED:20260310T083524Z
LAST-MODIFIED:20260310T090140Z
UID:18270-1774000800-1774018800@tsukanko.jp
SUMMARY:おやこで学ぼう！赤十字フェスティバル
DESCRIPTION:第3回レッ津ローカライズフェスティバル２０２５				\n				\n				\n				\n									地域密着（ローカライズ）のハブ拠点として、「ホテル津センターパレス」が入場無料で大広間を開放してお贈りするグルメと芸事の祭典「レッ津ローカライズ！フェスティバル２０２５」のお知らせです。 今年は大泉洋さん出演の伝説的バラエティ番組「水曜どうでしょう」とのコラボレーション企画が実現。１０月１日(水)に津観音・大門大通り商店街で行われる「水曜どうでしょうキャラバンin三重県津市」の最新情報が本イベントで初公開されます。 日時：令和７年９月５日(金)１７：００～２１：００ 内容：・地元グルメ・カフェ・スイーツが一堂に集結！ ・地元河芸町の黒田米の新米が登場！ ・水曜どうでしょうキャラバンの最新情報をいち早く発表！ 入場料：入場無料 場所：ホテル津センターパレス
URL:https://tsukanko.jp/event/tribe_events-18270/
CATEGORIES:グルメイベント,体験型イベント
ATTACH;FMTTYPE=image/jpeg:https://tsukanko.jp/manage/wp-content/uploads/2026/03/20260310165943-0001.jpg
END:VEVENT
BEGIN:VEVENT
DTSTART;TZID=Asia/Tokyo:20260308T100000
DTEND;TZID=Asia/Tokyo:20260308T150000
DTSTAMP:20260420T124032
CREATED:20260126T043810Z
LAST-MODIFIED:20260126T044922Z
UID:17651-1772964000-1772982000@tsukanko.jp
SUMMARY:第12回郷土芸能ふれあいフェスティバル
DESCRIPTION:第3回レッ津ローカライズフェスティバル２０２５				\n				\n				\n				\n									地域密着（ローカライズ）のハブ拠点として、「ホテル津センターパレス」が入場無料で大広間を開放してお贈りするグルメと芸事の祭典「レッ津ローカライズ！フェスティバル２０２５」のお知らせです。 今年は大泉洋さん出演の伝説的バラエティ番組「水曜どうでしょう」とのコラボレーション企画が実現。１０月１日(水)に津観音・大門大通り商店街で行われる「水曜どうでしょうキャラバンin三重県津市」の最新情報が本イベントで初公開されます。 日時：令和７年９月５日(金)１７：００～２１：００ 内容：・地元グルメ・カフェ・スイーツが一堂に集結！ ・地元河芸町の黒田米の新米が登場！ ・水曜どうでしょうキャラバンの最新情報をいち早く発表！ 入場料：入場無料 場所：ホテル津センターパレス
URL:https://tsukanko.jp/event/tribe_events-17651/
LOCATION:津市河芸公民館\, 津市河芸町浜田742\, 5140314
CATEGORIES:グルメイベント,音楽ライブ
ATTACH;FMTTYPE=image/jpeg:https://tsukanko.jp/manage/wp-content/uploads/2026/01/20260126130505-0001.jpg
END:VEVENT
BEGIN:VEVENT
DTSTART;TZID=Asia/Tokyo:20260223T130000
DTEND;TZID=Asia/Tokyo:20260223T150000
DTSTAMP:20260420T124032
CREATED:20260116T014905Z
LAST-MODIFIED:20260219T090241Z
UID:17523-1771851600-1771858800@tsukanko.jp
SUMMARY:津城復元第十回資金造成チャリティーコンサート
DESCRIPTION:第3回レッ津ローカライズフェスティバル２０２５				\n				\n				\n				\n									地域密着（ローカライズ）のハブ拠点として、「ホテル津センターパレス」が入場無料で大広間を開放してお贈りするグルメと芸事の祭典「レッ津ローカライズ！フェスティバル２０２５」のお知らせです。 今年は大泉洋さん出演の伝説的バラエティ番組「水曜どうでしょう」とのコラボレーション企画が実現。１０月１日(水)に津観音・大門大通り商店街で行われる「水曜どうでしょうキャラバンin三重県津市」の最新情報が本イベントで初公開されます。 日時：令和７年９月５日(金)１７：００～２１：００ 内容：・地元グルメ・カフェ・スイーツが一堂に集結！ ・地元河芸町の黒田米の新米が登場！ ・水曜どうでしょうキャラバンの最新情報をいち早く発表！ 入場料：入場無料 場所：ホテル津センターパレス
URL:https://tsukanko.jp/event/tribe_events-17523/
LOCATION:津リージョンプラザお城ホール\, 三重県津市西丸之内２３−１ ３階\, 〒514-0035
CATEGORIES:音楽ライブ
ATTACH;FMTTYPE=image/jpeg:https://tsukanko.jp/manage/wp-content/uploads/2026/01/20260114153133-0001.jpg
END:VEVENT
BEGIN:VEVENT
DTSTART;TZID=Asia/Tokyo:20260221T100000
DTEND;TZID=Asia/Tokyo:20260222T150000
DTSTAMP:20260420T124032
CREATED:20241209T055509Z
LAST-MODIFIED:20260219T042634Z
UID:11653-1771668000-1771772400@tsukanko.jp
SUMMARY:第13回スイーつフェスタ
DESCRIPTION:第3回レッ津ローカライズフェスティバル２０２５				\n				\n				\n				\n									地域密着（ローカライズ）のハブ拠点として、「ホテル津センターパレス」が入場無料で大広間を開放してお贈りするグルメと芸事の祭典「レッ津ローカライズ！フェスティバル２０２５」のお知らせです。 今年は大泉洋さん出演の伝説的バラエティ番組「水曜どうでしょう」とのコラボレーション企画が実現。１０月１日(水)に津観音・大門大通り商店街で行われる「水曜どうでしょうキャラバンin三重県津市」の最新情報が本イベントで初公開されます。 日時：令和７年９月５日(金)１７：００～２１：００ 内容：・地元グルメ・カフェ・スイーツが一堂に集結！ ・地元河芸町の黒田米の新米が登場！ ・水曜どうでしょうキャラバンの最新情報をいち早く発表！ 入場料：入場無料 場所：ホテル津センターパレス
URL:https://tsukanko.jp/event/tribe_events-11653/
LOCATION:イオンタウン津城山\, 三重県津市久居小野辺町１１３０−７\, 514-1112
CATEGORIES:グルメイベント
ATTACH;FMTTYPE=image/jpeg:https://tsukanko.jp/manage/wp-content/uploads/2026/01/4a7860a125b6cfa3a0243935a88b553e-724x1024-1.jpg
END:VEVENT
BEGIN:VEVENT
DTSTART;TZID=Asia/Tokyo:20260213T080000
DTEND;TZID=Asia/Tokyo:20260322T170000
DTSTAMP:20260420T124032
CREATED:20250108T073437Z
LAST-MODIFIED:20260105T074335Z
UID:12001-1770969600-1774198800@tsukanko.jp
SUMMARY:かざはやの里梅まつり
DESCRIPTION:第3回レッ津ローカライズフェスティバル２０２５				\n				\n				\n				\n									地域密着（ローカライズ）のハブ拠点として、「ホテル津センターパレス」が入場無料で大広間を開放してお贈りするグルメと芸事の祭典「レッ津ローカライズ！フェスティバル２０２５」のお知らせです。 今年は大泉洋さん出演の伝説的バラエティ番組「水曜どうでしょう」とのコラボレーション企画が実現。１０月１日(水)に津観音・大門大通り商店街で行われる「水曜どうでしょうキャラバンin三重県津市」の最新情報が本イベントで初公開されます。 日時：令和７年９月５日(金)１７：００～２１：００ 内容：・地元グルメ・カフェ・スイーツが一堂に集結！ ・地元河芸町の黒田米の新米が登場！ ・水曜どうでしょうキャラバンの最新情報をいち早く発表！ 入場料：入場無料 場所：ホテル津センターパレス
URL:https://tsukanko.jp/event/tribe_events-12001/
LOCATION:かざはやの里\, 514-1138\, 三重県津市戸木町４０９６ 伊勢温泉ゴルフクラブ内
CATEGORIES:観光イベント
ATTACH;FMTTYPE=image/jpeg:https://tsukanko.jp/manage/wp-content/uploads/2025/01/28e87d38c5fbeb2c1e28259f9566709e.jpg
END:VEVENT
BEGIN:VEVENT
DTSTART;TZID=Asia/Tokyo:20260211T113000
DTEND;TZID=Asia/Tokyo:20260211T113000
DTSTAMP:20260420T124032
CREATED:20260113T083237Z
LAST-MODIFIED:20260113T084112Z
UID:17510-1770809400-1770809400@tsukanko.jp
SUMMARY:千手院賢明寺　人形供養
DESCRIPTION:第3回レッ津ローカライズフェスティバル２０２５				\n				\n				\n				\n									地域密着（ローカライズ）のハブ拠点として、「ホテル津センターパレス」が入場無料で大広間を開放してお贈りするグルメと芸事の祭典「レッ津ローカライズ！フェスティバル２０２５」のお知らせです。 今年は大泉洋さん出演の伝説的バラエティ番組「水曜どうでしょう」とのコラボレーション企画が実現。１０月１日(水)に津観音・大門大通り商店街で行われる「水曜どうでしょうキャラバンin三重県津市」の最新情報が本イベントで初公開されます。 日時：令和７年９月５日(金)１７：００～２１：００ 内容：・地元グルメ・カフェ・スイーツが一堂に集結！ ・地元河芸町の黒田米の新米が登場！ ・水曜どうでしょうキャラバンの最新情報をいち早く発表！ 入場料：入場無料 場所：ホテル津センターパレス
URL:https://tsukanko.jp/event/tribe_events-17510/
CATEGORIES:体験型イベント,観光イベント
ATTACH;FMTTYPE=image/jpeg:https://tsukanko.jp/manage/wp-content/uploads/2025/07/20260113101151-0001.jpg
END:VEVENT
BEGIN:VEVENT
DTSTART;TZID=Asia/Tokyo:20260211T100000
DTEND;TZID=Asia/Tokyo:20260211T113000
DTSTAMP:20260420T124032
CREATED:20250115T013638Z
LAST-MODIFIED:20260129T070038Z
UID:12147-1770804000-1770809400@tsukanko.jp
SUMMARY:ごんぼ祭り（牛蒡祭り）
DESCRIPTION:第3回レッ津ローカライズフェスティバル２０２５				\n				\n				\n				\n									地域密着（ローカライズ）のハブ拠点として、「ホテル津センターパレス」が入場無料で大広間を開放してお贈りするグルメと芸事の祭典「レッ津ローカライズ！フェスティバル２０２５」のお知らせです。 今年は大泉洋さん出演の伝説的バラエティ番組「水曜どうでしょう」とのコラボレーション企画が実現。１０月１日(水)に津観音・大門大通り商店街で行われる「水曜どうでしょうキャラバンin三重県津市」の最新情報が本イベントで初公開されます。 日時：令和７年９月５日(金)１７：００～２１：００ 内容：・地元グルメ・カフェ・スイーツが一堂に集結！ ・地元河芸町の黒田米の新米が登場！ ・水曜どうでしょうキャラバンの最新情報をいち早く発表！ 入場料：入場無料 場所：ホテル津センターパレス
URL:https://tsukanko.jp/event/tribe_events-12147/
LOCATION:仲山神社\, 三重県津市美杉町下之川５２９３\, 〒515-3203
CATEGORIES:観光イベント
ATTACH;FMTTYPE=image/jpeg:https://tsukanko.jp/manage/wp-content/uploads/2025/01/IMG_8609.jpg
END:VEVENT
BEGIN:VEVENT
DTSTART;TZID=Asia/Tokyo:20260208T090000
DTEND;TZID=Asia/Tokyo:20260208T130000
DTSTAMP:20260420T124032
CREATED:20250926T020703Z
LAST-MODIFIED:20250926T043909Z
UID:16423-1770541200-1770555600@tsukanko.jp
SUMMARY:第19回津シティマラソン2026
DESCRIPTION:第3回レッ津ローカライズフェスティバル２０２５				\n				\n				\n				\n									地域密着（ローカライズ）のハブ拠点として、「ホテル津センターパレス」が入場無料で大広間を開放してお贈りするグルメと芸事の祭典「レッ津ローカライズ！フェスティバル２０２５」のお知らせです。 今年は大泉洋さん出演の伝説的バラエティ番組「水曜どうでしょう」とのコラボレーション企画が実現。１０月１日(水)に津観音・大門大通り商店街で行われる「水曜どうでしょうキャラバンin三重県津市」の最新情報が本イベントで初公開されます。 日時：令和７年９月５日(金)１７：００～２１：００ 内容：・地元グルメ・カフェ・スイーツが一堂に集結！ ・地元河芸町の黒田米の新米が登場！ ・水曜どうでしょうキャラバンの最新情報をいち早く発表！ 入場料：入場無料 場所：ホテル津センターパレス
URL:https://tsukanko.jp/event/tribe_events-16423/
LOCATION:津市産業・スポーツセンター\, 津市北河路町１９番地１\, 514-0056
CATEGORIES:グルメイベント,プレイイベント,体験型イベント
ATTACH;FMTTYPE=image/jpeg:https://tsukanko.jp/manage/wp-content/uploads/2025/09/451f0d5507319f4030084964369a46a7.jpg
END:VEVENT
BEGIN:VEVENT
DTSTART;TZID=Asia/Tokyo:20260203T130000
DTEND;TZID=Asia/Tokyo:20260203T180000
DTSTAMP:20260420T124032
CREATED:20260113T062227Z
LAST-MODIFIED:20260113T082807Z
UID:17486-1770123600-1770141600@tsukanko.jp
SUMMARY:千手院賢明寺　節分会式厄除祈祷式･豆まき
DESCRIPTION:第3回レッ津ローカライズフェスティバル２０２５				\n				\n				\n				\n									地域密着（ローカライズ）のハブ拠点として、「ホテル津センターパレス」が入場無料で大広間を開放してお贈りするグルメと芸事の祭典「レッ津ローカライズ！フェスティバル２０２５」のお知らせです。 今年は大泉洋さん出演の伝説的バラエティ番組「水曜どうでしょう」とのコラボレーション企画が実現。１０月１日(水)に津観音・大門大通り商店街で行われる「水曜どうでしょうキャラバンin三重県津市」の最新情報が本イベントで初公開されます。 日時：令和７年９月５日(金)１７：００～２１：００ 内容：・地元グルメ・カフェ・スイーツが一堂に集結！ ・地元河芸町の黒田米の新米が登場！ ・水曜どうでしょうキャラバンの最新情報をいち早く発表！ 入場料：入場無料 場所：ホテル津センターパレス
URL:https://tsukanko.jp/event/tribe_events-17486/
CATEGORIES:体験型イベント,観光イベント
ATTACH;FMTTYPE=image/jpeg:https://tsukanko.jp/manage/wp-content/uploads/2025/07/20260113101151-0002.jpg
END:VEVENT
BEGIN:VEVENT
DTSTART;TZID=Asia/Tokyo:20260201T130000
DTEND;TZID=Asia/Tokyo:20260201T130000
DTSTAMP:20260420T124032
CREATED:20251211T093936Z
LAST-MODIFIED:20260109T015627Z
UID:11676-1769950800-1769950800@tsukanko.jp
SUMMARY:津観音鬼押さえ節分
DESCRIPTION:第3回レッ津ローカライズフェスティバル２０２５				\n				\n				\n				\n									地域密着（ローカライズ）のハブ拠点として、「ホテル津センターパレス」が入場無料で大広間を開放してお贈りするグルメと芸事の祭典「レッ津ローカライズ！フェスティバル２０２５」のお知らせです。 今年は大泉洋さん出演の伝説的バラエティ番組「水曜どうでしょう」とのコラボレーション企画が実現。１０月１日(水)に津観音・大門大通り商店街で行われる「水曜どうでしょうキャラバンin三重県津市」の最新情報が本イベントで初公開されます。 日時：令和７年９月５日(金)１７：００～２１：００ 内容：・地元グルメ・カフェ・スイーツが一堂に集結！ ・地元河芸町の黒田米の新米が登場！ ・水曜どうでしょうキャラバンの最新情報をいち早く発表！ 入場料：入場無料 場所：ホテル津センターパレス
URL:https://tsukanko.jp/event/tribe_events-11676/
CATEGORIES:体験型イベント,観光イベント
ATTACH;FMTTYPE=image/jpeg:https://tsukanko.jp/manage/wp-content/uploads/2024/12/IMG_5797.jpg
END:VEVENT
BEGIN:VEVENT
DTSTART;TZID=Asia/Tokyo:20260117T090000
DTEND;TZID=Asia/Tokyo:20260405T170000
DTSTAMP:20260420T124032
CREATED:20260108T083621Z
LAST-MODIFIED:20260219T025901Z
UID:17426-1768640400-1775408400@tsukanko.jp
SUMMARY:特別展　第42回企画展「ポケモン化石博物館」
DESCRIPTION:第3回レッ津ローカライズフェスティバル２０２５				\n				\n				\n				\n									地域密着（ローカライズ）のハブ拠点として、「ホテル津センターパレス」が入場無料で大広間を開放してお贈りするグルメと芸事の祭典「レッ津ローカライズ！フェスティバル２０２５」のお知らせです。 今年は大泉洋さん出演の伝説的バラエティ番組「水曜どうでしょう」とのコラボレーション企画が実現。１０月１日(水)に津観音・大門大通り商店街で行われる「水曜どうでしょうキャラバンin三重県津市」の最新情報が本イベントで初公開されます。 日時：令和７年９月５日(金)１７：００～２１：００ 内容：・地元グルメ・カフェ・スイーツが一堂に集結！ ・地元河芸町の黒田米の新米が登場！ ・水曜どうでしょうキャラバンの最新情報をいち早く発表！ 入場料：入場無料 場所：ホテル津センターパレス
URL:https://tsukanko.jp/event/tribe_events-17426/
CATEGORIES:体験型イベント,観光イベント
ATTACH;FMTTYPE=image/jpeg:https://tsukanko.jp/manage/wp-content/uploads/2026/01/f9c32a3cfe472f12a7e3db3c591227f7.jpg
END:VEVENT
BEGIN:VEVENT
DTSTART;TZID=Asia/Tokyo:20260114T110000
DTEND;TZID=Asia/Tokyo:20260311T140000
DTSTAMP:20260420T124032
CREATED:20260106T062823Z
LAST-MODIFIED:20260106T065754Z
UID:17405-1768388400-1773237600@tsukanko.jp
SUMMARY:まんなかランチひろば
DESCRIPTION:第3回レッ津ローカライズフェスティバル２０２５				\n				\n				\n				\n									地域密着（ローカライズ）のハブ拠点として、「ホテル津センターパレス」が入場無料で大広間を開放してお贈りするグルメと芸事の祭典「レッ津ローカライズ！フェスティバル２０２５」のお知らせです。 今年は大泉洋さん出演の伝説的バラエティ番組「水曜どうでしょう」とのコラボレーション企画が実現。１０月１日(水)に津観音・大門大通り商店街で行われる「水曜どうでしょうキャラバンin三重県津市」の最新情報が本イベントで初公開されます。 日時：令和７年９月５日(金)１７：００～２１：００ 内容：・地元グルメ・カフェ・スイーツが一堂に集結！ ・地元河芸町の黒田米の新米が登場！ ・水曜どうでしょうキャラバンの最新情報をいち早く発表！ 入場料：入場無料 場所：ホテル津センターパレス
URL:https://tsukanko.jp/event/tribe_events-17405/
LOCATION:津市
ATTACH;FMTTYPE=image/jpeg:https://tsukanko.jp/manage/wp-content/uploads/2026/01/65ddee750319276cbe4dab4cf76f085f.jpg
END:VEVENT
BEGIN:VEVENT
DTSTART;TZID=Asia/Tokyo:20260112T110000
DTEND;TZID=Asia/Tokyo:20260112T120000
DTSTAMP:20260420T124032
CREATED:20231228T104934Z
LAST-MODIFIED:20260112T011500Z
UID:2851-1768215600-1768219200@tsukanko.jp
SUMMARY:泅水術観海流　寒中水泳
DESCRIPTION:第3回レッ津ローカライズフェスティバル２０２５				\n				\n				\n				\n									地域密着（ローカライズ）のハブ拠点として、「ホテル津センターパレス」が入場無料で大広間を開放してお贈りするグルメと芸事の祭典「レッ津ローカライズ！フェスティバル２０２５」のお知らせです。 今年は大泉洋さん出演の伝説的バラエティ番組「水曜どうでしょう」とのコラボレーション企画が実現。１０月１日(水)に津観音・大門大通り商店街で行われる「水曜どうでしょうキャラバンin三重県津市」の最新情報が本イベントで初公開されます。 日時：令和７年９月５日(金)１７：００～２１：００ 内容：・地元グルメ・カフェ・スイーツが一堂に集結！ ・地元河芸町の黒田米の新米が登場！ ・水曜どうでしょうキャラバンの最新情報をいち早く発表！ 入場料：入場無料 場所：ホテル津センターパレス
URL:https://tsukanko.jp/event/tribe_events-2851/
LOCATION:阿漕浦海岸\, 三重県津市津興 港中道北官370\, 〒514-0803
CATEGORIES:観光イベント
ATTACH;FMTTYPE=image/jpeg:https://tsukanko.jp/manage/wp-content/uploads/2023/12/IMGP6618.jpg
END:VEVENT
BEGIN:VEVENT
DTSTART;VALUE=DATE:20260109
DTEND;VALUE=DATE:20260117
DTSTAMP:20260420T124032
CREATED:20231228T104852Z
LAST-MODIFIED:20251227T060544Z
UID:2849-1767916800-1768607999@tsukanko.jp
SUMMARY:お七夜
DESCRIPTION:第3回レッ津ローカライズフェスティバル２０２５				\n				\n				\n				\n									地域密着（ローカライズ）のハブ拠点として、「ホテル津センターパレス」が入場無料で大広間を開放してお贈りするグルメと芸事の祭典「レッ津ローカライズ！フェスティバル２０２５」のお知らせです。 今年は大泉洋さん出演の伝説的バラエティ番組「水曜どうでしょう」とのコラボレーション企画が実現。１０月１日(水)に津観音・大門大通り商店街で行われる「水曜どうでしょうキャラバンin三重県津市」の最新情報が本イベントで初公開されます。 日時：令和７年９月５日(金)１７：００～２１：００ 内容：・地元グルメ・カフェ・スイーツが一堂に集結！ ・地元河芸町の黒田米の新米が登場！ ・水曜どうでしょうキャラバンの最新情報をいち早く発表！ 入場料：入場無料 場所：ホテル津センターパレス
URL:https://tsukanko.jp/event/tribe_events-2849/
CATEGORIES:プレイイベント,観光イベント
ATTACH;FMTTYPE=image/jpeg:https://tsukanko.jp/manage/wp-content/uploads/2025/01/ositiya.jpg
END:VEVENT
BEGIN:VEVENT
DTSTART;TZID=Asia/Tokyo:20251229T100000
DTEND;TZID=Asia/Tokyo:20251231T040000
DTSTAMP:20260420T124032
CREATED:20241205T092204Z
LAST-MODIFIED:20251224T060238Z
UID:11603-1767002400-1767153600@tsukanko.jp
SUMMARY:北山水産カニ祭り
DESCRIPTION:第3回レッ津ローカライズフェスティバル２０２５				\n				\n				\n				\n									地域密着（ローカライズ）のハブ拠点として、「ホテル津センターパレス」が入場無料で大広間を開放してお贈りするグルメと芸事の祭典「レッ津ローカライズ！フェスティバル２０２５」のお知らせです。 今年は大泉洋さん出演の伝説的バラエティ番組「水曜どうでしょう」とのコラボレーション企画が実現。１０月１日(水)に津観音・大門大通り商店街で行われる「水曜どうでしょうキャラバンin三重県津市」の最新情報が本イベントで初公開されます。 日時：令和７年９月５日(金)１７：００～２１：００ 内容：・地元グルメ・カフェ・スイーツが一堂に集結！ ・地元河芸町の黒田米の新米が登場！ ・水曜どうでしょうキャラバンの最新情報をいち早く発表！ 入場料：入場無料 場所：ホテル津センターパレス
URL:https://tsukanko.jp/event/tribe_events-11603/
LOCATION:北山水産\, 三重県河芸町一色2842-1\, 510-0306
CATEGORIES:グルメイベント
ATTACH;FMTTYPE=image/jpeg:https://tsukanko.jp/manage/wp-content/uploads/2024/12/IMG_3932.jpg
END:VEVENT
BEGIN:VEVENT
DTSTART;TZID=Asia/Tokyo:20251220T170000
DTEND;TZID=Asia/Tokyo:20260112T220000
DTSTAMP:20260420T124032
CREATED:20251125T043631Z
LAST-MODIFIED:20251215T062736Z
UID:17020-1766250000-1768255200@tsukanko.jp
SUMMARY:久居のイルミネーション２０２５
DESCRIPTION:第3回レッ津ローカライズフェスティバル２０２５				\n				\n				\n				\n									地域密着（ローカライズ）のハブ拠点として、「ホテル津センターパレス」が入場無料で大広間を開放してお贈りするグルメと芸事の祭典「レッ津ローカライズ！フェスティバル２０２５」のお知らせです。 今年は大泉洋さん出演の伝説的バラエティ番組「水曜どうでしょう」とのコラボレーション企画が実現。１０月１日(水)に津観音・大門大通り商店街で行われる「水曜どうでしょうキャラバンin三重県津市」の最新情報が本イベントで初公開されます。 日時：令和７年９月５日(金)１７：００～２１：００ 内容：・地元グルメ・カフェ・スイーツが一堂に集結！ ・地元河芸町の黒田米の新米が登場！ ・水曜どうでしょうキャラバンの最新情報をいち早く発表！ 入場料：入場無料 場所：ホテル津センターパレス
URL:https://tsukanko.jp/event/tribe_events-17020/
LOCATION:緑の風公園\, 津市久居新町\, 津市久居新町
CATEGORIES:体験型イベント,観光イベント
ATTACH;FMTTYPE=image/jpeg:https://tsukanko.jp/manage/wp-content/uploads/2025/11/3b85ba68d0949dd6b0f83fa3d7c7f78f.jpg
END:VEVENT
BEGIN:VEVENT
DTSTART;TZID=Asia/Tokyo:20251207T170000
DTEND;TZID=Asia/Tokyo:20251225T210000
DTSTAMP:20260420T124032
CREATED:20251129T045638Z
LAST-MODIFIED:20251214T015610Z
UID:17074-1765126800-1766696400@tsukanko.jp
SUMMARY:HOWAパーククリスマスイルミネーション
DESCRIPTION:第3回レッ津ローカライズフェスティバル２０２５				\n				\n				\n				\n									地域密着（ローカライズ）のハブ拠点として、「ホテル津センターパレス」が入場無料で大広間を開放してお贈りするグルメと芸事の祭典「レッ津ローカライズ！フェスティバル２０２５」のお知らせです。 今年は大泉洋さん出演の伝説的バラエティ番組「水曜どうでしょう」とのコラボレーション企画が実現。１０月１日(水)に津観音・大門大通り商店街で行われる「水曜どうでしょうキャラバンin三重県津市」の最新情報が本イベントで初公開されます。 日時：令和７年９月５日(金)１７：００～２１：００ 内容：・地元グルメ・カフェ・スイーツが一堂に集結！ ・地元河芸町の黒田米の新米が登場！ ・水曜どうでしょうキャラバンの最新情報をいち早く発表！ 入場料：入場無料 場所：ホテル津センターパレス
URL:https://tsukanko.jp/event/tribe_events-17074/
CATEGORIES:観光イベント
ATTACH;FMTTYPE=image/jpeg:https://tsukanko.jp/manage/wp-content/uploads/2025/11/S__13295644_0.jpg
END:VEVENT
BEGIN:VEVENT
DTSTART;TZID=Asia/Tokyo:20251207T090000
DTEND;TZID=Asia/Tokyo:20251207T150000
DTSTAMP:20260420T124032
CREATED:20251116T013248Z
LAST-MODIFIED:20251125T052219Z
UID:16959-1765098000-1765119600@tsukanko.jp
SUMMARY:JR名松線90周年記念イベント＆終着駅サミット
DESCRIPTION:第3回レッ津ローカライズフェスティバル２０２５				\n				\n				\n				\n									地域密着（ローカライズ）のハブ拠点として、「ホテル津センターパレス」が入場無料で大広間を開放してお贈りするグルメと芸事の祭典「レッ津ローカライズ！フェスティバル２０２５」のお知らせです。 今年は大泉洋さん出演の伝説的バラエティ番組「水曜どうでしょう」とのコラボレーション企画が実現。１０月１日(水)に津観音・大門大通り商店街で行われる「水曜どうでしょうキャラバンin三重県津市」の最新情報が本イベントで初公開されます。 日時：令和７年９月５日(金)１７：００～２１：００ 内容：・地元グルメ・カフェ・スイーツが一堂に集結！ ・地元河芸町の黒田米の新米が登場！ ・水曜どうでしょうキャラバンの最新情報をいち早く発表！ 入場料：入場無料 場所：ホテル津センターパレス
URL:https://tsukanko.jp/event/tribe_events-16959/
LOCATION:津市
CATEGORIES:グルメイベント,プレイイベント,体験型イベント,観光イベント,音楽ライブ
ATTACH;FMTTYPE=image/jpeg:https://tsukanko.jp/manage/wp-content/uploads/2025/11/391a10efbe58a0770fdb8ed2b87422d6-1.jpg
END:VEVENT
BEGIN:VEVENT
DTSTART;TZID=Asia/Tokyo:20251201T170000
DTEND;TZID=Asia/Tokyo:20260115T210000
DTSTAMP:20260420T124032
CREATED:20251129T085654Z
LAST-MODIFIED:20251129T090245Z
UID:17106-1764608400-1768510800@tsukanko.jp
SUMMARY:2025千里ヶ丘中央公園イルミネーション
DESCRIPTION:第3回レッ津ローカライズフェスティバル２０２５				\n				\n				\n				\n									地域密着（ローカライズ）のハブ拠点として、「ホテル津センターパレス」が入場無料で大広間を開放してお贈りするグルメと芸事の祭典「レッ津ローカライズ！フェスティバル２０２５」のお知らせです。 今年は大泉洋さん出演の伝説的バラエティ番組「水曜どうでしょう」とのコラボレーション企画が実現。１０月１日(水)に津観音・大門大通り商店街で行われる「水曜どうでしょうキャラバンin三重県津市」の最新情報が本イベントで初公開されます。 日時：令和７年９月５日(金)１７：００～２１：００ 内容：・地元グルメ・カフェ・スイーツが一堂に集結！ ・地元河芸町の黒田米の新米が登場！ ・水曜どうでしょうキャラバンの最新情報をいち早く発表！ 入場料：入場無料 場所：ホテル津センターパレス
URL:https://tsukanko.jp/event/tribe_events-17106/
CATEGORIES:観光イベント
ATTACH;FMTTYPE=image/jpeg:https://tsukanko.jp/manage/wp-content/uploads/2025/11/A03989E6-E699-4D5F-9666-73DBE059667A.jpg
END:VEVENT
BEGIN:VEVENT
DTSTART;TZID=Asia/Tokyo:20251130T100000
DTEND;TZID=Asia/Tokyo:20251130T150000
DTSTAMP:20260420T124032
CREATED:20250522T023158Z
LAST-MODIFIED:20251027T071013Z
UID:14740-1764496800-1764514800@tsukanko.jp
SUMMARY:フェスタinかわげ2025  ～子どもたちに体験と笑顔を！みんなで津くるかわげのお祭り～
DESCRIPTION:第3回レッ津ローカライズフェスティバル２０２５				\n				\n				\n				\n									地域密着（ローカライズ）のハブ拠点として、「ホテル津センターパレス」が入場無料で大広間を開放してお贈りするグルメと芸事の祭典「レッ津ローカライズ！フェスティバル２０２５」のお知らせです。 今年は大泉洋さん出演の伝説的バラエティ番組「水曜どうでしょう」とのコラボレーション企画が実現。１０月１日(水)に津観音・大門大通り商店街で行われる「水曜どうでしょうキャラバンin三重県津市」の最新情報が本イベントで初公開されます。 日時：令和７年９月５日(金)１７：００～２１：００ 内容：・地元グルメ・カフェ・スイーツが一堂に集結！ ・地元河芸町の黒田米の新米が登場！ ・水曜どうでしょうキャラバンの最新情報をいち早く発表！ 入場料：入場無料 場所：ホテル津センターパレス
URL:https://tsukanko.jp/event/tribe_events-14740/
CATEGORIES:グルメイベント,体験型イベント,音楽ライブ
ATTACH;FMTTYPE=image/jpeg:https://tsukanko.jp/manage/wp-content/uploads/2025/05/20251027160843-0001.jpg
END:VEVENT
BEGIN:VEVENT
DTSTART;TZID=Asia/Tokyo:20251130T093000
DTEND;TZID=Asia/Tokyo:20251130T140000
DTSTAMP:20260420T124032
CREATED:20251105T071709Z
LAST-MODIFIED:20251105T072204Z
UID:16867-1764495000-1764511200@tsukanko.jp
SUMMARY:榊原秋の収穫祭
DESCRIPTION:第3回レッ津ローカライズフェスティバル２０２５				\n				\n				\n				\n									地域密着（ローカライズ）のハブ拠点として、「ホテル津センターパレス」が入場無料で大広間を開放してお贈りするグルメと芸事の祭典「レッ津ローカライズ！フェスティバル２０２５」のお知らせです。 今年は大泉洋さん出演の伝説的バラエティ番組「水曜どうでしょう」とのコラボレーション企画が実現。１０月１日(水)に津観音・大門大通り商店街で行われる「水曜どうでしょうキャラバンin三重県津市」の最新情報が本イベントで初公開されます。 日時：令和７年９月５日(金)１７：００～２１：００ 内容：・地元グルメ・カフェ・スイーツが一堂に集結！ ・地元河芸町の黒田米の新米が登場！ ・水曜どうでしょうキャラバンの最新情報をいち早く発表！ 入場料：入場無料 場所：ホテル津センターパレス
URL:https://tsukanko.jp/event/tribe_events-16867/
CATEGORIES:観光イベント
ATTACH;FMTTYPE=image/jpeg:https://tsukanko.jp/manage/wp-content/uploads/2025/11/20251104172249-0003.jpg
END:VEVENT
BEGIN:VEVENT
DTSTART;TZID=Asia/Tokyo:20251124T100000
DTEND;TZID=Asia/Tokyo:20251124T160000
DTSTAMP:20260420T124032
CREATED:20241107T090539Z
LAST-MODIFIED:20251120T050718Z
UID:11132-1763978400-1764000000@tsukanko.jp
SUMMARY:つしんまちホコ天
DESCRIPTION:第3回レッ津ローカライズフェスティバル２０２５				\n				\n				\n				\n									地域密着（ローカライズ）のハブ拠点として、「ホテル津センターパレス」が入場無料で大広間を開放してお贈りするグルメと芸事の祭典「レッ津ローカライズ！フェスティバル２０２５」のお知らせです。 今年は大泉洋さん出演の伝説的バラエティ番組「水曜どうでしょう」とのコラボレーション企画が実現。１０月１日(水)に津観音・大門大通り商店街で行われる「水曜どうでしょうキャラバンin三重県津市」の最新情報が本イベントで初公開されます。 日時：令和７年９月５日(金)１７：００～２１：００ 内容：・地元グルメ・カフェ・スイーツが一堂に集結！ ・地元河芸町の黒田米の新米が登場！ ・水曜どうでしょうキャラバンの最新情報をいち早く発表！ 入場料：入場無料 場所：ホテル津センターパレス
URL:https://tsukanko.jp/event/tribe_events-11132/
LOCATION:津新町通り\, 三重県津市南丸之内１４−７\, 〒514-0034
CATEGORIES:グルメイベント,プレイイベント
ATTACH;FMTTYPE=image/jpeg:https://tsukanko.jp/manage/wp-content/uploads/2024/11/5c3915209d8bb17f597ec5dfd74b57ce.jpg
END:VEVENT
BEGIN:VEVENT
DTSTART;TZID=Asia/Tokyo:20251124T093000
DTEND;TZID=Asia/Tokyo:20251124T153000
DTSTAMP:20260420T124032
CREATED:20250925T050732Z
LAST-MODIFIED:20250925T051145Z
UID:16408-1763976600-1763998200@tsukanko.jp
SUMMARY:津市消防フェスタ
DESCRIPTION:第3回レッ津ローカライズフェスティバル２０２５				\n				\n				\n				\n									地域密着（ローカライズ）のハブ拠点として、「ホテル津センターパレス」が入場無料で大広間を開放してお贈りするグルメと芸事の祭典「レッ津ローカライズ！フェスティバル２０２５」のお知らせです。 今年は大泉洋さん出演の伝説的バラエティ番組「水曜どうでしょう」とのコラボレーション企画が実現。１０月１日(水)に津観音・大門大通り商店街で行われる「水曜どうでしょうキャラバンin三重県津市」の最新情報が本イベントで初公開されます。 日時：令和７年９月５日(金)１７：００～２１：００ 内容：・地元グルメ・カフェ・スイーツが一堂に集結！ ・地元河芸町の黒田米の新米が登場！ ・水曜どうでしょうキャラバンの最新情報をいち早く発表！ 入場料：入場無料 場所：ホテル津センターパレス
URL:https://tsukanko.jp/event/tribe_events-16408/
CATEGORIES:グルメイベント,体験型イベント,観光イベント
ATTACH;FMTTYPE=image/jpeg:https://tsukanko.jp/manage/wp-content/uploads/2025/09/20250925140353-0001.jpg
END:VEVENT
BEGIN:VEVENT
DTSTART;TZID=Asia/Tokyo:20251122T160000
DTEND;TZID=Asia/Tokyo:20251207T190000
DTSTAMP:20260420T124032
CREATED:20250916T064318Z
LAST-MODIFIED:20251129T081923Z
UID:16362-1763827200-1765134000@tsukanko.jp
SUMMARY:そうぶんの月灯り２０２５
DESCRIPTION:第3回レッ津ローカライズフェスティバル２０２５				\n				\n				\n				\n									地域密着（ローカライズ）のハブ拠点として、「ホテル津センターパレス」が入場無料で大広間を開放してお贈りするグルメと芸事の祭典「レッ津ローカライズ！フェスティバル２０２５」のお知らせです。 今年は大泉洋さん出演の伝説的バラエティ番組「水曜どうでしょう」とのコラボレーション企画が実現。１０月１日(水)に津観音・大門大通り商店街で行われる「水曜どうでしょうキャラバンin三重県津市」の最新情報が本イベントで初公開されます。 日時：令和７年９月５日(金)１７：００～２１：００ 内容：・地元グルメ・カフェ・スイーツが一堂に集結！ ・地元河芸町の黒田米の新米が登場！ ・水曜どうでしょうキャラバンの最新情報をいち早く発表！ 入場料：入場無料 場所：ホテル津センターパレス
URL:https://tsukanko.jp/event/tribe_events-16362/
CATEGORIES:体験型イベント,観光イベント
ATTACH;FMTTYPE=image/jpeg:https://tsukanko.jp/manage/wp-content/uploads/2025/09/soubuntukiakariomote.jpg
END:VEVENT
BEGIN:VEVENT
DTSTART;TZID=Asia/Tokyo:20251122T100000
DTEND;TZID=Asia/Tokyo:20251122T150000
DTSTAMP:20260420T124032
CREATED:20251105T040949Z
LAST-MODIFIED:20251105T043157Z
UID:16853-1763805600-1763823600@tsukanko.jp
SUMMARY:つ・環境フェア
DESCRIPTION:第3回レッ津ローカライズフェスティバル２０２５				\n				\n				\n				\n									地域密着（ローカライズ）のハブ拠点として、「ホテル津センターパレス」が入場無料で大広間を開放してお贈りするグルメと芸事の祭典「レッ津ローカライズ！フェスティバル２０２５」のお知らせです。 今年は大泉洋さん出演の伝説的バラエティ番組「水曜どうでしょう」とのコラボレーション企画が実現。１０月１日(水)に津観音・大門大通り商店街で行われる「水曜どうでしょうキャラバンin三重県津市」の最新情報が本イベントで初公開されます。 日時：令和７年９月５日(金)１７：００～２１：００ 内容：・地元グルメ・カフェ・スイーツが一堂に集結！ ・地元河芸町の黒田米の新米が登場！ ・水曜どうでしょうキャラバンの最新情報をいち早く発表！ 入場料：入場無料 場所：ホテル津センターパレス
URL:https://tsukanko.jp/event/16853/
CATEGORIES:体験型イベント
ATTACH;FMTTYPE=image/jpeg:https://tsukanko.jp/manage/wp-content/uploads/2025/11/20251104172249-0001.jpg
END:VEVENT
BEGIN:VEVENT
DTSTART;TZID=Asia/Tokyo:20251121T173000
DTEND;TZID=Asia/Tokyo:20251123T203000
DTSTAMP:20260420T124032
CREATED:20241011T060546Z
LAST-MODIFIED:20251027T070439Z
UID:10748-1763746200-1763929800@tsukanko.jp
SUMMARY:寂庭の宴（じゃくていのうたげ）
DESCRIPTION:第3回レッ津ローカライズフェスティバル２０２５				\n				\n				\n				\n									地域密着（ローカライズ）のハブ拠点として、「ホテル津センターパレス」が入場無料で大広間を開放してお贈りするグルメと芸事の祭典「レッ津ローカライズ！フェスティバル２０２５」のお知らせです。 今年は大泉洋さん出演の伝説的バラエティ番組「水曜どうでしょう」とのコラボレーション企画が実現。１０月１日(水)に津観音・大門大通り商店街で行われる「水曜どうでしょうキャラバンin三重県津市」の最新情報が本イベントで初公開されます。 日時：令和７年９月５日(金)１７：００～２１：００ 内容：・地元グルメ・カフェ・スイーツが一堂に集結！ ・地元河芸町の黒田米の新米が登場！ ・水曜どうでしょうキャラバンの最新情報をいち早く発表！ 入場料：入場無料 場所：ホテル津センターパレス
URL:https://tsukanko.jp/event/tribe_events-10748/
LOCATION:北畠氏館跡庭園\, 三重県津市美杉町上多気１１４８\, 515-3312
CATEGORIES:観光イベント
ATTACH;FMTTYPE=image/jpeg:https://tsukanko.jp/manage/wp-content/uploads/2024/10/screenshot.1083.jpg
END:VEVENT
BEGIN:VEVENT
DTSTART;TZID=Asia/Tokyo:20251119T110000
DTEND;TZID=Asia/Tokyo:20251224T140000
DTSTAMP:20260420T124032
CREATED:20251121T055132Z
LAST-MODIFIED:20251121T082810Z
UID:17006-1763550000-1766584800@tsukanko.jp
SUMMARY:まんなかランチひろば（毎週水曜日開催）
DESCRIPTION:第3回レッ津ローカライズフェスティバル２０２５				\n				\n				\n				\n									地域密着（ローカライズ）のハブ拠点として、「ホテル津センターパレス」が入場無料で大広間を開放してお贈りするグルメと芸事の祭典「レッ津ローカライズ！フェスティバル２０２５」のお知らせです。 今年は大泉洋さん出演の伝説的バラエティ番組「水曜どうでしょう」とのコラボレーション企画が実現。１０月１日(水)に津観音・大門大通り商店街で行われる「水曜どうでしょうキャラバンin三重県津市」の最新情報が本イベントで初公開されます。 日時：令和７年９月５日(金)１７：００～２１：００ 内容：・地元グルメ・カフェ・スイーツが一堂に集結！ ・地元河芸町の黒田米の新米が登場！ ・水曜どうでしょうキャラバンの最新情報をいち早く発表！ 入場料：入場無料 場所：ホテル津センターパレス
URL:https://tsukanko.jp/event/tribe_events-17006/
CATEGORIES:グルメイベント
ATTACH;FMTTYPE=image/jpeg:https://tsukanko.jp/manage/wp-content/uploads/2025/11/S__498704393.jpg
END:VEVENT
END:VCALENDAR