BEGIN:VCALENDAR
VERSION:2.0
PRODID:-//津の時間。（津市観光協会） - ECPv6.15.17.1//NONSGML v1.0//EN
CALSCALE:GREGORIAN
METHOD:PUBLISH
X-ORIGINAL-URL:https://tsukanko.jp
X-WR-CALDESC:津の時間。（津市観光協会） のイベント
REFRESH-INTERVAL;VALUE=DURATION:PT1H
X-Robots-Tag:noindex
X-PUBLISHED-TTL:PT1H
BEGIN:VTIMEZONE
TZID:Asia/Tokyo
BEGIN:STANDARD
TZOFFSETFROM:+0900
TZOFFSETTO:+0900
TZNAME:JST
DTSTART:20250101T000000
END:STANDARD
END:VTIMEZONE
BEGIN:VEVENT
DTSTART;TZID=Asia/Tokyo:20260425T150000
DTEND;TZID=Asia/Tokyo:20260425T210000
DTSTAMP:20260422T012455
CREATED:20260409T083904Z
LAST-MODIFIED:20260409T084418Z
UID:18749-1777129200-1777150800@tsukanko.jp
SUMMARY:グリーンフェスティバル2026
DESCRIPTION:第1回大門・尾鷲市場				\n				\n				\n				\n									4月26日、大門大通り商店街にて、【大門・尾鷲市場】を開催します！ 食・文化・ものづくりなど、尾鷲の“あれこれ”を楽しめる内容が盛りだくさん！ 尾鷲の特産品を使ったキッチンカーやマーケット、ワークショップなど、子どもから大人まで楽しめるにぎやかなイベントとなっています！ 今回のワークショップでは、尾鷲ひのきを使った木製コースターや木製時計作りを体験できます。 【開催日時】 令和８年４月26日(日)11：00～17:00【会場】大門大通り商店街（〒514-0027津市大門24-12）【駐車場】だいたて駐車場やフェニックス駐車場などの近隣有料駐車場をご利用ください。 【お問い合わせ】
URL:https://tsukanko.jp/event/tribe_events-18749/
LOCATION:緑の風公園\, 津市久居新町\, 津市久居新町
CATEGORIES:グルメイベント,プレイイベント,観光イベント
ATTACH;FMTTYPE=image/jpeg:https://tsukanko.jp/manage/wp-content/uploads/2026/04/d4e9bdaaabe006c889af874386015d58.jpg
END:VEVENT
BEGIN:VEVENT
DTSTART;TZID=Asia/Tokyo:20260426T110000
DTEND;TZID=Asia/Tokyo:20260426T170000
DTSTAMP:20260422T012455
CREATED:20260421T084757Z
LAST-MODIFIED:20260421T090058Z
UID:18930-1777201200-1777222800@tsukanko.jp
SUMMARY:第1回大門・尾鷲市場
DESCRIPTION:第1回大門・尾鷲市場				\n				\n				\n				\n									4月26日、大門大通り商店街にて、【大門・尾鷲市場】を開催します！ 食・文化・ものづくりなど、尾鷲の“あれこれ”を楽しめる内容が盛りだくさん！ 尾鷲の特産品を使ったキッチンカーやマーケット、ワークショップなど、子どもから大人まで楽しめるにぎやかなイベントとなっています！ 今回のワークショップでは、尾鷲ひのきを使った木製コースターや木製時計作りを体験できます。 【開催日時】 令和８年４月26日(日)11：00～17:00【会場】大門大通り商店街（〒514-0027津市大門24-12）【駐車場】だいたて駐車場やフェニックス駐車場などの近隣有料駐車場をご利用ください。 【お問い合わせ】
URL:https://tsukanko.jp/event/tribe_events-18930/
LOCATION:大門大通り商店街\, 三重県津市大門24-12\, 514-0027
CATEGORIES:グルメイベント
ATTACH;FMTTYPE=image/jpeg:https://tsukanko.jp/manage/wp-content/uploads/2026/04/20260421115230-0001.jpg
END:VEVENT
BEGIN:VEVENT
DTSTART;TZID=Asia/Tokyo:20260516T100000
DTEND;TZID=Asia/Tokyo:20260516T153000
DTSTAMP:20260422T012455
CREATED:20260413T080715Z
LAST-MODIFIED:20260421T084035Z
UID:18793-1778925600-1778945400@tsukanko.jp
SUMMARY:津市合併20周年〔第37回物産まつり〕〔第63回高虎楽座〕
DESCRIPTION:第1回大門・尾鷲市場				\n				\n				\n				\n									4月26日、大門大通り商店街にて、【大門・尾鷲市場】を開催します！ 食・文化・ものづくりなど、尾鷲の“あれこれ”を楽しめる内容が盛りだくさん！ 尾鷲の特産品を使ったキッチンカーやマーケット、ワークショップなど、子どもから大人まで楽しめるにぎやかなイベントとなっています！ 今回のワークショップでは、尾鷲ひのきを使った木製コースターや木製時計作りを体験できます。 【開催日時】 令和８年４月26日(日)11：00～17:00【会場】大門大通り商店街（〒514-0027津市大門24-12）【駐車場】だいたて駐車場やフェニックス駐車場などの近隣有料駐車場をご利用ください。 【お問い合わせ】
URL:https://tsukanko.jp/event/tribe_events-18793/
CATEGORIES:グルメイベント,体験型イベント,観光イベント,音楽ライブ
ATTACH;FMTTYPE=image/jpeg:https://tsukanko.jp/manage/wp-content/uploads/2026/04/3a544045e7384ffcd479f922c39b05b1.jpg
END:VEVENT
BEGIN:VEVENT
DTSTART;VALUE=DATE:20261009
DTEND;VALUE=DATE:20261012
DTSTAMP:20260422T012455
CREATED:20251001T085350Z
LAST-MODIFIED:20260405T081955Z
UID:7338-1791504000-1791763199@tsukanko.jp
SUMMARY:津まつり
DESCRIPTION:第1回大門・尾鷲市場				\n				\n				\n				\n									4月26日、大門大通り商店街にて、【大門・尾鷲市場】を開催します！ 食・文化・ものづくりなど、尾鷲の“あれこれ”を楽しめる内容が盛りだくさん！ 尾鷲の特産品を使ったキッチンカーやマーケット、ワークショップなど、子どもから大人まで楽しめるにぎやかなイベントとなっています！ 今回のワークショップでは、尾鷲ひのきを使った木製コースターや木製時計作りを体験できます。 【開催日時】 令和８年４月26日(日)11：00～17:00【会場】大門大通り商店街（〒514-0027津市大門24-12）【駐車場】だいたて駐車場やフェニックス駐車場などの近隣有料駐車場をご利用ください。 【お問い合わせ】
URL:https://tsukanko.jp/event/tribe_events-7338/
LOCATION:お城公園\, 三重県津市丸之内27\, 514-0033
CATEGORIES:グルメイベント,プレイイベント,観光イベント
ATTACH;FMTTYPE=image/jpeg:https://tsukanko.jp/manage/wp-content/uploads/2024/06/3e479016ebad35c7082bddd40d135f21.jpg
END:VEVENT
END:VCALENDAR