BEGIN:VCALENDAR
VERSION:2.0
PRODID:-//津の時間。（津市観光協会） - ECPv6.15.17.1//NONSGML v1.0//EN
CALSCALE:GREGORIAN
METHOD:PUBLISH
X-WR-CALNAME:津の時間。（津市観光協会）
X-ORIGINAL-URL:https://tsukanko.jp
X-WR-CALDESC:津の時間。（津市観光協会） のイベント
REFRESH-INTERVAL;VALUE=DURATION:PT1H
X-Robots-Tag:noindex
X-PUBLISHED-TTL:PT1H
BEGIN:VTIMEZONE
TZID:Asia/Tokyo
BEGIN:STANDARD
TZOFFSETFROM:+0900
TZOFFSETTO:+0900
TZNAME:JST
DTSTART:20240101T000000
END:STANDARD
END:VTIMEZONE
BEGIN:VEVENT
DTSTART;TZID=Asia/Tokyo:20251025T100000
DTEND;TZID=Asia/Tokyo:20251103T150000
DTSTAMP:20260424T011412
CREATED:20251020T081848Z
LAST-MODIFIED:20251020T084621Z
UID:16765-1761386400-1762182000@tsukanko.jp
SUMMARY:ふらっと大門・丸之内＠観音公園
DESCRIPTION:2026年度❝5月度例会❞青少年育成事業				\n				\n				\n				\n					みんなでチャレンジ大作戦　田んぼラグビー開催！				\n				\n					\n				\n		\n					\n				\n				\n									津青年会議所の青少年育成事業として開催します！田んぼを舞台に泥だらけになりながら仲間と協力して挑戦する「田んぼラグビー」や田植え体験を実施します。普段の生活では味わえない環境の中で、仲間と声を掛け合い、助け合いながら一つのことに挑戦することで、協働する力や挑戦する心を育むことを目的としております。また、自然に触れ、食の大切さや地域とのつながりを感じることで、子どもたちにとって貴重な学びの機会となります。参加費は無料となっており、ぜひ多くの皆さまのご参加をお待ちしております。【開催日時】5月16日（土）10:00〜17:30【開催場所】〒514-0057三重県津市安東町734（JA津安芸 カントリーエレベーター横の田んぼ）【対象】津市在住の小学1年生〜6年生【定員】80名【内容】田んぼラグビー、田植え体験【持ち物】汚れても良い服、着替え、タオル、飲み物【申込】下記の参加フォームからご応募ください。5月16日開催田んぼラグビ―申込フォーム 【お問い合わせ】059-227-3806（津青年会議所　平日10:00～15：00） 皆さまのご参加を心よりお待ちしております。
URL:https://tsukanko.jp/event/tribe_events-16765/
LOCATION:津市
CATEGORIES:グルメイベント,プレイイベント,体験型イベント,観光イベント,音楽ライブ
ATTACH;FMTTYPE=image/jpeg:https://tsukanko.jp/manage/wp-content/uploads/2025/10/a9baeb4c4ffc0de44c3c9734a09c2ecc.jpg
END:VEVENT
BEGIN:VEVENT
DTSTART;TZID=Asia/Tokyo:20251101T090000
DTEND;TZID=Asia/Tokyo:20251101T170000
DTSTAMP:20260424T011412
CREATED:20250925T060136Z
LAST-MODIFIED:20250925T061540Z
UID:16416-1761987600-1762016400@tsukanko.jp
SUMMARY:みすぎ秋まつり
DESCRIPTION:2026年度❝5月度例会❞青少年育成事業				\n				\n				\n				\n					みんなでチャレンジ大作戦　田んぼラグビー開催！				\n				\n					\n				\n		\n					\n				\n				\n									津青年会議所の青少年育成事業として開催します！田んぼを舞台に泥だらけになりながら仲間と協力して挑戦する「田んぼラグビー」や田植え体験を実施します。普段の生活では味わえない環境の中で、仲間と声を掛け合い、助け合いながら一つのことに挑戦することで、協働する力や挑戦する心を育むことを目的としております。また、自然に触れ、食の大切さや地域とのつながりを感じることで、子どもたちにとって貴重な学びの機会となります。参加費は無料となっており、ぜひ多くの皆さまのご参加をお待ちしております。【開催日時】5月16日（土）10:00〜17:30【開催場所】〒514-0057三重県津市安東町734（JA津安芸 カントリーエレベーター横の田んぼ）【対象】津市在住の小学1年生〜6年生【定員】80名【内容】田んぼラグビー、田植え体験【持ち物】汚れても良い服、着替え、タオル、飲み物【申込】下記の参加フォームからご応募ください。5月16日開催田んぼラグビ―申込フォーム 【お問い合わせ】059-227-3806（津青年会議所　平日10:00～15：00） 皆さまのご参加を心よりお待ちしております。
URL:https://tsukanko.jp/event/tribe_events-16416/
CATEGORIES:体験型イベント,観光イベント
ATTACH;FMTTYPE=image/jpeg:https://tsukanko.jp/manage/wp-content/uploads/2025/09/20250925140328-0001.jpg
END:VEVENT
BEGIN:VEVENT
DTSTART;TZID=Asia/Tokyo:20251101T100000
DTEND;TZID=Asia/Tokyo:20251101T160000
DTSTAMP:20260424T011412
CREATED:20250901T014046Z
LAST-MODIFIED:20251009T054436Z
UID:16079-1761991200-1762012800@tsukanko.jp
SUMMARY:第62回高虎楽座
DESCRIPTION:2026年度❝5月度例会❞青少年育成事業				\n				\n				\n				\n					みんなでチャレンジ大作戦　田んぼラグビー開催！				\n				\n					\n				\n		\n					\n				\n				\n									津青年会議所の青少年育成事業として開催します！田んぼを舞台に泥だらけになりながら仲間と協力して挑戦する「田んぼラグビー」や田植え体験を実施します。普段の生活では味わえない環境の中で、仲間と声を掛け合い、助け合いながら一つのことに挑戦することで、協働する力や挑戦する心を育むことを目的としております。また、自然に触れ、食の大切さや地域とのつながりを感じることで、子どもたちにとって貴重な学びの機会となります。参加費は無料となっており、ぜひ多くの皆さまのご参加をお待ちしております。【開催日時】5月16日（土）10:00〜17:30【開催場所】〒514-0057三重県津市安東町734（JA津安芸 カントリーエレベーター横の田んぼ）【対象】津市在住の小学1年生〜6年生【定員】80名【内容】田んぼラグビー、田植え体験【持ち物】汚れても良い服、着替え、タオル、飲み物【申込】下記の参加フォームからご応募ください。5月16日開催田んぼラグビ―申込フォーム 【お問い合わせ】059-227-3806（津青年会議所　平日10:00～15：00） 皆さまのご参加を心よりお待ちしております。
URL:https://tsukanko.jp/event/tribe_events-16079/
CATEGORIES:グルメイベント,体験型イベント
ATTACH;FMTTYPE=image/jpeg:https://tsukanko.jp/manage/wp-content/uploads/2025/09/takatorarakuzaomote.jpg
END:VEVENT
BEGIN:VEVENT
DTSTART;TZID=Asia/Tokyo:20251108T090000
DTEND;TZID=Asia/Tokyo:20251109T150000
DTSTAMP:20260424T011412
CREATED:20251009T023439Z
LAST-MODIFIED:20251026T080132Z
UID:16639-1762592400-1762700400@tsukanko.jp
SUMMARY:2025ＪＡまつり
DESCRIPTION:2026年度❝5月度例会❞青少年育成事業				\n				\n				\n				\n					みんなでチャレンジ大作戦　田んぼラグビー開催！				\n				\n					\n				\n		\n					\n				\n				\n									津青年会議所の青少年育成事業として開催します！田んぼを舞台に泥だらけになりながら仲間と協力して挑戦する「田んぼラグビー」や田植え体験を実施します。普段の生活では味わえない環境の中で、仲間と声を掛け合い、助け合いながら一つのことに挑戦することで、協働する力や挑戦する心を育むことを目的としております。また、自然に触れ、食の大切さや地域とのつながりを感じることで、子どもたちにとって貴重な学びの機会となります。参加費は無料となっており、ぜひ多くの皆さまのご参加をお待ちしております。【開催日時】5月16日（土）10:00〜17:30【開催場所】〒514-0057三重県津市安東町734（JA津安芸 カントリーエレベーター横の田んぼ）【対象】津市在住の小学1年生〜6年生【定員】80名【内容】田んぼラグビー、田植え体験【持ち物】汚れても良い服、着替え、タオル、飲み物【申込】下記の参加フォームからご応募ください。5月16日開催田んぼラグビ―申込フォーム 【お問い合わせ】059-227-3806（津青年会議所　平日10:00～15：00） 皆さまのご参加を心よりお待ちしております。
URL:https://tsukanko.jp/event/tribe_events-16639/
LOCATION:メッセウイング・みえ\, 三重県\, 津市北河路町19-1\, 514-0056
CATEGORIES:グルメイベント,プレイイベント,体験型イベント
ATTACH;FMTTYPE=image/jpeg:https://tsukanko.jp/manage/wp-content/uploads/2025/10/a8a25a8fe938c0af95dc92268c5cb6a4.jpg
END:VEVENT
BEGIN:VEVENT
DTSTART;TZID=Asia/Tokyo:20251108T170000
DTEND;TZID=Asia/Tokyo:20251130T210000
DTSTAMP:20260424T011412
CREATED:20241018T072541Z
LAST-MODIFIED:20251129T081435Z
UID:10805-1762621200-1764536400@tsukanko.jp
SUMMARY:河内渓谷ライトアップ2025
DESCRIPTION:2026年度❝5月度例会❞青少年育成事業				\n				\n				\n				\n					みんなでチャレンジ大作戦　田んぼラグビー開催！				\n				\n					\n				\n		\n					\n				\n				\n									津青年会議所の青少年育成事業として開催します！田んぼを舞台に泥だらけになりながら仲間と協力して挑戦する「田んぼラグビー」や田植え体験を実施します。普段の生活では味わえない環境の中で、仲間と声を掛け合い、助け合いながら一つのことに挑戦することで、協働する力や挑戦する心を育むことを目的としております。また、自然に触れ、食の大切さや地域とのつながりを感じることで、子どもたちにとって貴重な学びの機会となります。参加費は無料となっており、ぜひ多くの皆さまのご参加をお待ちしております。【開催日時】5月16日（土）10:00〜17:30【開催場所】〒514-0057三重県津市安東町734（JA津安芸 カントリーエレベーター横の田んぼ）【対象】津市在住の小学1年生〜6年生【定員】80名【内容】田んぼラグビー、田植え体験【持ち物】汚れても良い服、着替え、タオル、飲み物【申込】下記の参加フォームからご応募ください。5月16日開催田んぼラグビ―申込フォーム 【お問い合わせ】059-227-3806（津青年会議所　平日10:00～15：00） 皆さまのご参加を心よりお待ちしております。
URL:https://tsukanko.jp/event/tribe_events-10805/
LOCATION:河内渓谷\, 三重県津市芸濃町雲林院７３７\, 514-2204
CATEGORIES:体験型イベント,観光イベント
ATTACH;FMTTYPE=image/jpeg:https://tsukanko.jp/manage/wp-content/uploads/2024/10/IMG_2656.jpg
END:VEVENT
BEGIN:VEVENT
DTSTART;TZID=Asia/Tokyo:20251109T100000
DTEND;TZID=Asia/Tokyo:20251109T150000
DTSTAMP:20260424T011412
CREATED:20250902T024417Z
LAST-MODIFIED:20251010T063234Z
UID:16152-1762682400-1762700400@tsukanko.jp
SUMMARY:津ぅきた！福きた！カムカムフェスタ2025
DESCRIPTION:2026年度❝5月度例会❞青少年育成事業				\n				\n				\n				\n					みんなでチャレンジ大作戦　田んぼラグビー開催！				\n				\n					\n				\n		\n					\n				\n				\n									津青年会議所の青少年育成事業として開催します！田んぼを舞台に泥だらけになりながら仲間と協力して挑戦する「田んぼラグビー」や田植え体験を実施します。普段の生活では味わえない環境の中で、仲間と声を掛け合い、助け合いながら一つのことに挑戦することで、協働する力や挑戦する心を育むことを目的としております。また、自然に触れ、食の大切さや地域とのつながりを感じることで、子どもたちにとって貴重な学びの機会となります。参加費は無料となっており、ぜひ多くの皆さまのご参加をお待ちしております。【開催日時】5月16日（土）10:00〜17:30【開催場所】〒514-0057三重県津市安東町734（JA津安芸 カントリーエレベーター横の田んぼ）【対象】津市在住の小学1年生〜6年生【定員】80名【内容】田んぼラグビー、田植え体験【持ち物】汚れても良い服、着替え、タオル、飲み物【申込】下記の参加フォームからご応募ください。5月16日開催田んぼラグビ―申込フォーム 【お問い合わせ】059-227-3806（津青年会議所　平日10:00～15：00） 皆さまのご参加を心よりお待ちしております。
URL:https://tsukanko.jp/event/tribe_events-16152/
LOCATION:河芸第２グラウンド南駐車場\, 三重県津市河芸町浜田７９３\, 510-0314
CATEGORIES:グルメイベント,プレイイベント,体験型イベント
ATTACH;FMTTYPE=image/jpeg:https://tsukanko.jp/manage/wp-content/uploads/2025/09/56ed40c47d87d0147e13c53c096e38a3.jpg
END:VEVENT
BEGIN:VEVENT
DTSTART;TZID=Asia/Tokyo:20251116T090000
DTEND;TZID=Asia/Tokyo:20251116T130000
DTSTAMP:20260424T011412
CREATED:20250901T055229Z
LAST-MODIFIED:20250901T090722Z
UID:16120-1763283600-1763298000@tsukanko.jp
SUMMARY:第28回ひさい榊原温泉マラソン
DESCRIPTION:2026年度❝5月度例会❞青少年育成事業				\n				\n				\n				\n					みんなでチャレンジ大作戦　田んぼラグビー開催！				\n				\n					\n				\n		\n					\n				\n				\n									津青年会議所の青少年育成事業として開催します！田んぼを舞台に泥だらけになりながら仲間と協力して挑戦する「田んぼラグビー」や田植え体験を実施します。普段の生活では味わえない環境の中で、仲間と声を掛け合い、助け合いながら一つのことに挑戦することで、協働する力や挑戦する心を育むことを目的としております。また、自然に触れ、食の大切さや地域とのつながりを感じることで、子どもたちにとって貴重な学びの機会となります。参加費は無料となっており、ぜひ多くの皆さまのご参加をお待ちしております。【開催日時】5月16日（土）10:00〜17:30【開催場所】〒514-0057三重県津市安東町734（JA津安芸 カントリーエレベーター横の田んぼ）【対象】津市在住の小学1年生〜6年生【定員】80名【内容】田んぼラグビー、田植え体験【持ち物】汚れても良い服、着替え、タオル、飲み物【申込】下記の参加フォームからご応募ください。5月16日開催田んぼラグビ―申込フォーム 【お問い合わせ】059-227-3806（津青年会議所　平日10:00～15：00） 皆さまのご参加を心よりお待ちしております。
URL:https://tsukanko.jp/event/tribe_events-16120/
LOCATION:ひさい榊原マラソン\, 榊原小学校および榊原温泉郷周辺
CATEGORIES:体験型イベント
ATTACH;FMTTYPE=image/jpeg:https://tsukanko.jp/manage/wp-content/uploads/2025/09/20250901112937-0001.jpg
END:VEVENT
BEGIN:VEVENT
DTSTART;TZID=Asia/Tokyo:20251116T090000
DTEND;TZID=Asia/Tokyo:20251116T160000
DTSTAMP:20260424T011412
CREATED:20251031T084534Z
LAST-MODIFIED:20251031T090124Z
UID:16834-1763283600-1763308800@tsukanko.jp
SUMMARY:令和7年度津なぎさまちフェスタ
DESCRIPTION:2026年度❝5月度例会❞青少年育成事業				\n				\n				\n				\n					みんなでチャレンジ大作戦　田んぼラグビー開催！				\n				\n					\n				\n		\n					\n				\n				\n									津青年会議所の青少年育成事業として開催します！田んぼを舞台に泥だらけになりながら仲間と協力して挑戦する「田んぼラグビー」や田植え体験を実施します。普段の生活では味わえない環境の中で、仲間と声を掛け合い、助け合いながら一つのことに挑戦することで、協働する力や挑戦する心を育むことを目的としております。また、自然に触れ、食の大切さや地域とのつながりを感じることで、子どもたちにとって貴重な学びの機会となります。参加費は無料となっており、ぜひ多くの皆さまのご参加をお待ちしております。【開催日時】5月16日（土）10:00〜17:30【開催場所】〒514-0057三重県津市安東町734（JA津安芸 カントリーエレベーター横の田んぼ）【対象】津市在住の小学1年生〜6年生【定員】80名【内容】田んぼラグビー、田植え体験【持ち物】汚れても良い服、着替え、タオル、飲み物【申込】下記の参加フォームからご応募ください。5月16日開催田んぼラグビ―申込フォーム 【お問い合わせ】059-227-3806（津青年会議所　平日10:00～15：00） 皆さまのご参加を心よりお待ちしております。
URL:https://tsukanko.jp/event/tribe_events-16834/
CATEGORIES:体験型イベント,観光イベント
ATTACH;FMTTYPE=image/jpeg:https://tsukanko.jp/manage/wp-content/uploads/2025/10/30d71d10b79c19442719f679b99f130f.jpg
END:VEVENT
BEGIN:VEVENT
DTSTART;TZID=Asia/Tokyo:20251116T090000
DTEND;TZID=Asia/Tokyo:20251116T160000
DTSTAMP:20260424T011412
CREATED:20251008T041705Z
LAST-MODIFIED:20251027T085136Z
UID:16620-1763283600-1763308800@tsukanko.jp
SUMMARY:第27回一身田寺内町まつり
DESCRIPTION:2026年度❝5月度例会❞青少年育成事業				\n				\n				\n				\n					みんなでチャレンジ大作戦　田んぼラグビー開催！				\n				\n					\n				\n		\n					\n				\n				\n									津青年会議所の青少年育成事業として開催します！田んぼを舞台に泥だらけになりながら仲間と協力して挑戦する「田んぼラグビー」や田植え体験を実施します。普段の生活では味わえない環境の中で、仲間と声を掛け合い、助け合いながら一つのことに挑戦することで、協働する力や挑戦する心を育むことを目的としております。また、自然に触れ、食の大切さや地域とのつながりを感じることで、子どもたちにとって貴重な学びの機会となります。参加費は無料となっており、ぜひ多くの皆さまのご参加をお待ちしております。【開催日時】5月16日（土）10:00〜17:30【開催場所】〒514-0057三重県津市安東町734（JA津安芸 カントリーエレベーター横の田んぼ）【対象】津市在住の小学1年生〜6年生【定員】80名【内容】田んぼラグビー、田植え体験【持ち物】汚れても良い服、着替え、タオル、飲み物【申込】下記の参加フォームからご応募ください。5月16日開催田んぼラグビ―申込フォーム 【お問い合わせ】059-227-3806（津青年会議所　平日10:00～15：00） 皆さまのご参加を心よりお待ちしております。
URL:https://tsukanko.jp/event/tribe_events-16620/
CATEGORIES:グルメイベント,体験型イベント
ATTACH;FMTTYPE=image/jpeg:https://tsukanko.jp/manage/wp-content/uploads/2025/10/20251008131104-0001.jpg
END:VEVENT
BEGIN:VEVENT
DTSTART;TZID=Asia/Tokyo:20251122T100000
DTEND;TZID=Asia/Tokyo:20251122T150000
DTSTAMP:20260424T011412
CREATED:20251105T040949Z
LAST-MODIFIED:20251105T043157Z
UID:16853-1763805600-1763823600@tsukanko.jp
SUMMARY:つ・環境フェア
DESCRIPTION:2026年度❝5月度例会❞青少年育成事業				\n				\n				\n				\n					みんなでチャレンジ大作戦　田んぼラグビー開催！				\n				\n					\n				\n		\n					\n				\n				\n									津青年会議所の青少年育成事業として開催します！田んぼを舞台に泥だらけになりながら仲間と協力して挑戦する「田んぼラグビー」や田植え体験を実施します。普段の生活では味わえない環境の中で、仲間と声を掛け合い、助け合いながら一つのことに挑戦することで、協働する力や挑戦する心を育むことを目的としております。また、自然に触れ、食の大切さや地域とのつながりを感じることで、子どもたちにとって貴重な学びの機会となります。参加費は無料となっており、ぜひ多くの皆さまのご参加をお待ちしております。【開催日時】5月16日（土）10:00〜17:30【開催場所】〒514-0057三重県津市安東町734（JA津安芸 カントリーエレベーター横の田んぼ）【対象】津市在住の小学1年生〜6年生【定員】80名【内容】田んぼラグビー、田植え体験【持ち物】汚れても良い服、着替え、タオル、飲み物【申込】下記の参加フォームからご応募ください。5月16日開催田んぼラグビ―申込フォーム 【お問い合わせ】059-227-3806（津青年会議所　平日10:00～15：00） 皆さまのご参加を心よりお待ちしております。
URL:https://tsukanko.jp/event/16853/
CATEGORIES:体験型イベント
ATTACH;FMTTYPE=image/jpeg:https://tsukanko.jp/manage/wp-content/uploads/2025/11/20251104172249-0001.jpg
END:VEVENT
BEGIN:VEVENT
DTSTART;TZID=Asia/Tokyo:20251122T160000
DTEND;TZID=Asia/Tokyo:20251207T190000
DTSTAMP:20260424T011412
CREATED:20250916T064318Z
LAST-MODIFIED:20251129T081923Z
UID:16362-1763827200-1765134000@tsukanko.jp
SUMMARY:そうぶんの月灯り２０２５
DESCRIPTION:2026年度❝5月度例会❞青少年育成事業				\n				\n				\n				\n					みんなでチャレンジ大作戦　田んぼラグビー開催！				\n				\n					\n				\n		\n					\n				\n				\n									津青年会議所の青少年育成事業として開催します！田んぼを舞台に泥だらけになりながら仲間と協力して挑戦する「田んぼラグビー」や田植え体験を実施します。普段の生活では味わえない環境の中で、仲間と声を掛け合い、助け合いながら一つのことに挑戦することで、協働する力や挑戦する心を育むことを目的としております。また、自然に触れ、食の大切さや地域とのつながりを感じることで、子どもたちにとって貴重な学びの機会となります。参加費は無料となっており、ぜひ多くの皆さまのご参加をお待ちしております。【開催日時】5月16日（土）10:00〜17:30【開催場所】〒514-0057三重県津市安東町734（JA津安芸 カントリーエレベーター横の田んぼ）【対象】津市在住の小学1年生〜6年生【定員】80名【内容】田んぼラグビー、田植え体験【持ち物】汚れても良い服、着替え、タオル、飲み物【申込】下記の参加フォームからご応募ください。5月16日開催田んぼラグビ―申込フォーム 【お問い合わせ】059-227-3806（津青年会議所　平日10:00～15：00） 皆さまのご参加を心よりお待ちしております。
URL:https://tsukanko.jp/event/tribe_events-16362/
CATEGORIES:体験型イベント,観光イベント
ATTACH;FMTTYPE=image/jpeg:https://tsukanko.jp/manage/wp-content/uploads/2025/09/soubuntukiakariomote.jpg
END:VEVENT
BEGIN:VEVENT
DTSTART;TZID=Asia/Tokyo:20251124T093000
DTEND;TZID=Asia/Tokyo:20251124T153000
DTSTAMP:20260424T011412
CREATED:20250925T050732Z
LAST-MODIFIED:20250925T051145Z
UID:16408-1763976600-1763998200@tsukanko.jp
SUMMARY:津市消防フェスタ
DESCRIPTION:2026年度❝5月度例会❞青少年育成事業				\n				\n				\n				\n					みんなでチャレンジ大作戦　田んぼラグビー開催！				\n				\n					\n				\n		\n					\n				\n				\n									津青年会議所の青少年育成事業として開催します！田んぼを舞台に泥だらけになりながら仲間と協力して挑戦する「田んぼラグビー」や田植え体験を実施します。普段の生活では味わえない環境の中で、仲間と声を掛け合い、助け合いながら一つのことに挑戦することで、協働する力や挑戦する心を育むことを目的としております。また、自然に触れ、食の大切さや地域とのつながりを感じることで、子どもたちにとって貴重な学びの機会となります。参加費は無料となっており、ぜひ多くの皆さまのご参加をお待ちしております。【開催日時】5月16日（土）10:00〜17:30【開催場所】〒514-0057三重県津市安東町734（JA津安芸 カントリーエレベーター横の田んぼ）【対象】津市在住の小学1年生〜6年生【定員】80名【内容】田んぼラグビー、田植え体験【持ち物】汚れても良い服、着替え、タオル、飲み物【申込】下記の参加フォームからご応募ください。5月16日開催田んぼラグビ―申込フォーム 【お問い合わせ】059-227-3806（津青年会議所　平日10:00～15：00） 皆さまのご参加を心よりお待ちしております。
URL:https://tsukanko.jp/event/tribe_events-16408/
CATEGORIES:グルメイベント,体験型イベント,観光イベント
ATTACH;FMTTYPE=image/jpeg:https://tsukanko.jp/manage/wp-content/uploads/2025/09/20250925140353-0001.jpg
END:VEVENT
BEGIN:VEVENT
DTSTART;TZID=Asia/Tokyo:20251130T100000
DTEND;TZID=Asia/Tokyo:20251130T150000
DTSTAMP:20260424T011412
CREATED:20250522T023158Z
LAST-MODIFIED:20251027T071013Z
UID:14740-1764496800-1764514800@tsukanko.jp
SUMMARY:フェスタinかわげ2025  ～子どもたちに体験と笑顔を！みんなで津くるかわげのお祭り～
DESCRIPTION:2026年度❝5月度例会❞青少年育成事業				\n				\n				\n				\n					みんなでチャレンジ大作戦　田んぼラグビー開催！				\n				\n					\n				\n		\n					\n				\n				\n									津青年会議所の青少年育成事業として開催します！田んぼを舞台に泥だらけになりながら仲間と協力して挑戦する「田んぼラグビー」や田植え体験を実施します。普段の生活では味わえない環境の中で、仲間と声を掛け合い、助け合いながら一つのことに挑戦することで、協働する力や挑戦する心を育むことを目的としております。また、自然に触れ、食の大切さや地域とのつながりを感じることで、子どもたちにとって貴重な学びの機会となります。参加費は無料となっており、ぜひ多くの皆さまのご参加をお待ちしております。【開催日時】5月16日（土）10:00〜17:30【開催場所】〒514-0057三重県津市安東町734（JA津安芸 カントリーエレベーター横の田んぼ）【対象】津市在住の小学1年生〜6年生【定員】80名【内容】田んぼラグビー、田植え体験【持ち物】汚れても良い服、着替え、タオル、飲み物【申込】下記の参加フォームからご応募ください。5月16日開催田んぼラグビ―申込フォーム 【お問い合わせ】059-227-3806（津青年会議所　平日10:00～15：00） 皆さまのご参加を心よりお待ちしております。
URL:https://tsukanko.jp/event/tribe_events-14740/
CATEGORIES:グルメイベント,体験型イベント,音楽ライブ
ATTACH;FMTTYPE=image/jpeg:https://tsukanko.jp/manage/wp-content/uploads/2025/05/20251027160843-0001.jpg
END:VEVENT
END:VCALENDAR