BEGIN:VCALENDAR
VERSION:2.0
PRODID:-//津の時間。（津市観光協会） - ECPv6.15.17.1//NONSGML v1.0//EN
CALSCALE:GREGORIAN
METHOD:PUBLISH
X-ORIGINAL-URL:https://tsukanko.jp
X-WR-CALDESC:津の時間。（津市観光協会） のイベント
REFRESH-INTERVAL;VALUE=DURATION:PT1H
X-Robots-Tag:noindex
X-PUBLISHED-TTL:PT1H
BEGIN:VTIMEZONE
TZID:Asia/Tokyo
BEGIN:STANDARD
TZOFFSETFROM:+0900
TZOFFSETTO:+0900
TZNAME:JST
DTSTART:20230101T000000
END:STANDARD
END:VTIMEZONE
BEGIN:VEVENT
DTSTART;TZID=Asia/Tokyo:20240814T093000
DTEND;TZID=Asia/Tokyo:20240901T163000
DTSTAMP:20260425T005532
CREATED:20240725T043753Z
LAST-MODIFIED:20240804T082626Z
UID:8922-1723627800-1725208200@tsukanko.jp
SUMMARY:キッズ大喜び！仕事体験パーク kanduカンドゥーinボートレース津
DESCRIPTION:2026年度❝5月度例会❞青少年育成事業				\n				\n				\n				\n					みんなでチャレンジ大作戦　田んぼラグビー開催！				\n				\n					\n				\n		\n					\n				\n				\n									津青年会議所の青少年育成事業として開催します！田んぼを舞台に泥だらけになりながら仲間と協力して挑戦する「田んぼラグビー」や田植え体験を実施します。普段の生活では味わえない環境の中で、仲間と声を掛け合い、助け合いながら一つのことに挑戦することで、協働する力や挑戦する心を育むことを目的としております。また、自然に触れ、食の大切さや地域とのつながりを感じることで、子どもたちにとって貴重な学びの機会となります。参加費は無料となっており、ぜひ多くの皆さまのご参加をお待ちしております。【開催日時】5月16日（土）10:00〜17:30【開催場所】〒514-0057三重県津市安東町734（JA津安芸 カントリーエレベーター横の田んぼ）【対象】津市在住の小学1年生〜6年生【定員】80名【内容】田んぼラグビー、田植え体験【持ち物】汚れても良い服、着替え、タオル、飲み物【申込】下記の参加フォームからご応募ください。5月16日開催田んぼラグビ―申込フォーム 【お問い合わせ】059-227-3806（津青年会議所　平日10:00～15：00） 皆さまのご参加を心よりお待ちしております。
URL:https://tsukanko.jp/event/tribe_events-8922/
LOCATION:ボートレース津\, 津市藤方637\, 514-0815
CATEGORIES:体験型イベント
ATTACH;FMTTYPE=image/jpeg:https://tsukanko.jp/manage/wp-content/uploads/2024/07/カンドゥー.jpg
END:VEVENT
BEGIN:VEVENT
DTSTART;TZID=Asia/Tokyo:20240815T120000
DTEND;TZID=Asia/Tokyo:20240815T120000
DTSTAMP:20260425T005532
CREATED:20240725T053117Z
LAST-MODIFIED:20240725T053206Z
UID:8938-1723723200-1723723200@tsukanko.jp
SUMMARY:「第7回8.15津・平和の鐘」開催のお知らせ
DESCRIPTION:2026年度❝5月度例会❞青少年育成事業				\n				\n				\n				\n					みんなでチャレンジ大作戦　田んぼラグビー開催！				\n				\n					\n				\n		\n					\n				\n				\n									津青年会議所の青少年育成事業として開催します！田んぼを舞台に泥だらけになりながら仲間と協力して挑戦する「田んぼラグビー」や田植え体験を実施します。普段の生活では味わえない環境の中で、仲間と声を掛け合い、助け合いながら一つのことに挑戦することで、協働する力や挑戦する心を育むことを目的としております。また、自然に触れ、食の大切さや地域とのつながりを感じることで、子どもたちにとって貴重な学びの機会となります。参加費は無料となっており、ぜひ多くの皆さまのご参加をお待ちしております。【開催日時】5月16日（土）10:00〜17:30【開催場所】〒514-0057三重県津市安東町734（JA津安芸 カントリーエレベーター横の田んぼ）【対象】津市在住の小学1年生〜6年生【定員】80名【内容】田んぼラグビー、田植え体験【持ち物】汚れても良い服、着替え、タオル、飲み物【申込】下記の参加フォームからご応募ください。5月16日開催田んぼラグビ―申込フォーム 【お問い合わせ】059-227-3806（津青年会議所　平日10:00～15：00） 皆さまのご参加を心よりお待ちしております。
URL:https://tsukanko.jp/event/tribe_events-8938/
LOCATION:子午の鐘（ときのかね）\, 三重県津市久居幸町1040-1\, 514-1132
CATEGORIES:体験型イベント
ATTACH;FMTTYPE=image/jpeg:https://tsukanko.jp/manage/wp-content/uploads/2024/07/子午の鐘（ときのかね）.jpg
END:VEVENT
BEGIN:VEVENT
DTSTART;TZID=Asia/Tokyo:20240817T090000
DTEND;TZID=Asia/Tokyo:20240818T203000
DTSTAMP:20260425T005532
CREATED:20240710T035545Z
LAST-MODIFIED:20240710T040051Z
UID:8146-1723885200-1724013000@tsukanko.jp
SUMMARY:千手観音ご開帳奉納夏祭り
DESCRIPTION:2026年度❝5月度例会❞青少年育成事業				\n				\n				\n				\n					みんなでチャレンジ大作戦　田んぼラグビー開催！				\n				\n					\n				\n		\n					\n				\n				\n									津青年会議所の青少年育成事業として開催します！田んぼを舞台に泥だらけになりながら仲間と協力して挑戦する「田んぼラグビー」や田植え体験を実施します。普段の生活では味わえない環境の中で、仲間と声を掛け合い、助け合いながら一つのことに挑戦することで、協働する力や挑戦する心を育むことを目的としております。また、自然に触れ、食の大切さや地域とのつながりを感じることで、子どもたちにとって貴重な学びの機会となります。参加費は無料となっており、ぜひ多くの皆さまのご参加をお待ちしております。【開催日時】5月16日（土）10:00〜17:30【開催場所】〒514-0057三重県津市安東町734（JA津安芸 カントリーエレベーター横の田んぼ）【対象】津市在住の小学1年生〜6年生【定員】80名【内容】田んぼラグビー、田植え体験【持ち物】汚れても良い服、着替え、タオル、飲み物【申込】下記の参加フォームからご応募ください。5月16日開催田んぼラグビ―申込フォーム 【お問い合わせ】059-227-3806（津青年会議所　平日10:00～15：00） 皆さまのご参加を心よりお待ちしております。
URL:https://tsukanko.jp/event/tribe_events-8146/
LOCATION:津市久居元町 千手院賢明寺
CATEGORIES:体験型イベント
ATTACH;FMTTYPE=image/jpeg:https://tsukanko.jp/manage/wp-content/uploads/2024/07/20240709182135-0001.jpg
END:VEVENT
BEGIN:VEVENT
DTSTART;TZID=Asia/Tokyo:20240824T150000
DTEND;TZID=Asia/Tokyo:20240824T210000
DTSTAMP:20260425T005532
CREATED:20240822T011556Z
LAST-MODIFIED:20240823T015757Z
UID:9370-1724511600-1724533200@tsukanko.jp
SUMMARY:大門キモノ夏祭り２０２４
DESCRIPTION:2026年度❝5月度例会❞青少年育成事業				\n				\n				\n				\n					みんなでチャレンジ大作戦　田んぼラグビー開催！				\n				\n					\n				\n		\n					\n				\n				\n									津青年会議所の青少年育成事業として開催します！田んぼを舞台に泥だらけになりながら仲間と協力して挑戦する「田んぼラグビー」や田植え体験を実施します。普段の生活では味わえない環境の中で、仲間と声を掛け合い、助け合いながら一つのことに挑戦することで、協働する力や挑戦する心を育むことを目的としております。また、自然に触れ、食の大切さや地域とのつながりを感じることで、子どもたちにとって貴重な学びの機会となります。参加費は無料となっており、ぜひ多くの皆さまのご参加をお待ちしております。【開催日時】5月16日（土）10:00〜17:30【開催場所】〒514-0057三重県津市安東町734（JA津安芸 カントリーエレベーター横の田んぼ）【対象】津市在住の小学1年生〜6年生【定員】80名【内容】田んぼラグビー、田植え体験【持ち物】汚れても良い服、着替え、タオル、飲み物【申込】下記の参加フォームからご応募ください。5月16日開催田んぼラグビ―申込フォーム 【お問い合わせ】059-227-3806（津青年会議所　平日10:00～15：00） 皆さまのご参加を心よりお待ちしております。
URL:https://tsukanko.jp/event/tribe_events-9370/
LOCATION:大門大通り商店街\, 三重県津市大門24-12\, 514-0027
CATEGORIES:体験型イベント
ATTACH;FMTTYPE=image/jpeg:https://tsukanko.jp/manage/wp-content/uploads/2024/08/screenshot.725.jpg
END:VEVENT
BEGIN:VEVENT
DTSTART;TZID=Asia/Tokyo:20240828T100000
DTEND;TZID=Asia/Tokyo:20240901T170000
DTSTAMP:20260425T005532
CREATED:20240830T050944Z
LAST-MODIFIED:20240830T051339Z
UID:9621-1724839200-1725210000@tsukanko.jp
SUMMARY:電車おもちゃの広場
DESCRIPTION:2026年度❝5月度例会❞青少年育成事業				\n				\n				\n				\n					みんなでチャレンジ大作戦　田んぼラグビー開催！				\n				\n					\n				\n		\n					\n				\n				\n									津青年会議所の青少年育成事業として開催します！田んぼを舞台に泥だらけになりながら仲間と協力して挑戦する「田んぼラグビー」や田植え体験を実施します。普段の生活では味わえない環境の中で、仲間と声を掛け合い、助け合いながら一つのことに挑戦することで、協働する力や挑戦する心を育むことを目的としております。また、自然に触れ、食の大切さや地域とのつながりを感じることで、子どもたちにとって貴重な学びの機会となります。参加費は無料となっており、ぜひ多くの皆さまのご参加をお待ちしております。【開催日時】5月16日（土）10:00〜17:30【開催場所】〒514-0057三重県津市安東町734（JA津安芸 カントリーエレベーター横の田んぼ）【対象】津市在住の小学1年生〜6年生【定員】80名【内容】田んぼラグビー、田植え体験【持ち物】汚れても良い服、着替え、タオル、飲み物【申込】下記の参加フォームからご応募ください。5月16日開催田んぼラグビ―申込フォーム 【お問い合わせ】059-227-3806（津青年会議所　平日10:00～15：00） 皆さまのご参加を心よりお待ちしております。
URL:https://tsukanko.jp/event/tribe_events-9621/
LOCATION:松菱\, 三重県津市東丸之内４−１０\, 514-0028
CATEGORIES:プレイイベント,体験型イベント
ATTACH;FMTTYPE=image/jpeg:https://tsukanko.jp/manage/wp-content/uploads/2024/08/電車広場.jpg
END:VEVENT
END:VCALENDAR