BEGIN:VCALENDAR
VERSION:2.0
PRODID:-//津の時間。（津市観光協会） - ECPv6.15.17.1//NONSGML v1.0//EN
CALSCALE:GREGORIAN
METHOD:PUBLISH
X-WR-CALNAME:津の時間。（津市観光協会）
X-ORIGINAL-URL:https://tsukanko.jp
X-WR-CALDESC:津の時間。（津市観光協会） のイベント
REFRESH-INTERVAL;VALUE=DURATION:PT1H
X-Robots-Tag:noindex
X-PUBLISHED-TTL:PT1H
BEGIN:VTIMEZONE
TZID:Asia/Tokyo
BEGIN:STANDARD
TZOFFSETFROM:+0900
TZOFFSETTO:+0900
TZNAME:JST
DTSTART:20250101T000000
END:STANDARD
END:VTIMEZONE
BEGIN:VEVENT
DTSTART;TZID=Asia/Tokyo:20260211T113000
DTEND;TZID=Asia/Tokyo:20260211T113000
DTSTAMP:20260424T201321
CREATED:20260113T083237Z
LAST-MODIFIED:20260113T084112Z
UID:17510-1770809400-1770809400@tsukanko.jp
SUMMARY:千手院賢明寺　人形供養
DESCRIPTION:人形供養\n津市の千手院賢明寺では、恒例の人形供養が行われます。 \n詳細は、チラシをご覧ください。 \n日時：\n令和8年2月11日(祝)　午前11時30分から供養会 \n※　受け付けは、午前9時からです。 \n問い合わせ：\n賢明寺（059-255-2312） \n奉賛会会長　稲葉和久(090-3380-6750)
URL:https://tsukanko.jp/event/tribe_events-17510/
CATEGORIES:体験型イベント,観光イベント
ATTACH;FMTTYPE=image/jpeg:https://tsukanko.jp/manage/wp-content/uploads/2025/07/20260113101151-0001.jpg
END:VEVENT
BEGIN:VEVENT
DTSTART;TZID=Asia/Tokyo:20260320T100000
DTEND;TZID=Asia/Tokyo:20260320T150000
DTSTAMP:20260424T201321
CREATED:20260310T083524Z
LAST-MODIFIED:20260310T090140Z
UID:18270-1774000800-1774018800@tsukanko.jp
SUMMARY:おやこで学ぼう！赤十字フェスティバル
DESCRIPTION:おやこで学ぼう！赤十字フェスティバルを開催します！\n３月20日（金・祝）に赤十字の活動やいのちや健康、防災について学べる「おやこで学ぼう！赤十字フェスティバル」を開催します。赤十字ブースのほかにも、キッチンカーやマルシェも出店します！みんなで日本赤十字社三重県支部・三重県赤十字血液センターに遊びにきてね！！（公式サイトを転載しております） \n日時：\n2026年3月20日(金・祝)10:00～15:00（雨天決行） \n場所：\n日本赤十字社三重県支部・三重県赤十字血液センター（〒514-0131 三重県津市あのつ台4丁目8-5） \nお問い合わせ：059-264-7700（三重県赤十字血液センター）内容：\n赤十字ブース（無料）赤十字おしごと体験\n \n整理券配布制（9：45～配布開始）所要時間：約60分定員：各回10名（計40名）対象年齢：小学生以上 \n赤十字医療救護班の一員になって、災害が起こったときの救護活動や救援物資の運搬を体験します。 \n（日本赤十字社三重県支部） \n※整理券配布場所はこちらをご覧ください。 \n働く車「献血バス」をのぞいちゃお！\n \nあなたの街にも行くかもしれない命を救う献血バスに乗って、献血や献血バスの仕組みについて学びます。参加者には「ハートラちゃんうでピタバルーン」をプレゼント！ \n（三重県赤十字血液センター） \n筋力チェック！！～貯筋で防ごうサルコペニア～\n \n握力測定と立ち座りチェックで、親子で今の筋力を確認してみませんか？筋肉が減ることで起こる「サルコペニア」を防ぐ、簡単な貯筋運動をお伝えします。 \n（伊勢赤十字病院） \n赤十字ボランティアブース（無料）\n点字を楽しもう！\n \n目の不自由な人のためにつくられた文字”点字”について学び、自分の名前を点字で打ったオリジナル名刺を作成します。 \n（日赤三重県支部点訳奉仕団） \n電波で遊ぼう！\n \nトランシーバーを使っての無線通信やモールス信号を打つ体験、アマチュア無線室の見学を行います。 \n（日赤三重無線奉仕団） \n親子で学ぶ救命手当・応急手当！\n \n倒れた人を救うための応急手当やAEDの使い方を学びます。 \n（日赤三重県支部安全奉仕団） \nハートラちゃんぬりえおめん/ぼうさいまちがいさがしきけんはっけん\n \n・ハートラちゃんぬりえおめんかわいいハートラちゃんのお面を作ろう！・ぼうさいまちがいさがしきけんはっけん災害がおこったときに、どうすればよいかをまちがい探しをしながら学びます。 \n（三重県青少年赤十字賛助奉仕団） \n非常食炊き出し体験\n \n整理券配布制（9：45～配布開始）所要時間：約60分（炊き上がり時間含む。作業時間は20分程度）定員：各回50名（計200名） \n耐熱性のある袋”ハイゼックス袋”と大きな炊き出し釜を使って、非常食の炊き出し体験を行います。 \n（津市地域奉仕団・鈴鹿市地域奉仕団） \n※整理券配布場所はこちらをご覧ください。 \n健康生活支援講習指導員によるリラクゼーション\n \n高齢者の健康増進や支援・自立に向け役立つ介護技術を学ぶ健康生活支援講習を教える指導員が、背中からのリラクゼーションやハンドケアを行います。 \n（健康生活支援講習指導員） \n高校ボランティアブース（無料）\n缶バッチ作り体験\n \n絵を描いたりデコレーションしてオリジナル缶バッチを作ろう！ \n（三重県立白子高校ボランティア部） \n桑名の千羽鶴つくり体験\n桑名市の無形文化財「桑名の千羽鶴」を作ろう！ \n（飯野高校ボランティア部） \n髪クリップデコレーション体験\n自分好みにデコレーションしてオリジナル髪飾りを作っちゃお！ \n（熊野青藍高校（紀南校舎）JRC部） \n協力企業ブース（無料）\nダンボールクラフト体験\n \n整理券配布制（9：45～配布開始）所要時間：約60分定員：各回16名（計64名）対象年齢：幼稚園 年長以上 \n段ボールで車”はじめてワゴン”を作ります！ \n（本田技研工業㈱鈴鹿製作所） \n※整理券配布場所はこちらをご覧ください。 \n子ども用防火衣を着て記念撮影！\n \n子ども用防火衣を着て、消防車と記念撮影を撮ろう！火事を予防するための知識も学べます。 \n（津市北消防署） \n地震体験車\n \n実施時間：10：00～12：00、13：00～15：00 \n震度７から震度１までさまざまな地震を体験し、自分の身を守る行動や家具の固定など、災害の備えを学びます。※天候不良などにより中止となる可能性があります。あらかじめご了承ください。 \n（三重県防災対策部・津市危機管理部） \nＫＫＣ　プチ健康診断体験\n身長・体重測定や握力、血圧、視力検査を行います。握力検査では力比べを実施！素敵な景品もあるかも！？ \n（KKC(近畿健康管理センター)） \nフォトブース/手形アート\n自由に撮影が楽しめるフォトブースや手形アートのワークショップを実施します。 \n（ワイヤー三重） \nキッチンカー・マルシェ\n軽食からスイーツまでおいしいキッチンカーが大集合！ハンドメイドや子ども服、ワークショップやフリマ等いろいろなマルシェも出店します。※キッチンカー、マルシェでの体験・購入は有料となります。 \n整理券配布ブースについて\n「日赤救護班体験」と「非常食炊き出し体験」、「ダンボールクラフト体験」については、下記の場所で整理券を配布します。 \n日赤救護班体験\n総合受付にて、整理券を配布します。 \n整理券配布開始：9：45～（なくなり次第終了）定員：計40名 \n非常食炊き出し体験\n炊き出し体験ブースにて、整理券を配布します。 \n整理券配布開始：9：45～（なくなり次第終了）定員：計200名 \nダンボールクラフト体験\n三重県赤十字血液センター ２階 会議室にて、整理券を配布します。 \n整理券配布開始：9：45～（なくなり次第終了）定員：計64名 \nスタンプラリー\n会場をまわってハートラちゃんのスタンプを集めちゃお！スタンプ台紙は総合受付で配布します。（先着500名）
URL:https://tsukanko.jp/event/tribe_events-18270/
CATEGORIES:グルメイベント,体験型イベント
ATTACH;FMTTYPE=image/jpeg:https://tsukanko.jp/manage/wp-content/uploads/2026/03/20260310165943-0001.jpg
END:VEVENT
BEGIN:VEVENT
DTSTART;TZID=Asia/Tokyo:20260320T100000
DTEND;TZID=Asia/Tokyo:20260607T050000
DTSTAMP:20260424T201321
CREATED:20260416T085912Z
LAST-MODIFIED:20260417T005300Z
UID:18857-1774000800-1780808400@tsukanko.jp
SUMMARY:伊勢商人の商い（ビジネス）と文化（カルチャー）
DESCRIPTION:川喜田家創業４００年記念企画展\n伊勢商人の商い（ビジネス）と文化（カルチャー）\n開催期間：3月20日(金)～6月7日(日)観覧時間：10:00～17:00 \n内容： \n江戸時代を通じて繁栄した伊勢商人。中でも当館と縁の深い津の川喜田家は寛永3年（1626）に江戸の大伝馬町（おおでんまちょう）に店（たな）を構え、木綿太物（もめんふともの）を商ってきました。その創業400年を記念する本展では、伊勢商人ならではのビジネスの手法に加え、江戸と津を結んだカルチャーも紹介します。 \n場所：〒514-0821　三重県津市垂水3032番地18休館日：月曜日（祝日の場合は翌日）入館料： \n一般500円、学生（高校生以上）300円、中学生以下 \nお問い合わせ：059-227-5677（公益財団法人石水博物館） \n公式サイト：石水博物館（せきすいはくぶつかん）公式サイト
URL:https://tsukanko.jp/event/tribe_events-18857/
LOCATION:石水博物館\, 三重県津市垂水3032番地18\, 514-0821
CATEGORIES:体験型イベント
ATTACH;FMTTYPE=image/jpeg:https://tsukanko.jp/manage/wp-content/uploads/2026/04/20260416170103-0005.jpg
END:VEVENT
BEGIN:VEVENT
DTSTART;VALUE=DATE:20260327
DTEND;VALUE=DATE:20260413
DTSTAMP:20260424T201321
CREATED:20240325T092445Z
LAST-MODIFIED:20260219T084834Z
UID:5835-1774569600-1776038399@tsukanko.jp
SUMMARY:津偕楽公園春まつり（令和８年）
DESCRIPTION:津偕楽公園春まつり（令和８年）　最新情報！\n春まつり期間中は、公園内にぼんぼりや提灯を設置し、ライトアップにより夜桜が楽しめます。 \nまた、茶店や屋台なども立ち並んで、咲き誇る桜とともに、とても賑やかな雰囲気になりますので、 \nぜひお友達やご家族など、お誘いあわせの上、お越しください。 \n茶店は？\n春まつり期間中は、茶店や露店などが出店されます。茶店では座敷やテーブルの利用も可能です。土日の夜は事前に予約をしていただいた方がよいかと思います。それぞれのお店の特徴やおすすめグルメをぜひ堪能してください！団子や焼きそばなど定番メニューから「たがね餅」などご当地ならではのグルメの販売している茶店もございます。ぜひご利用ください。 \n※天候など咲き具合によりお休みの場合あり \n→　津偕楽公園茶店一覧【2026年】 \n \n一休茶屋\n唐揚げがおすすめ！ベビーカステラも絶品です。※予約は受け付けておりません（問）090-3380-7099 \n															\n																														 \n伊勢路\n味自慢のお店！すべてが大好評ですが、おすすめグルメは「どて煮」「イカ焼き（刺身にもできる船凍スルメイカを使用）」「ラーメン」です。ラーメンは豚骨鶏ガラ出汁から作る本格的な一品です！50人の団体も受け入れ可能！予約可能です。（問）080-4234-8198 \n															\n															\n																														 \n月の家（つきのや）\nおすすめグルメは「ジャンボ団子300円」「焼きそばスペシャル800円 」「だがね４本500円」などです。最大70名まで予約可能です。目の前の池の桜も圧巻です！（問）090-9124-0873 \n															\n															\n																														 \n駐車場は？\n春まつり期間中は、大変混雑が予想されます。お車でお越しの場合がご注意下さい。例年、偕楽公園の周辺の渋滞されますので、できる限り公共交通機関でのお越しをお願いしております。会期中は、公園隣接の第１駐車場は、おもいやり駐車場になりますので、ご注意ください。第２駐車場もすぐに満車になり、渋滞の原因となりますので、津駅周辺の有料駐車場のご利用をお勧めします。\n津駅周辺有料駐車場案内はこちら※土日は、三重県庁外来駐車場が利用できます。（3月２８日(土)２９日(日)４月４日(土)５日(日)４月１１日(土)１２日(日)のみ利用可能です） 　※予定となります。平日は県庁外来駐車場が利用できません \n見頃はいつ？\n津気象台によると２０２５年（昨年）は4月2日(水)に満開情報が更新されました。 \n1週間くらいは見ごろが続きそうです。ほぼ毎日桜の開花情報を津市観光協会公式Instagramで発信していきます。リアルタイムの桜たちの様子を、お楽しみください。 \n津市観光協会公式Instagramはこちら！ \n津駅周辺有料駐車場案内はこちら \nライトアップ期間は？\n令和８年３月２７日(金)～４月１２日(日)18:00～22:00 \nその他、昼間のお散歩や夜桜の様子など、昨年の様子を紹介いたします
URL:https://tsukanko.jp/event/tribe_events-5835/
LOCATION:非公開: 津偕楽公園\, 津市広明町147-1\, 514-0006
CATEGORIES:グルメイベント,体験型イベント,観光イベント
ATTACH;FMTTYPE=image/jpeg:https://tsukanko.jp/manage/wp-content/uploads/2024/03/2C21F9CE-F9B5-426C-B61A-93F2FE78563D.jpeg
END:VEVENT
BEGIN:VEVENT
DTSTART;TZID=Asia/Tokyo:20260404T090000
DTEND;TZID=Asia/Tokyo:20260404T150000
DTSTAMP:20260424T201321
CREATED:20260311T081352Z
LAST-MODIFIED:20260311T090207Z
UID:18293-1775293200-1775314800@tsukanko.jp
SUMMARY:みんなでお花見
DESCRIPTION:みんなでお花見！\nお城公園こども遊び場づくり事業\n日時： \n2026年4月4日（土曜日）9:00～15:00 \n※9:25～　お城公園中央広場 藤堂高虎公像前 \n開催場所： \nお城公園（南東広場 他）〒514-0033三重県津市丸之内27 \n対象 \nどなたでも、こども、妊娠・子育て中、高齢者、その他 \n内容 \n■養正小学校5年生による広場の名前の発表！ \n■お城公園南東広場の基本設計の展示 \n■しゃぼん玉であそぼう！ \n■津市のPRキャラクターのシロモチくんも来ます！ \n■ご参加の方に防災備蓄食料をプレゼント！（先着200名） \n※小雨決行、荒天中止 \n他にも同時開催のイベントがたくさん！ \n城の日記念イベント \n津城をもっと城（知ろ）にぃ！パート5 \n安濃津ガイド会主催、津城や藤堂高虎公について楽しむ学べる謎解きウォークラリー \n参加者にはオリジナル商品進呈！（先着50名） \n参加費300円、こども(高校生以下)は無料 \n※参加には事前申込みが必要です。詳細はページ下部のチラシをご覧ください。 \n \nのびすくトレジャーハンター in お城公園 \n特定非営利活動法人世界SHIENこども学校のびすく・お城レンジャー民間ボランティア団体主催 \nお城公園で宝探しイベント！金属探知機を使って挑戦券を探し出せ！ \n申込不要、参加費1回500円 \n※詳細はページ下部のチラシをご覧ください。 \n \n集まれ大門！うまいもん！ \nお城前公園に大門のお店のブースやキッチンカーが並びます。 \nランチやおやつを食べながら、石垣と桜の景色を楽しみましょう。 \n【出店者】 \nはてな商店（ハンバーグキッチンカー） \nカジュアル町中華 わに飯店（創作中華） \n海鮮和食処 魚九（海老天巻 他） \nSUN LUNCH（わくわくトルティーヤ） \nとらや本家（大福・焼菓子・生菓子 他） \nいなもり商店（雑貨・食器・古道具 他） \n大門タウン（木製ゲーム 他） \n申込み不要 \n主催：津市 \n問い合わせ \n津市健康福祉部こども政策課（059-229-3390）
URL:https://tsukanko.jp/event/tribe_events-18293/
LOCATION:お城公園\, 三重県津市丸之内27\, 514-0033
CATEGORIES:グルメイベント,体験型イベント,観光イベント
ATTACH;FMTTYPE=image/jpeg:https://tsukanko.jp/manage/wp-content/uploads/2026/03/c771e8f92efd7cf6668e3b489f481cad.jpg
END:VEVENT
BEGIN:VEVENT
DTSTART;TZID=Asia/Tokyo:20260404T093000
DTEND;TZID=Asia/Tokyo:20260404T120000
DTSTAMP:20260424T201321
CREATED:20260224T081958Z
LAST-MODIFIED:20260224T082912Z
UID:18069-1775295000-1775304000@tsukanko.jp
SUMMARY:津城をもっと城（知ろ）にぃ【パート５】
DESCRIPTION:「城の日」記念イベント　津城をもっと城（知ろ）にぃ！パート５\n日時： \n令和８年４月４日(土)\n９：３０～１２：００（９：００受付開始）\n場所：\nお城公園（藤堂高虎像前） \n内容： \n毎年恒例の「城の日」記念イベントです。 \n築城の名手、藤堂高虎のことを楽しく学ぶ！ \n今年は大河ドラマ「豊臣兄弟！」で高虎公が大いに取りあげられ、注目を集める年となります。 \n◆築城の名手「藤堂高虎公」と続日本100名城の津城の謎解きウォークラリ―！\n◆城下町テラス・津城天守台・津城模擬櫓内などの見学 \n◆同時開催でのびすくトレジャーハンターinお城公園（宝石さがし）も実施\n申し込み先・料金： \n参加申込は専用申込用紙に記入の上、FAX（059-221-0811）もしくはメール（tsu.guide.net@gmail.com）まで申し込みください。\n4月4日津城をもっと城にぃ申込書 \n申込期間：\n3月1日(日)～27日(金) \n参加料： \n300円（保険代含む） \n高校生以下は無料
URL:https://tsukanko.jp/event/tribe_events-18069/
LOCATION:お城公園\, 三重県津市丸之内27\, 514-0033
CATEGORIES:体験型イベント
ATTACH;FMTTYPE=image/jpeg:https://tsukanko.jp/manage/wp-content/uploads/2026/02/20260224171135-0001.jpg
END:VEVENT
BEGIN:VEVENT
DTSTART;TZID=Asia/Tokyo:20260404T100000
DTEND;TZID=Asia/Tokyo:20260404T140000
DTSTAMP:20260424T201321
CREATED:20260224T083115Z
LAST-MODIFIED:20260401T060120Z
UID:18076-1775296800-1775311200@tsukanko.jp
SUMMARY:第29回榊原温泉さくら祭り
DESCRIPTION:第29回榊原温泉さくら祭り\n日時：令和8年4月4日(土)10:00～14:00　小雨決行 \n場所：湯の瀬イベント広場 \n内容：10:00　開会式10:20　榊原湯の瀬太鼓・藤笛会 \n11:00　津民芸保存会（八幡獅子舞・入江和歌囃子） \n11:30　１４１ゴスペルクワイア12:00　エイサー伊賀琉真太鼓12:30　棟上げ式（三重建設労働組合） \n13:30　もちまき（榊原地区自治会連合会） \n駐車場会場出店者 \nキッチンカー：甲賀米粉たい焼き松阪店・おにぎりと○○・Bull Kitchen（ブルキッチン） \nヴォーグカレーワークス・湯の瀬市場・榊原財産区・がらくた市・株式会社OMIMO・三重県警察津南署（パトカー白バイ展示） \nイベント広場出店者： \n榊原温泉振興協会・榊原地区社会福祉協議会・榊原温泉湯の瀬・榊原未来会議・久居農林高等学校・長谷川農園・ゆとり・咲楽SAKURA・三重木工クラブ・三重県建設労働組合中央支部・みえなか農協久居西支店・独立行政法人国立病院機構榊原病院「健康チェックコーナー」 \n美杉地域まちづくり推進連絡協議会：やきやき亭浜・藤田こんにゃく・伊勢地製茶・魚儀・峯田麹店・多気の郷元気づくり協議会・一身田商工振興会 \n駐車場：臨時駐車場多数あり \n①榊原小学校　②駐在所前　③市場公園　④圓浄寺 \n市場公園ではライトアップも実施いたします。 \n榊原温泉振興協会の公式サイトはこちら \nお問合せ先：059-252-0220（榊原温泉さくら祭り実行委員会） \n※市場公園の桜のライトアップは毎日18時半～21時まで。見頃が過ぎると終了予定です。
URL:https://tsukanko.jp/event/tribe_events-18076/
LOCATION:湯の瀬\, 津市榊原町6103\, 514-1251
CATEGORIES:グルメイベント,体験型イベント,観光イベント
ATTACH;FMTTYPE=image/jpeg:https://tsukanko.jp/manage/wp-content/uploads/2026/02/20260224171114-0001.jpg
END:VEVENT
BEGIN:VEVENT
DTSTART;TZID=Asia/Tokyo:20260405T093000
DTEND;TZID=Asia/Tokyo:20260405T143000
DTSTAMP:20260424T201321
CREATED:20260218T011737Z
LAST-MODIFIED:20260219T024613Z
UID:18018-1775381400-1775399400@tsukanko.jp
SUMMARY:第35回君ヶ野ダム公園さくらまつり
DESCRIPTION:第35回君ヶ野ダム公園桜まつり\n日時：令和8年4月5日(日)9:30～14:40場所：津市美杉町八手俣（君ヶ野ダム公園） \n毎年4月の桜満開の時期に開催される君ヶ野ダム公園さくらまつり。 \n地域の物産展やステージイベントなどで大いに盛り上がります！ \nダム公園特設ステージ\n９：３０　　　　　開会宣言 \n９：３０～　９：４０　オープニング：美杉連山のろし太鼓 \n９：４０～１０：１０　実行委員長あいさつ・来賓祝辞 \n１０：１０～１０：４０よさこいソーラン・鳳牙 \n１０：４０～１１：２０ \n歌謡ショー：結城さおり \n１１：２０～１２：００ \nミュージシャン：Choji \n１２：００～１２：３０ \n美杉連山のろし太鼓 \n１２：３０～１３：１０ \n歌謡ショー：あや乃藤子 \n１３：１０～１３：４０ \nよさこいソーラン・わいわい踊ろう会 \n１３：４０～１４：３０ \nカラオケ大会 \n１４：３０ \n閉会宣言 \nダム公園広場\n◆君ヶ野なべ \n◆地元特産品販売など　ちどりの里・商工会 \n◆竹原地域活性化協議会コーナー \n◆君ヶ野ダム管理室コーナー \n◆三重県企業庁中勢水道事務所コーナー \n◆三重県企業庁水質管理情報センターコーナー \n◆スーパーボールすくい \n\n\n\nJR名松線\n伊勢竹原駅着\n\n\n伊勢奥津→松阪\n10：02\n11：57\n13：33\n15：35\n\n\n松阪→伊勢奥津\n10：34\n12：29\n14：06\n \n\n\n\n臨時駐車場（竹原体育館横）と伊勢竹原駅前と会場間は無料バス運行 \nお越しの際はぜひ、名松線をご利用ください
URL:https://tsukanko.jp/event/tribe_events-18018/
LOCATION:君ヶ野ダム公園\, 津市美杉町八手俣\, 514-3202
CATEGORIES:体験型イベント,観光イベント
ATTACH;FMTTYPE=image/jpeg:https://tsukanko.jp/manage/wp-content/uploads/2026/02/e2d5bc20150ce85c85bbeeb15ae95d45.jpg
END:VEVENT
BEGIN:VEVENT
DTSTART;TZID=Asia/Tokyo:20260412T090000
DTEND;TZID=Asia/Tokyo:20260412T120000
DTSTAMP:20260424T201321
CREATED:20260126T014835Z
LAST-MODIFIED:20260126T021142Z
UID:17638-1775984400-1775995200@tsukanko.jp
SUMMARY:２０２６龍王桜マラソン＆ウォーキング大会
DESCRIPTION:２０２６龍王桜マラソン＆ウォーキング大会\n日時：　令和８年４月１２日(日)雨天決行●受付8:00～8:50　●開会式9:00～9:20●スタート9:30（予定）　●表彰式各種目終了後●閉会式11:50（予定） \n会場：津市錫杖湖水荘広場（〒514-2207津市芸濃町河内679）問い合わせ：059-266-2510（龍王桜マラソン＆ウォーキング大会実行委員会） \n龍王桜マラソン＆ウォーキング大会は、三重県指定天然記念物「龍王桜」が咲く時期に開催されるマラソンとウォーキングの大会です。桜並木や安濃川の清流、緑の木々などの美しい自然景観を楽しみながら、錫杖湖周辺を巡ります。桜の開花状況により景色は変わりますが、湖畔を走る爽快感が人気です。 \n今大会は、通算33回目の大会です。雄大な自然の中をゆく龍王桜マラソン＆ウォーキング大会にぜひご参加ください。 \n参加エントリーはこちらをクリック！
URL:https://tsukanko.jp/event/tribe_events-17638/
CATEGORIES:体験型イベント
ATTACH;FMTTYPE=image/jpeg:https://tsukanko.jp/manage/wp-content/uploads/2026/01/screenshot.1121.jpg
END:VEVENT
BEGIN:VEVENT
DTSTART;TZID=Asia/Tokyo:20260417T080000
DTEND;TZID=Asia/Tokyo:20260510T180000
DTSTAMP:20260424T201321
CREATED:20250411T092804Z
LAST-MODIFIED:20260418T055859Z
UID:14038-1776412800-1778436000@tsukanko.jp
SUMMARY:かざはやの里2026藤まつり
DESCRIPTION:かざはやの里2026藤まつり\n【開催期間】令和８年４月17日(金)～5月10日(日) \n【入園時間】8：00～17:00（最終入園） \n【入園料】見頃により変動・大人：300円～1\,500円・中高生：150円～750円・障がい手帳保持者、小人、ペット：無料 \n【内容】津市戸木町にある「かざはやの里」の藤まつりのご紹介です。 \n園内には10種900本の藤を13パターンに設計した独自景観に加え、2026年には7\,000㎡のネモフィラエリアが新たに誕生しました！写真映え・体験価値ともに高く、多くのお客様でにぎわいます。また、園内の花乃丘神社では御朱印や願掛け体験が可能で、観光と文化体験を同時に提供いたします。飲食、足湯、キッズエリア、ペット同伴対応など滞在時間を伸ばすコンテンツも充実しています。ピークは4月25日～30日と短期間のため、お早めにお越しください。 \n【お問い合わせ先】050-1721-0847 \n【公式サイト】 \n福祉と環境を融合した花園「かざはやの里」 \n①九画三段円の棚の♡（はーと）に抜ける空：世界でただ一つのデザインとして、ハート型に空が見える棚が登場。 \n \n②末広がりの扇の棚：オリジナルデザインによる、縁起の良い扇型の藤棚。 \n  \n③階段の藤棚の藤カーテン：階段を彩る、美しい藤のカーテン。 \n \n④藤のTOWER： 空に向かって伸びる、ダイナミックな藤のタワー。 \n \n⑤藤のトンネル：幻想的な藤の花のトンネルをくぐり抜ける体験。 \n \n⑥学校の四角の藤棚：親しみやすい四角い藤棚。 \n  \n⑦藤暖簾：風情ある際の暖簾が皆様をお出迎え。 \n \n⑧一本立ちの際：凛とした姿が美しい、一本立ちの藤。 \n【無料シャトルバス情報】 \nかざはやの里から最寄りのバス停まで無料シャトルバスが運行されています。（徒歩15分の距離） \n公共交通機関でお越しの方は是非ご利用ください。 \nかざはやの里無料送迎バスの情報はこちら※送迎期間4月17日～5月6日 \n 
URL:https://tsukanko.jp/event/tribe_events-14038/
LOCATION:かざはやの里\, 514-1138\, 三重県津市戸木町４０９６ 伊勢温泉ゴルフクラブ内
CATEGORIES:体験型イベント,観光イベント
ATTACH;FMTTYPE=image/jpeg:https://tsukanko.jp/manage/wp-content/uploads/2025/04/75a6661072a96df53e124e39fb1fca38-e1775712859629.jpg
END:VEVENT
BEGIN:VEVENT
DTSTART;TZID=Asia/Tokyo:20260425T090000
DTEND;TZID=Asia/Tokyo:20260621T170000
DTSTAMP:20260424T201321
CREATED:20260416T081830Z
LAST-MODIFIED:20260416T085500Z
UID:18849-1777107600-1782061200@tsukanko.jp
SUMMARY:第43回企画展「まつりを旅する」受け継いできた三重の宝もの
DESCRIPTION:三重県総合博物館第43回企画展\nまつりを旅する　受け継いできた三重の宝もの\n開催期間：前期4月25日(土)～5月24日(日) \n後期5月26日(火)～6月21日(日) \n休館日：月曜日（ただし、月曜日が祝日の場合は翌平日） \n観覧時間：9:00～17:00（最終入場は16：30） \n展覧会内容： \n多様な地域性をもつ三重には、多くのまつりが伝承されています。コロナ禍を経て、地域と人々をつなぐまつりの復活を私たちは心待ちにしていました。折しも2026年は、県内3団体が構成団体となっているユネスコ無形文化遺産「山・鉾・屋台行事」の登録10周年にあたります。世界的にも評価されるこれらの行事に加えて、県内各地で広く伝承されてきたかんこ踊りや獅子舞など、三重のまつりの様々な魅力を一堂に集めて紹介します。 \n料金： \nまつり展大人：800円 \n学生：480円 \n高校生以下：無料 \n  \n場所：〒514-0061三重県津市一身田上津部田3060 \nお問い合わせ： \n059-228-2283（三重県総合博物館MieMu） \n詳細は、三重県総合博物館MieMuの公式サイトをご確認ください。
URL:https://tsukanko.jp/event/tribe_events-18849/
LOCATION:三重県総合博物館MieMu\, 三重県津市一身田上津部田3060\, 514-0061
CATEGORIES:体験型イベント
ATTACH;FMTTYPE=image/jpeg:https://tsukanko.jp/manage/wp-content/uploads/2026/04/20260416170103-0003.jpg
END:VEVENT
BEGIN:VEVENT
DTSTART;TZID=Asia/Tokyo:20260501T100000
DTEND;TZID=Asia/Tokyo:20260506T170000
DTSTAMP:20260424T201321
CREATED:20260416T080402Z
LAST-MODIFIED:20260416T081424Z
UID:18838-1777629600-1778086800@tsukanko.jp
SUMMARY:ふれあい動物大集合＆カブトムシ展in松菱
DESCRIPTION:ふれあい動物大集合＆カブトムシ展in松菱\n前売入場券を松菱1階インフォメーションで販売中！\n\n開催日時： \n5月1日(金)～6日(水・振休)10:00～17:00※休憩中の動物には会えない場合がございます。 \n内容： \n今年のGWは家族みんなで楽しめる松菱の体験イベントへ！「ふれあい動物大集合＆カブトムシ展」が開催されます。 \n会場では、・かわいい動物たちと写真が撮れるふれあいフォトタイム・やさしく触れ合えるタッチングコーナー・人気のエサやり体験・世界のカブトムシを間近で観察できる展示 \nなど、子どもから大人まで楽しめる内容が盛りだくさん！ \n普段なかなか出会えない動物たちとの特別な時間を過ごしてみませんか？ゴールデンウイークのお出かけ先にぜひお立ち寄りください。 \n入場料： \nお1人様800円（税込） \n2歳以下無料 \n場所： \n〒514-8580津市東丸之内4－10松菱6階催事場 \nお問い合わせ：059-228-1311（松菱） \n \n 
URL:https://tsukanko.jp/event/tribe_events-18838/
LOCATION:松菱\, 三重県津市東丸之内４−１０\, 514-0028
CATEGORIES:体験型イベント
ATTACH;FMTTYPE=image/jpeg:https://tsukanko.jp/manage/wp-content/uploads/2026/04/20260416170103-0001.jpg
END:VEVENT
BEGIN:VEVENT
DTSTART;TZID=Asia/Tokyo:20260516T100000
DTEND;TZID=Asia/Tokyo:20260516T153000
DTSTAMP:20260424T201321
CREATED:20260413T080715Z
LAST-MODIFIED:20260421T084035Z
UID:18793-1778925600-1778945400@tsukanko.jp
SUMMARY:津市合併20周年〔第37回物産まつり〕〔第63回高虎楽座〕
DESCRIPTION:第37回津市物産まつり\n昨年同様に高虎楽座と2つのイベントが同時開催です！\n丸之内商店街では津市物産まつりが、フェニックス通りでは高虎楽座が開催され、多くの方の来場が見込まれます。 \n津の物産品の販売のほか、ステージアトラクションや体験コーナー、PRコーナー、お買い回り抽選会など楽しい催しが盛り沢山です。 \n津のええもん、うまいもんがいっぱいの津市物産まつりに是非お越しください。 \n日時：令和8年5月16日(土)10:00～15:30 \n場所：津市丸之内商店街・フェニックス通り\n内容：津ぎょうざやうなぎ、津市を代表するグルメを始め、物産品などが多く販売されます。 \nまた、木工教室やたこ作り教室などの体験コーナーもあり、お買い物回り抽選もあるので、ぜひご参加ください。 \n\n\n\n \n※写真は以前の様子です。内容が変更の場合もございます。 \n第63回高虎楽座\n日時：令和８年５月１６日(土)10:00～15:00 \n場所：フェニックス通り \n内容：大好評パンまつりは10時から！高虎太鼓の演奏や美杉・一志のおこしなして市場も開催。こちらも物産まつり同様に津市のグルメや物産品が多く取り揃えております。 \n\n\n\n \n※写真は以前の様子です。内容が変更の場合もございます。 \nお問い合わせ先： \n059-229-3169（両イベント共に津市商業振興労政課）
URL:https://tsukanko.jp/event/tribe_events-18793/
CATEGORIES:グルメイベント,体験型イベント,観光イベント,音楽ライブ
ATTACH;FMTTYPE=image/jpeg:https://tsukanko.jp/manage/wp-content/uploads/2026/04/3a544045e7384ffcd479f922c39b05b1.jpg
END:VEVENT
BEGIN:VEVENT
DTSTART;TZID=Asia/Tokyo:20260516T100000
DTEND;TZID=Asia/Tokyo:20260516T173000
DTSTAMP:20260424T201321
CREATED:20260421T082214Z
LAST-MODIFIED:20260421T083129Z
UID:18920-1778925600-1778952600@tsukanko.jp
SUMMARY:みんなでチャレンジ大作戦　田んぼラグビー開催！
DESCRIPTION:2026年度❝5月度例会❞青少年育成事業\nみんなでチャレンジ大作戦　田んぼラグビー開催！\n津青年会議所の青少年育成事業として開催します！田んぼを舞台に泥だらけになりながら仲間と協力して挑戦する「田んぼラグビー」や田植え体験を実施します。普段の生活では味わえない環境の中で、仲間と声を掛け合い、助け合いながら一つのことに挑戦することで、協働する力や挑戦する心を育むことを目的としております。また、自然に触れ、食の大切さや地域とのつながりを感じることで、子どもたちにとって貴重な学びの機会となります。参加費は無料となっており、ぜひ多くの皆さまのご参加をお待ちしております。【開催日時】5月16日（土）10:00〜17:30【開催場所】〒514-0057三重県津市安東町734（JA津安芸 カントリーエレベーター横の田んぼ）【対象】津市在住の小学1年生〜6年生【定員】80名【内容】田んぼラグビー、田植え体験【持ち物】汚れても良い服、着替え、タオル、飲み物【申込】下記の参加フォームからご応募ください。5月16日開催田んぼラグビ―申込フォーム \n【お問い合わせ】059-227-3806（津青年会議所　平日10:00～15：00） \n皆さまのご参加を心よりお待ちしております。
URL:https://tsukanko.jp/event/tribe_events-18920/
CATEGORIES:体験型イベント
ATTACH;FMTTYPE=image/jpeg:https://tsukanko.jp/manage/wp-content/uploads/2026/04/20260421115206-0001.jpg
END:VEVENT
END:VCALENDAR