BEGIN:VCALENDAR
VERSION:2.0
PRODID:-//津の時間。（津市観光協会） - ECPv6.15.17.1//NONSGML v1.0//EN
CALSCALE:GREGORIAN
METHOD:PUBLISH
X-WR-CALNAME:津の時間。（津市観光協会）
X-ORIGINAL-URL:https://tsukanko.jp
X-WR-CALDESC:津の時間。（津市観光協会） のイベント
REFRESH-INTERVAL;VALUE=DURATION:PT1H
X-Robots-Tag:noindex
X-PUBLISHED-TTL:PT1H
BEGIN:VTIMEZONE
TZID:Asia/Tokyo
BEGIN:STANDARD
TZOFFSETFROM:+0900
TZOFFSETTO:+0900
TZNAME:JST
DTSTART:20220101T000000
END:STANDARD
END:VTIMEZONE
BEGIN:VEVENT
DTSTART;TZID=Asia/Tokyo:20240814T093000
DTEND;TZID=Asia/Tokyo:20240901T163000
DTSTAMP:20260425T010334
CREATED:20240725T043753Z
LAST-MODIFIED:20240804T082626Z
UID:8922-1723627800-1725208200@tsukanko.jp
SUMMARY:キッズ大喜び！仕事体験パーク kanduカンドゥーinボートレース津
DESCRIPTION:久居イルミネーション２０２５				\n				\n					\n				\n		\n					\n				\n				\n									「久居イルミネーション」（緑の風公園イルミネーション） 久居駅東口すぐにある緑の風公園にも寒い季節を華やかに飾るイルミネーションが登場します。 こちらの見どころは、市内で一番高い天然木を彩るイルミネーション、巨大クリスマスツリー（約15m）です。 駅に隣接する好立地の公園には、ほかにも灯りのオブジェ、光のトンネルや回廊など映え写真スポットがいっぱいです・・♪ ぜひ、みんなで行ってみよう！！ 令和7年12月20日(土)～令和8年1月１２日(月・祝)日没～22時頃まで点灯しています。なお、点灯式は、12月20日（土）16時から行われる予定で、当日はステージイベント、マルシェなども開催される予定です。 点灯式ではマルシェの他に音楽ライブやフラやチアダンスのステージもあります！暖かい恰好をして、ぜひ遊びに来て下さいね♪ ※イルミネーションの画像はイメージです。今年のイルミネーションは現地での点灯式をお楽しみに♪出店詳細は、ブログで確認下さい。https://greenmarche.jugem.jp/?eid=206久居駅東口を出てすぐの場所です。専用の駐車場がございませんので、近隣のコインパーキングか公共交通機関でお越しください。 主催の久居げんき会の皆さん、いつもありがとうございます！ 久居元気会では、ボランティアスタッフを募集中とのことです。 興味のある方は、久居総合支所地域振興課（電話059-255-8812）までご連絡ください。 								\n				\n					\n				\n		\n					\n		\n				\n				\n																\n															\n															\n				\n				\n		\n				\n				\n									 
URL:https://tsukanko.jp/event/tribe_events-8922/
LOCATION:ボートレース津\, 津市藤方637\, 514-0815
CATEGORIES:体験型イベント
ATTACH;FMTTYPE=image/jpeg:https://tsukanko.jp/manage/wp-content/uploads/2024/07/カンドゥー.jpg
END:VEVENT
BEGIN:VEVENT
DTSTART;TZID=Asia/Tokyo:20240715T180000
DTEND;TZID=Asia/Tokyo:20240715T213000
DTSTAMP:20260425T010334
CREATED:20240527T085628Z
LAST-MODIFIED:20240703T055429Z
UID:7078-1721066400-1721079000@tsukanko.jp
SUMMARY:ざるやぶり神事
DESCRIPTION:久居イルミネーション２０２５				\n				\n					\n				\n		\n					\n				\n				\n									「久居イルミネーション」（緑の風公園イルミネーション） 久居駅東口すぐにある緑の風公園にも寒い季節を華やかに飾るイルミネーションが登場します。 こちらの見どころは、市内で一番高い天然木を彩るイルミネーション、巨大クリスマスツリー（約15m）です。 駅に隣接する好立地の公園には、ほかにも灯りのオブジェ、光のトンネルや回廊など映え写真スポットがいっぱいです・・♪ ぜひ、みんなで行ってみよう！！ 令和7年12月20日(土)～令和8年1月１２日(月・祝)日没～22時頃まで点灯しています。なお、点灯式は、12月20日（土）16時から行われる予定で、当日はステージイベント、マルシェなども開催される予定です。 点灯式ではマルシェの他に音楽ライブやフラやチアダンスのステージもあります！暖かい恰好をして、ぜひ遊びに来て下さいね♪ ※イルミネーションの画像はイメージです。今年のイルミネーションは現地での点灯式をお楽しみに♪出店詳細は、ブログで確認下さい。https://greenmarche.jugem.jp/?eid=206久居駅東口を出てすぐの場所です。専用の駐車場がございませんので、近隣のコインパーキングか公共交通機関でお越しください。 主催の久居げんき会の皆さん、いつもありがとうございます！ 久居元気会では、ボランティアスタッフを募集中とのことです。 興味のある方は、久居総合支所地域振興課（電話059-255-8812）までご連絡ください。 								\n				\n					\n				\n		\n					\n		\n				\n				\n																\n															\n															\n				\n				\n		\n				\n				\n									 
URL:https://tsukanko.jp/event/tribe_events-7078/
CATEGORIES:体験型イベント
ATTACH;FMTTYPE=image/jpeg:https://tsukanko.jp/manage/wp-content/uploads/2024/05/CIMG1711.jpg
END:VEVENT
BEGIN:VEVENT
DTSTART;TZID=Asia/Tokyo:20240706T100000
DTEND;TZID=Asia/Tokyo:20240706T180000
DTSTAMP:20260425T010334
CREATED:20240527T084630Z
LAST-MODIFIED:20240619T083015Z
UID:7072-1720260000-1720288800@tsukanko.jp
SUMMARY:一身田七夕まつり
DESCRIPTION:久居イルミネーション２０２５				\n				\n					\n				\n		\n					\n				\n				\n									「久居イルミネーション」（緑の風公園イルミネーション） 久居駅東口すぐにある緑の風公園にも寒い季節を華やかに飾るイルミネーションが登場します。 こちらの見どころは、市内で一番高い天然木を彩るイルミネーション、巨大クリスマスツリー（約15m）です。 駅に隣接する好立地の公園には、ほかにも灯りのオブジェ、光のトンネルや回廊など映え写真スポットがいっぱいです・・♪ ぜひ、みんなで行ってみよう！！ 令和7年12月20日(土)～令和8年1月１２日(月・祝)日没～22時頃まで点灯しています。なお、点灯式は、12月20日（土）16時から行われる予定で、当日はステージイベント、マルシェなども開催される予定です。 点灯式ではマルシェの他に音楽ライブやフラやチアダンスのステージもあります！暖かい恰好をして、ぜひ遊びに来て下さいね♪ ※イルミネーションの画像はイメージです。今年のイルミネーションは現地での点灯式をお楽しみに♪出店詳細は、ブログで確認下さい。https://greenmarche.jugem.jp/?eid=206久居駅東口を出てすぐの場所です。専用の駐車場がございませんので、近隣のコインパーキングか公共交通機関でお越しください。 主催の久居げんき会の皆さん、いつもありがとうございます！ 久居元気会では、ボランティアスタッフを募集中とのことです。 興味のある方は、久居総合支所地域振興課（電話059-255-8812）までご連絡ください。 								\n				\n					\n				\n		\n					\n		\n				\n				\n																\n															\n															\n				\n				\n		\n				\n				\n									 
URL:https://tsukanko.jp/event/tribe_events-7072/
LOCATION:一身田寺内町周辺
CATEGORIES:体験型イベント
ATTACH;FMTTYPE=image/jpeg:https://tsukanko.jp/manage/wp-content/uploads/2024/05/一身田七夕まつり-1.jpg
END:VEVENT
BEGIN:VEVENT
DTSTART;TZID=Asia/Tokyo:20240629T100000
DTEND;TZID=Asia/Tokyo:20240630T160000
DTSTAMP:20260425T010334
CREATED:20240621T042120Z
LAST-MODIFIED:20240621T042304Z
UID:7602-1719655200-1719763200@tsukanko.jp
SUMMARY:DOG Marché屋内型ドッグマルシェ
DESCRIPTION:久居イルミネーション２０２５				\n				\n					\n				\n		\n					\n				\n				\n									「久居イルミネーション」（緑の風公園イルミネーション） 久居駅東口すぐにある緑の風公園にも寒い季節を華やかに飾るイルミネーションが登場します。 こちらの見どころは、市内で一番高い天然木を彩るイルミネーション、巨大クリスマスツリー（約15m）です。 駅に隣接する好立地の公園には、ほかにも灯りのオブジェ、光のトンネルや回廊など映え写真スポットがいっぱいです・・♪ ぜひ、みんなで行ってみよう！！ 令和7年12月20日(土)～令和8年1月１２日(月・祝)日没～22時頃まで点灯しています。なお、点灯式は、12月20日（土）16時から行われる予定で、当日はステージイベント、マルシェなども開催される予定です。 点灯式ではマルシェの他に音楽ライブやフラやチアダンスのステージもあります！暖かい恰好をして、ぜひ遊びに来て下さいね♪ ※イルミネーションの画像はイメージです。今年のイルミネーションは現地での点灯式をお楽しみに♪出店詳細は、ブログで確認下さい。https://greenmarche.jugem.jp/?eid=206久居駅東口を出てすぐの場所です。専用の駐車場がございませんので、近隣のコインパーキングか公共交通機関でお越しください。 主催の久居げんき会の皆さん、いつもありがとうございます！ 久居元気会では、ボランティアスタッフを募集中とのことです。 興味のある方は、久居総合支所地域振興課（電話059-255-8812）までご連絡ください。 								\n				\n					\n				\n		\n					\n		\n				\n				\n																\n															\n															\n				\n				\n		\n				\n				\n									 
URL:https://tsukanko.jp/event/tribe_events-7602/
LOCATION:メッセウイング・みえ\, 三重県\, 津市北河路町19-1\, 514-0056
CATEGORIES:体験型イベント
ATTACH;FMTTYPE=image/jpeg:https://tsukanko.jp/manage/wp-content/uploads/2024/06/20240610160644-0001.jpg
END:VEVENT
BEGIN:VEVENT
DTSTART;VALUE=DATE:20240622
DTEND;VALUE=DATE:20240624
DTSTAMP:20260425T010334
CREATED:20240613T054214Z
LAST-MODIFIED:20240618T054927Z
UID:7353-1719014400-1719187199@tsukanko.jp
SUMMARY:大門キモノ祭り
DESCRIPTION:久居イルミネーション２０２５				\n				\n					\n				\n		\n					\n				\n				\n									「久居イルミネーション」（緑の風公園イルミネーション） 久居駅東口すぐにある緑の風公園にも寒い季節を華やかに飾るイルミネーションが登場します。 こちらの見どころは、市内で一番高い天然木を彩るイルミネーション、巨大クリスマスツリー（約15m）です。 駅に隣接する好立地の公園には、ほかにも灯りのオブジェ、光のトンネルや回廊など映え写真スポットがいっぱいです・・♪ ぜひ、みんなで行ってみよう！！ 令和7年12月20日(土)～令和8年1月１２日(月・祝)日没～22時頃まで点灯しています。なお、点灯式は、12月20日（土）16時から行われる予定で、当日はステージイベント、マルシェなども開催される予定です。 点灯式ではマルシェの他に音楽ライブやフラやチアダンスのステージもあります！暖かい恰好をして、ぜひ遊びに来て下さいね♪ ※イルミネーションの画像はイメージです。今年のイルミネーションは現地での点灯式をお楽しみに♪出店詳細は、ブログで確認下さい。https://greenmarche.jugem.jp/?eid=206久居駅東口を出てすぐの場所です。専用の駐車場がございませんので、近隣のコインパーキングか公共交通機関でお越しください。 主催の久居げんき会の皆さん、いつもありがとうございます！ 久居元気会では、ボランティアスタッフを募集中とのことです。 興味のある方は、久居総合支所地域振興課（電話059-255-8812）までご連絡ください。 								\n				\n					\n				\n		\n					\n		\n				\n				\n																\n															\n															\n				\n				\n		\n				\n				\n									 
URL:https://tsukanko.jp/event/tribe_events-7353/
LOCATION:大門大通り商店街\, 三重県津市大門24-12\, 514-0027
CATEGORIES:体験型イベント
ATTACH;FMTTYPE=image/jpeg:https://tsukanko.jp/manage/wp-content/uploads/2024/06/大門きものまつり-1.jpg
END:VEVENT
BEGIN:VEVENT
DTSTART;TZID=Asia/Tokyo:20240601T080000
DTEND;TZID=Asia/Tokyo:20240707T183000
DTSTAMP:20260425T010334
CREATED:20240521T024922Z
LAST-MODIFIED:20240704T083227Z
UID:7033-1717228800-1720377000@tsukanko.jp
SUMMARY:かざはやの里2024紫陽花まつり
DESCRIPTION:久居イルミネーション２０２５				\n				\n					\n				\n		\n					\n				\n				\n									「久居イルミネーション」（緑の風公園イルミネーション） 久居駅東口すぐにある緑の風公園にも寒い季節を華やかに飾るイルミネーションが登場します。 こちらの見どころは、市内で一番高い天然木を彩るイルミネーション、巨大クリスマスツリー（約15m）です。 駅に隣接する好立地の公園には、ほかにも灯りのオブジェ、光のトンネルや回廊など映え写真スポットがいっぱいです・・♪ ぜひ、みんなで行ってみよう！！ 令和7年12月20日(土)～令和8年1月１２日(月・祝)日没～22時頃まで点灯しています。なお、点灯式は、12月20日（土）16時から行われる予定で、当日はステージイベント、マルシェなども開催される予定です。 点灯式ではマルシェの他に音楽ライブやフラやチアダンスのステージもあります！暖かい恰好をして、ぜひ遊びに来て下さいね♪ ※イルミネーションの画像はイメージです。今年のイルミネーションは現地での点灯式をお楽しみに♪出店詳細は、ブログで確認下さい。https://greenmarche.jugem.jp/?eid=206久居駅東口を出てすぐの場所です。専用の駐車場がございませんので、近隣のコインパーキングか公共交通機関でお越しください。 主催の久居げんき会の皆さん、いつもありがとうございます！ 久居元気会では、ボランティアスタッフを募集中とのことです。 興味のある方は、久居総合支所地域振興課（電話059-255-8812）までご連絡ください。 								\n				\n					\n				\n		\n					\n		\n				\n				\n																\n															\n															\n				\n				\n		\n				\n				\n									 
URL:https://tsukanko.jp/event/tribe_events-7033/
LOCATION:かざはやの里\, 514-1138\, 三重県津市戸木町４０９６ 伊勢温泉ゴルフクラブ内
CATEGORIES:体験型イベント
ATTACH;FMTTYPE=image/jpeg:https://tsukanko.jp/manage/wp-content/uploads/2024/05/かざはやの里あじさい-2.jpg
END:VEVENT
BEGIN:VEVENT
DTSTART;TZID=Asia/Tokyo:20240525T100000
DTEND;TZID=Asia/Tokyo:20240525T140000
DTSTAMP:20260425T010334
CREATED:20240517T052041Z
LAST-MODIFIED:20240517T052146Z
UID:6999-1716631200-1716645600@tsukanko.jp
SUMMARY:三重ホンダヒート「三重県民招待デー」
DESCRIPTION:久居イルミネーション２０２５				\n				\n					\n				\n		\n					\n				\n				\n									「久居イルミネーション」（緑の風公園イルミネーション） 久居駅東口すぐにある緑の風公園にも寒い季節を華やかに飾るイルミネーションが登場します。 こちらの見どころは、市内で一番高い天然木を彩るイルミネーション、巨大クリスマスツリー（約15m）です。 駅に隣接する好立地の公園には、ほかにも灯りのオブジェ、光のトンネルや回廊など映え写真スポットがいっぱいです・・♪ ぜひ、みんなで行ってみよう！！ 令和7年12月20日(土)～令和8年1月１２日(月・祝)日没～22時頃まで点灯しています。なお、点灯式は、12月20日（土）16時から行われる予定で、当日はステージイベント、マルシェなども開催される予定です。 点灯式ではマルシェの他に音楽ライブやフラやチアダンスのステージもあります！暖かい恰好をして、ぜひ遊びに来て下さいね♪ ※イルミネーションの画像はイメージです。今年のイルミネーションは現地での点灯式をお楽しみに♪出店詳細は、ブログで確認下さい。https://greenmarche.jugem.jp/?eid=206久居駅東口を出てすぐの場所です。専用の駐車場がございませんので、近隣のコインパーキングか公共交通機関でお越しください。 主催の久居げんき会の皆さん、いつもありがとうございます！ 久居元気会では、ボランティアスタッフを募集中とのことです。 興味のある方は、久居総合支所地域振興課（電話059-255-8812）までご連絡ください。 								\n				\n					\n				\n		\n					\n		\n				\n				\n																\n															\n															\n				\n				\n		\n				\n				\n									 
URL:https://tsukanko.jp/event/tribe_events-6999/
CATEGORIES:グルメイベント,プレイイベント,体験型イベント
ATTACH;FMTTYPE=image/jpeg:https://tsukanko.jp/manage/wp-content/uploads/2024/05/三重ホンダヒート三重県民招待デー.jpg
END:VEVENT
BEGIN:VEVENT
DTSTART;TZID=Asia/Tokyo:20240512T100000
DTEND;TZID=Asia/Tokyo:20240512T100000
DTSTAMP:20260425T010334
CREATED:20240510T080117Z
LAST-MODIFIED:20240510T080143Z
UID:6926-1715508000-1715508000@tsukanko.jp
SUMMARY:パンまつりin三重交通グループ感謝祭
DESCRIPTION:久居イルミネーション２０２５				\n				\n					\n				\n		\n					\n				\n				\n									「久居イルミネーション」（緑の風公園イルミネーション） 久居駅東口すぐにある緑の風公園にも寒い季節を華やかに飾るイルミネーションが登場します。 こちらの見どころは、市内で一番高い天然木を彩るイルミネーション、巨大クリスマスツリー（約15m）です。 駅に隣接する好立地の公園には、ほかにも灯りのオブジェ、光のトンネルや回廊など映え写真スポットがいっぱいです・・♪ ぜひ、みんなで行ってみよう！！ 令和7年12月20日(土)～令和8年1月１２日(月・祝)日没～22時頃まで点灯しています。なお、点灯式は、12月20日（土）16時から行われる予定で、当日はステージイベント、マルシェなども開催される予定です。 点灯式ではマルシェの他に音楽ライブやフラやチアダンスのステージもあります！暖かい恰好をして、ぜひ遊びに来て下さいね♪ ※イルミネーションの画像はイメージです。今年のイルミネーションは現地での点灯式をお楽しみに♪出店詳細は、ブログで確認下さい。https://greenmarche.jugem.jp/?eid=206久居駅東口を出てすぐの場所です。専用の駐車場がございませんので、近隣のコインパーキングか公共交通機関でお越しください。 主催の久居げんき会の皆さん、いつもありがとうございます！ 久居元気会では、ボランティアスタッフを募集中とのことです。 興味のある方は、久居総合支所地域振興課（電話059-255-8812）までご連絡ください。 								\n				\n					\n				\n		\n					\n		\n				\n				\n																\n															\n															\n				\n				\n		\n				\n				\n									 
URL:https://tsukanko.jp/event/tribe_events-6926/
LOCATION:三重交通中勢営業所\, 津市あのつ台4丁目1番1\, 514-0131
CATEGORIES:グルメイベント,体験型イベント
ATTACH;FMTTYPE=image/jpeg:https://tsukanko.jp/manage/wp-content/uploads/2024/05/20240502161527-0001.jpg
END:VEVENT
BEGIN:VEVENT
DTSTART;VALUE=DATE:20231201
DTEND;VALUE=DATE:20240301
DTSTAMP:20260425T010334
CREATED:20231228T103950Z
LAST-MODIFIED:20231231T005635Z
UID:2843-1701388800-1709251199@tsukanko.jp
SUMMARY:栄町公園イルミネーション（津駅前イルミネーション）
DESCRIPTION:久居イルミネーション２０２５				\n				\n					\n				\n		\n					\n				\n				\n									「久居イルミネーション」（緑の風公園イルミネーション） 久居駅東口すぐにある緑の風公園にも寒い季節を華やかに飾るイルミネーションが登場します。 こちらの見どころは、市内で一番高い天然木を彩るイルミネーション、巨大クリスマスツリー（約15m）です。 駅に隣接する好立地の公園には、ほかにも灯りのオブジェ、光のトンネルや回廊など映え写真スポットがいっぱいです・・♪ ぜひ、みんなで行ってみよう！！ 令和7年12月20日(土)～令和8年1月１２日(月・祝)日没～22時頃まで点灯しています。なお、点灯式は、12月20日（土）16時から行われる予定で、当日はステージイベント、マルシェなども開催される予定です。 点灯式ではマルシェの他に音楽ライブやフラやチアダンスのステージもあります！暖かい恰好をして、ぜひ遊びに来て下さいね♪ ※イルミネーションの画像はイメージです。今年のイルミネーションは現地での点灯式をお楽しみに♪出店詳細は、ブログで確認下さい。https://greenmarche.jugem.jp/?eid=206久居駅東口を出てすぐの場所です。専用の駐車場がございませんので、近隣のコインパーキングか公共交通機関でお越しください。 主催の久居げんき会の皆さん、いつもありがとうございます！ 久居元気会では、ボランティアスタッフを募集中とのことです。 興味のある方は、久居総合支所地域振興課（電話059-255-8812）までご連絡ください。 								\n				\n					\n				\n		\n					\n		\n				\n				\n																\n															\n															\n				\n				\n		\n				\n				\n									 
URL:https://tsukanko.jp/event/%e6%a0%84%e7%94%ba%e5%85%ac%e5%9c%92%e3%82%a4%e3%83%ab%e3%83%9f%e3%83%8d%e3%83%bc%e3%82%b7%e3%83%a7%e3%83%b3%ef%bc%88%e6%b4%a5%e9%a7%85%e5%89%8d%e3%82%a4%e3%83%ab%e3%83%9f%e3%83%8d%e3%83%bc%e3%82%b7/
CATEGORIES:体験型イベント
ATTACH;FMTTYPE=image/jpeg:https://tsukanko.jp/manage/wp-content/uploads/2023/12/main-4999.jpg
END:VEVENT
END:VCALENDAR